{"text_format":"1","workbook":"xlsx","n_sheets":4,"sheets":["Бланк Методички","Обработка","Печать","Групповой обработчик"],"not_rendered":{"charts":0,"images":1,"macros":1,"external_links":0,"defined_names":0,"comments":0,"pivot_tables":0},"unopened":[],"bounds":{"document_bytes":16777216,"sheet_cells":100000,"rows_first":2000,"rows_last":500,"rows_between":2000,"halvings":0,"cell_chars":16384,"cell_head_chars":4096},"cells_cut":0,"cells_raw":0,"read":"whole","date_system":"1900"}

{"sheet":"Бланк Методички","index":0,"n_rows":28,"n_cols":34,"rows_kept":28,"cut":false,"hidden":false,"merged":[[26,14,26,15],[27,14,27,15],[1,0,1,2],[8,1,8,13],[3,0,6,15],[21,14,21,15],[22,14,22,15],[23,14,23,15],[24,14,24,15],[25,14,25,15],[25,1,25,13],[26,1,26,13],[27,1,27,13],[2,15,2,18],[8,14,8,15],[9,14,9,15],[10,14,10,15],[16,14,16,15],[17,14,17,15],[15,14,15,15],[20,14,20,15],[11,14,11,15],[12,14,12,15],[13,14,13,15],[14,14,14,15],[20,1,20,13],[21,1,21,13],[22,1,22,13],[23,1,23,13],[24,1,24,13],[18,1,18,13],[19,1,19,13],[17,1,17,13],[1,3,1,9],[1,11,1,12],[1,13,1,15],[9,1,9,13],[13,1,13,13],[14,1,14,13],[15,1,15,13],[16,1,16,13],[10,1,10,13],[11,1,11,13],[12,1,12,13],[18,14,18,15],[19,14,19,15]]}
[null,null,null,null,null,null,null,null,null,null,null,null,null,null,null,null,null,null,null,null,null,null,null,null,null,null,null,null,null,null,null,null,10,"5 А"]
["Фамилия, имя",null,null,null,null,null,null,null,null,null,null,"Пол",null,"Мальчик",null,null,null,null,null,null,null,null,null,null,null,null,null,null,null,null,null,null,11,"5 Б"]
[null,null,null,null,null,null,null,null,null,null,null,null,null,null,null,null,null,null,null,null,null,null,null,null,null,null,null,null,null,null,null,null,12,"5 В"]
["Внимательно прочитайте каждое из приведенных ниже предложений и выберите соответственный вариант справа в зависимости от того, как вы себя чувствуете в последнее время. Над вопросами долго не задумывайтесь, поскольку правильных или неправильных ответов нет.",null,null,null,null,null,null,null,null,null,null,null,null,null,null,null,null,null,null,null,null,null,"Мальчик",null,null,null,null,null,null,null,null,null,13]
[null,null,null,null,null,null,null,null,null,null,null,null,null,null,null,null,null,null,null,null,null,null,"Девочка",null,null,null,null,null,null,null,null,null,14]
[null,null,null,null,null,null,null,null,null,null,null,null,null,null,null,null,null,null,null,null,null,null,null,null,null,null,null,null,null,null,null,null,15]
[null,null,null,null,null,null,null,null,null,null,null,null,null,null,null,null,null,null,null,null,null,null,null,null,null,null,null,null,null,null,null,null,16]
[]
[1,"Я ощущаю подавленность."]
[2,"Утром я чувствую себя лучше всего.",null,null,null,null,null,null,null,null,null,null,null,null,null,null,null,null,null,null,null,"Никогда"]
[3,"У меня бывают периоды плача или близости к слезам.",null,null,null,null,null,null,null,null,null,null,null,null,null,null,null,null,null,null,null,"Иногда"]
[4,"У меня плохой ночной сон.",null,null,null,null,null,null,null,null,null,null,null,null,null,null,null,null,null,null,null,"Часто"]
[5,"Аппетит у меня не хуже обычного.",null,null,null,null,null,null,null,null,null,null,null,null,null,null,null,null,null,null,null,"Всегда"]
[6,"Мне приятно смотреть на привлекательных женщин (мужчин), разговаривать с ними, находиться рядом."]
[7,"Я замечаю, что теряю вес."]
[8,"Меня беспокоят запоры."]
[9,"Сердце бьется быстрее, чем обычно."]
[10,"Я устаю без всяких причин."]
[11,"Я мыслю так же ясно, как всегда."]
[12,"Мне легко делать то, что я умею."]
[13,"Чувствую беспокойство и не могу усидеть на месте."]
[14,"У меня есть надежды на будущее."]
[15,"Я более раздражителен, чем обычно."]
[16,"Мне легко принимать решения."]
[17,"Я чувствую, что полезен и необходим."]
[18,"Я живу достаточно полной жизнью."]
[19,"Я чувствую, что другим людям станет лучше, если я умру."]
[20,"Меня до сих пор радует то, что радовало всегда."]

{"sheet":"Обработка","index":1,"n_rows":51,"n_cols":15,"rows_kept":51,"cut":false,"hidden":true,"merged":[[0,14,0,18],[1,14,1,18],[2,14,2,18],[4,14,4,18],[0,4,2,4],[0,5,2,5],[4,4,4,5]]}
[1,{"$f":"'Бланк Методички'!O9","v":0},{"$f":"IF(B1=$H$1,1,IF(B1=$H$2,2,IF(B1=$H$3,3,IF(B1=$H$4,4,0))))","v":0},{"$f":"IF(C1=1,4,IF(C1=2,3,IF(C1=3,2,IF(C1=4,1,0))))","v":0},"Епр","Еобр",null,"Никогда",null,null,null,null,20,50,"Состояние без депрессии."]
[2,{"$f":"'Бланк Методички'!O10","v":0},{"$f":"IF(B2=$H$1,1,IF(B2=$H$2,2,IF(B2=$H$3,3,IF(B2=$H$4,4,0))))","v":0},{"$f":"IF(C2=1,4,IF(C2=2,3,IF(C2=3,2,IF(C2=4,1,0))))","v":0},null,null,null,"Иногда",null,null,null,null,51,59,"Легкая депрессия ситуативного или невротического генеза."]
[3,{"$f":"'Бланк Методички'!O11","v":0},0,0,null,null,null,"Часто",null,null,null,null,60,69,"Субдепрессивное состояние или замаскированная депрессия. Депрессия средней тяжести."]
[4,{"$f":"'Бланк Методички'!O12","v":0},0,0,{"$f":"SUM(C1,C3,C4,C7,C8,C9,C10,C13,C15,C19)","v":0},{"$f":"SUM(D2,D5,D6,D11,D12,D14,D16,D17,D18,D20)","v":0},null,"Всегда",null,null,null,null,70,80,"Истинное (тяжелое) депрессивное состояние."]
[5,{"$f":"'Бланк Методички'!O13","v":0},0,0,{"$f":"SUM(E4:F4)","v":0}]
[6,{"$f":"'Бланк Методички'!O14","v":0},0,0]
[7,{"$f":"'Бланк Методички'!O15","v":0},0,0,{"$f":"IF(AND(E5>=M1,E5<=N1),O1,IF(AND(E5>=M2,E5<=N2),O2,IF(AND(E5>=M3,E5<=N3),O3,IF(AND(E5>=M4,E5<=N4),O4,0))))","v":0}]
[8,{"$f":"'Бланк Методички'!O16","v":0},0,0]
[9,{"$f":"'Бланк Методички'!O17","v":0},0,0]
[10,{"$f":"'Бланк Методички'!O18","v":0},0,0]
[11,{"$f":"'Бланк Методички'!O19","v":0},0,0]
[12,{"$f":"'Бланк Методички'!O20","v":0},0,0]
[13,{"$f":"'Бланк Методички'!O21","v":0},0,0]
[14,{"$f":"'Бланк Методички'!O22","v":0},0,0]
[15,{"$f":"'Бланк Методички'!O23","v":0},0,0]
[16,{"$f":"'Бланк Методички'!O24","v":0},0,0]
[17,{"$f":"'Бланк Методички'!O25","v":0},0,0]
[18,{"$f":"'Бланк Методички'!O26","v":0},0,0]
[19,{"$f":"'Бланк Методички'!O27","v":0},0,0]
[20,{"$f":"'Бланк Методички'!O28","v":0},0,0]
[]
[]
[]
[]
[]
[]
[]
[]
[]
[null,null,null,{"$f":"IF(C30=1,5,IF(C30=2,4,IF(C30=3,3,IF(C30=4,2,IF(C30=5,1,0)))))","v":0}]
[null,null,null,{"$f":"IF(C31=1,5,IF(C31=2,4,IF(C31=3,3,IF(C31=4,2,IF(C31=5,1,0)))))","v":0}]
[]
[]
[]
[null,null,null,{"$f":"IF(C35=1,5,IF(C35=2,4,IF(C35=3,3,IF(C35=4,2,IF(C35=5,1,0)))))","v":0}]
[]
[null,null,null,{"$f":"IF(C37=1,5,IF(C37=2,4,IF(C37=3,3,IF(C37=4,2,IF(C37=5,1,0)))))","v":0}]
[]
[]
[]
[]
[]
[]
[]
[null,null,null,{"$f":"IF(C45=1,5,IF(C45=2,4,IF(C45=3,3,IF(C45=4,2,IF(C45=5,1,0)))))","v":0}]
[]
[]
[null,null,null,{"$f":"IF(C48=1,5,IF(C48=2,4,IF(C48=3,3,IF(C48=4,2,IF(C48=5,1,0)))))","v":0}]
[]
[]
[null,null,null,{"$f":"IF(C51=1,5,IF(C51=2,4,IF(C51=3,3,IF(C51=4,2,IF(C51=5,1,0)))))","v":0}]

{"sheet":"Печать","index":2,"n_rows":40,"n_cols":8,"rows_kept":40,"cut":false,"hidden":false,"merged":[[39,5,39,8],[0,0,0,8],[3,1,3,2],[2,1,2,5],[5,0,5,4],[5,5,5,8],[6,0,6,4],[6,5,6,8],[7,0,7,4],[7,5,7,8],[9,0,9,8],[10,0,14,8],[2,7,2,8]]}
["Определение уровня депрессии (Балашова)"]
[]
["ФИО",{"$f":"PROPER('Бланк Методички'!D2)","v":""},null,null,null,null,{"$f":"'Бланк Методички'!L2","v":"Пол"},{"$f":"'Бланк Методички'!N2","v":"Мальчик"}]
["Дата",{"$f":"TODAY()","v":"2019-03-01"}]
[]
["ЕПР",null,null,null,null,{"$f":"Обработка!E4","v":0}]
["ЕОБР",null,null,null,null,{"$f":"Обработка!F4","v":0}]
["Уровень депрессии",null,null,null,null,{"$f":"Обработка!E5","v":0}]
[]
["Вывод:"]
[{"$f":"Обработка!E7","v":0}]
[]
[]
[]
[]
[]
[]
[]
[]
[]
[]
[]
[]
[]
[]
[]
[]
[]
[]
[]
[]
[]
[]
[]
[]
[]
[]
[]
[]
[null,null,null,null,null,"http://eschool.by/courses/psy"]

{"sheet":"Групповой обработчик","index":3,"n_rows":31,"n_cols":48,"rows_kept":31,"cut":false,"hidden":false,"merged":[[0,0,1,0],[0,1,1,1],[0,22,0,25],[0,2,0,21]]}
["№","Ф.И.","Ответы испытуемого",null,null,null,null,null,null,null,null,null,null,null,null,null,null,null,null,null,null,null,"Результат"]
[null,null,1,2,3,4,5,6,7,8,9,10,11,12,13,14,15,16,17,18,19,20,"ЕПР","ЕОБР","Уд","Уровень",null,null,1,2,3,4,5,6,7,8,9,10,11,12,13,14,15,16,17,18,19,20]
[1,null,4,1,3,4,1,4,4,4,1,1,1,1,1,1,1,3,3,3,3,1,{"$f":"SUM(C3,E3,F3,I3,J3,K3,L3,O3,Q3,U3)","v":26},{"$f":"SUM(AD3,AG3,AH3,AM3,AN3,AP3,AR3,AS3,AT3,AV3)","v":31},{"$f":"SUM(W3,X3)","v":57},{"$f":"IF(AND(Y3>=20,Y3<=50),Обработка!$O$1,IF(AND(Y3>=51,Y3<=59),Обработка!$O$2,IF(AND(Y3>=60,Y3<=69),Обработка!$O$3,IF(Y3>=70,Обработка!$O$4))))","v":"Легкая депрессия ситуативного или невротического генеза."},null,null,{"$f":"IF(C3=1,4,IF(C3=2,3,IF(C3=3,2,IF(C3=4,1,))))","v":1},{"$f":"IF(D3=1,4,IF(D3=2,3,IF(D3=3,2,IF(D3=4,1,))))","v":4},2,1,4,1,1,1,4,4,4,4,4,4,4,2,2,2,2,{"$f":"IF(V3=1,4,IF(V3=2,3,IF(V3=3,2,IF(V3=4,1,))))","v":4}]
[2,null,null,null,null,null,null,null,null,null,null,null,null,null,null,null,null,null,null,null,null,null,{"$f":"SUM(C4,E4,F4,I4,J4,K4,L4,O4,Q4,U4)","v":0},{"$f":"SUM(AD4,AG4,AH4,AM4,AN4,AP4,AR4,AS4,AT4,AV4)","v":0},{"$f":"SUM(W4,X4)","v":0},{"$f":"IF(AND(Y4>=20,Y4<=50),Обработка!$O$1,IF(AND(Y4>=51,Y4<=59),Обработка!$O$2,IF(AND(Y4>=60,Y4<=69),Обработка!$O$3,IF(Y4>=70,Обработка!$O$4))))","v":false},null,null,{"$f":"IF(C4=1,4,IF(C4=2,3,IF(C4=3,2,IF(C4=4,1,))))","v":0},{"$f":"IF(D4=1,4,IF(D4=2,3,IF(D4=3,2,IF(D4=4,1,))))","v":0},{"$f":"IF(E4=1,4,IF(E4=2,3,IF(E4=3,2,IF(E4=4,1,))))","v":0},{"$f":"IF(F4=1,4,IF(F4=2,3,IF(F4=3,2,IF(F4=4,1,))))","v":0},{"$f":"IF(G4=1,4,IF(G4=2,3,IF(G4=3,2,IF(G4=4,1,))))","v":0},{"$f":"IF(H4=1,4,IF(H4=2,3,IF(H4=3,2,IF(H4=4,1,))))","v":0},{"$f":"IF(I4=1,4,IF(I4=2,3,IF(I4=3,2,IF(I4=4,1,))))","v":0},{"$f":"IF(J4=1,4,IF(J4=2,3,IF(J4=3,2,IF(J4=4,1,))))","v":0},{"$f":"IF(K4=1,4,IF(K4=2,3,IF(K4=3,2,IF(K4=4,1,))))","v":0},{"$f":"IF(L4=1,4,IF(L4=2,3,IF(L4=3,2,IF(L4=4,1,))))","v":0},{"$f":"IF(M4=1,4,IF(M4=2,3,IF(M4=3,2,IF(M4=4,1,))))","v":0},{"$f":"IF(N4=1,4,IF(N4=2,3,IF(N4=3,2,IF(N4=4,1,))))","v":0},{"$f":"IF(O4=1,4,IF(O4=2,3,IF(O4=3,2,IF(O4=4,1,))))","v":0},{"$f":"IF(P4=1,4,IF(P4=2,3,IF(P4=3,2,IF(P4=4,1,))))","v":0},{"$f":"IF(Q4=1,4,IF(Q4=2,3,IF(Q4=3,2,IF(Q4=4,1,))))","v":0},{"$f":"IF(R4=1,4,IF(R4=2,3,IF(R4=3,2,IF(R4=4,1,))))","v":0},{"$f":"IF(S4=1,4,IF(S4=2,3,IF(S4=3,2,IF(S4=4,1,))))","v":0},{"$f":"IF(T4=1,4,IF(T4=2,3,IF(T4=3,2,IF(T4=4,1,))))","v":0},{"$f":"IF(U4=1,4,IF(U4=2,3,IF(U4=3,2,IF(U4=4,1,))))","v":0},{"$f":"IF(V4=1,4,IF(V4=2,3,IF(V4=3,2,IF(V4=4,1,))))","v":0}]
[3,null,null,null,null,null,null,null,null,null,null,null,null,null,null,null,null,null,null,null,null,null,0,0,0,{"$f":"IF(AND(Y5>=20,Y5<=50),Обработка!$O$1,IF(AND(Y5>=51,Y5<=59),Обработка!$O$2,IF(AND(Y5>=60,Y5<=69),Обработка!$O$3,IF(Y5>=70,Обработка!$O$4))))","v":false},null,null,0,0,0,0,0,0,0,0,0,0,0,0,0,0,0,0,0,0,0,0]
[4,null,null,null,null,null,null,null,null,null,null,null,null,null,null,null,null,null,null,null,null,null,0,0,0,{"$f":"IF(AND(Y6>=20,Y6<=50),Обработка!$O$1,IF(AND(Y6>=51,Y6<=59),Обработка!$O$2,IF(AND(Y6>=60,Y6<=69),Обработка!$O$3,IF(Y6>=70,Обработка!$O$4))))","v":false},null,null,0,0,0,0,0,0,0,0,0,0,0,0,0,0,0,0,0,0,0,0]
[5,null,null,null,null,null,null,null,null,null,null,null,null,null,null,null,null,null,null,null,null,null,0,0,0,{"$f":"IF(AND(Y7>=20,Y7<=50),Обработка!$O$1,IF(AND(Y7>=51,Y7<=59),Обработка!$O$2,IF(AND(Y7>=60,Y7<=69),Обработка!$O$3,IF(Y7>=70,Обработка!$O$4))))","v":false},null,null,0,0,0,0,0,0,0,0,0,0,0,0,0,0,0,0,0,0,0,0]
[6,null,null,null,null,null,null,null,null,null,null,null,null,null,null,null,null,null,null,null,null,null,0,0,0,{"$f":"IF(AND(Y8>=20,Y8<=50),Обработка!$O$1,IF(AND(Y8>=51,Y8<=59),Обработка!$O$2,IF(AND(Y8>=60,Y8<=69),Обработка!$O$3,IF(Y8>=70,Обработка!$O$4))))","v":false},null,null,0,0,0,0,0,0,0,0,0,0,0,0,0,0,0,0,0,0,0,0]
[7,null,null,null,null,null,null,null,null,null,null,null,null,null,null,null,null,null,null,null,null,null,0,0,0,{"$f":"IF(AND(Y9>=20,Y9<=50),Обработка!$O$1,IF(AND(Y9>=51,Y9<=59),Обработка!$O$2,IF(AND(Y9>=60,Y9<=69),Обработка!$O$3,IF(Y9>=70,Обработка!$O$4))))","v":false},null,null,0,0,0,0,0,0,0,0,0,0,0,0,0,0,0,0,0,0,0,0]
[8,null,null,null,null,null,null,null,null,null,null,null,null,null,null,null,null,null,null,null,null,null,0,0,0,{"$f":"IF(AND(Y10>=20,Y10<=50),Обработка!$O$1,IF(AND(Y10>=51,Y10<=59),Обработка!$O$2,IF(AND(Y10>=60,Y10<=69),Обработка!$O$3,IF(Y10>=70,Обработка!$O$4))))","v":false},null,null,0,0,0,0,0,0,0,0,0,0,0,0,0,0,0,0,0,0,0,0]
[9,null,null,null,null,null,null,null,null,null,null,null,null,null,null,null,null,null,null,null,null,null,0,0,0,{"$f":"IF(AND(Y11>=20,Y11<=50),Обработка!$O$1,IF(AND(Y11>=51,Y11<=59),Обработка!$O$2,IF(AND(Y11>=60,Y11<=69),Обработка!$O$3,IF(Y11>=70,Обработка!$O$4))))","v":false},null,null,0,0,0,0,0,0,0,0,0,0,0,0,0,0,0,0,0,0,0,0]
[10,null,null,null,null,null,null,null,null,null,null,null,null,null,null,null,null,null,null,null,null,null,0,0,0,{"$f":"IF(AND(Y12>=20,Y12<=50),Обработка!$O$1,IF(AND(Y12>=51,Y12<=59),Обработка!$O$2,IF(AND(Y12>=60,Y12<=69),Обработка!$O$3,IF(Y12>=70,Обработка!$O$4))))","v":false},null,null,0,0,0,0,0,0,0,0,0,0,0,0,0,0,0,0,0,0,0,0]
[11,null,null,null,null,null,null,null,null,null,null,null,null,null,null,null,null,null,null,null,null,null,0,0,0,{"$f":"IF(AND(Y13>=20,Y13<=50),Обработка!$O$1,IF(AND(Y13>=51,Y13<=59),Обработка!$O$2,IF(AND(Y13>=60,Y13<=69),Обработка!$O$3,IF(Y13>=70,Обработка!$O$4))))","v":false},null,null,0,0,0,0,0,0,0,0,0,0,0,0,0,0,0,0,0,0,0,0]
[12,null,null,null,null,null,null,null,null,null,null,null,null,null,null,null,null,null,null,null,null,null,0,0,0,{"$f":"IF(AND(Y14>=20,Y14<=50),Обработка!$O$1,IF(AND(Y14>=51,Y14<=59),Обработка!$O$2,IF(AND(Y14>=60,Y14<=69),Обработка!$O$3,IF(Y14>=70,Обработка!$O$4))))","v":false},null,null,0,0,0,0,0,0,0,0,0,0,0,0,0,0,0,0,0,0,0,0]
[13,null,null,null,null,null,null,null,null,null,null,null,null,null,null,null,null,null,null,null,null,null,0,0,0,{"$f":"IF(AND(Y15>=20,Y15<=50),Обработка!$O$1,IF(AND(Y15>=51,Y15<=59),Обработка!$O$2,IF(AND(Y15>=60,Y15<=69),Обработка!$O$3,IF(Y15>=70,Обработка!$O$4))))","v":false},null,null,0,0,0,0,0,0,0,0,0,0,0,0,0,0,0,0,0,0,0,0]
[14,null,null,null,null,null,null,null,null,null,null,null,null,null,null,null,null,null,null,null,null,null,0,0,0,{"$f":"IF(AND(Y16>=20,Y16<=50),Обработка!$O$1,IF(AND(Y16>=51,Y16<=59),Обработка!$O$2,IF(AND(Y16>=60,Y16<=69),Обработка!$O$3,IF(Y16>=70,Обработка!$O$4))))","v":false},null,null,0,0,0,0,0,0,0,0,0,0,0,0,0,0,0,0,0,0,0,0]
[15,null,null,null,null,null,null,null,null,null,null,null,null,null,null,null,null,null,null,null,null,null,0,0,0,{"$f":"IF(AND(Y17>=20,Y17<=50),Обработка!$O$1,IF(AND(Y17>=51,Y17<=59),Обработка!$O$2,IF(AND(Y17>=60,Y17<=69),Обработка!$O$3,IF(Y17>=70,Обработка!$O$4))))","v":false},null,null,0,0,0,0,0,0,0,0,0,0,0,0,0,0,0,0,0,0,0,0]
[16,null,null,null,null,null,null,null,null,null,null,null,null,null,null,null,null,null,null,null,null,null,0,0,0,{"$f":"IF(AND(Y18>=20,Y18<=50),Обработка!$O$1,IF(AND(Y18>=51,Y18<=59),Обработка!$O$2,IF(AND(Y18>=60,Y18<=69),Обработка!$O$3,IF(Y18>=70,Обработка!$O$4))))","v":false},null,null,0,0,0,0,0,0,0,0,0,0,0,0,0,0,0,0,0,0,0,0]
[17,null,null,null,null,null,null,null,null,null,null,null,null,null,null,null,null,null,null,null,null,null,0,0,0,{"$f":"IF(AND(Y19>=20,Y19<=50),Обработка!$O$1,IF(AND(Y19>=51,Y19<=59),Обработка!$O$2,IF(AND(Y19>=60,Y19<=69),Обработка!$O$3,IF(Y19>=70,Обработка!$O$4))))","v":false},null,null,0,0,0,0,0,0,0,0,0,0,0,0,0,0,0,0,0,0,0,0]
[18,null,null,null,null,null,null,null,null,null,null,null,null,null,null,null,null,null,null,null,null,null,0,0,0,{"$f":"IF(AND(Y20>=20,Y20<=50),Обработка!$O$1,IF(AND(Y20>=51,Y20<=59),Обработка!$O$2,IF(AND(Y20>=60,Y20<=69),Обработка!$O$3,IF(Y20>=70,Обработка!$O$4))))","v":false},null,null,0,0,0,0,0,0,0,0,0,0,0,0,0,0,0,0,0,0,0,0]
[19,null,null,null,null,null,null,null,null,null,null,null,null,null,null,null,null,null,null,null,null,null,0,0,0,{"$f":"IF(AND(Y21>=20,Y21<=50),Обработка!$O$1,IF(AND(Y21>=51,Y21<=59),Обработка!$O$2,IF(AND(Y21>=60,Y21<=69),Обработка!$O$3,IF(Y21>=70,Обработка!$O$4))))","v":false},null,null,0,0,0,0,0,0,0,0,0,0,0,0,0,0,0,0,0,0,0,0]
[20,null,null,null,null,null,null,null,null,null,null,null,null,null,null,null,null,null,null,null,null,null,0,0,0,{"$f":"IF(AND(Y22>=20,Y22<=50),Обработка!$O$1,IF(AND(Y22>=51,Y22<=59),Обработка!$O$2,IF(AND(Y22>=60,Y22<=69),Обработка!$O$3,IF(Y22>=70,Обработка!$O$4))))","v":false},null,null,0,0,0,0,0,0,0,0,0,0,0,0,0,0,0,0,0,0,0,0]
[21,null,null,null,null,null,null,null,null,null,null,null,null,null,null,null,null,null,null,null,null,null,0,0,0,{"$f":"IF(AND(Y23>=20,Y23<=50),Обработка!$O$1,IF(AND(Y23>=51,Y23<=59),Обработка!$O$2,IF(AND(Y23>=60,Y23<=69),Обработка!$O$3,IF(Y23>=70,Обработка!$O$4))))","v":false},null,null,0,0,0,0,0,0,0,0,0,0,0,0,0,0,0,0,0,0,0,0]
[22,null,null,null,null,null,null,null,null,null,null,null,null,null,null,null,null,null,null,null,null,null,0,0,0,{"$f":"IF(AND(Y24>=20,Y24<=50),Обработка!$O$1,IF(AND(Y24>=51,Y24<=59),Обработка!$O$2,IF(AND(Y24>=60,Y24<=69),Обработка!$O$3,IF(Y24>=70,Обработка!$O$4))))","v":false},null,null,0,0,0,0,0,0,0,0,0,0,0,0,0,0,0,0,0,0,0,0]
[23,null,null,null,null,null,null,null,null,null,null,null,null,null,null,null,null,null,null,null,null,null,0,0,0,{"$f":"IF(AND(Y25>=20,Y25<=50),Обработка!$O$1,IF(AND(Y25>=51,Y25<=59),Обработка!$O$2,IF(AND(Y25>=60,Y25<=69),Обработка!$O$3,IF(Y25>=70,Обработка!$O$4))))","v":false},null,null,0,0,0,0,0,0,0,0,0,0,0,0,0,0,0,0,0,0,0,0]
[24,null,null,null,null,null,null,null,null,null,null,null,null,null,null,null,null,null,null,null,null,null,0,0,0,{"$f":"IF(AND(Y26>=20,Y26<=50),Обработка!$O$1,IF(AND(Y26>=51,Y26<=59),Обработка!$O$2,IF(AND(Y26>=60,Y26<=69),Обработка!$O$3,IF(Y26>=70,Обработка!$O$4))))","v":false},null,null,0,0,0,0,0,0,0,0,0,0,0,0,0,0,0,0,0,0,0,0]
[25,null,null,null,null,null,null,null,null,null,null,null,null,null,null,null,null,null,null,null,null,null,0,0,0,{"$f":"IF(AND(Y27>=20,Y27<=50),Обработка!$O$1,IF(AND(Y27>=51,Y27<=59),Обработка!$O$2,IF(AND(Y27>=60,Y27<=69),Обработка!$O$3,IF(Y27>=70,Обработка!$O$4))))","v":false},null,null,0,0,0,0,0,0,0,0,0,0,0,0,0,0,0,0,0,0,0,0]
[26,null,null,null,null,null,null,null,null,null,null,null,null,null,null,null,null,null,null,null,null,null,0,0,0,{"$f":"IF(AND(Y28>=20,Y28<=50),Обработка!$O$1,IF(AND(Y28>=51,Y28<=59),Обработка!$O$2,IF(AND(Y28>=60,Y28<=69),Обработка!$O$3,IF(Y28>=70,Обработка!$O$4))))","v":false},null,null,0,0,0,0,0,0,0,0,0,0,0,0,0,0,0,0,0,0,0,0]
[27,null,null,null,null,null,null,null,null,null,null,null,null,null,null,null,null,null,null,null,null,null,0,0,0,{"$f":"IF(AND(Y29>=20,Y29<=50),Обработка!$O$1,IF(AND(Y29>=51,Y29<=59),Обработка!$O$2,IF(AND(Y29>=60,Y29<=69),Обработка!$O$3,IF(Y29>=70,Обработка!$O$4))))","v":false},null,null,0,0,0,0,0,0,0,0,0,0,0,0,0,0,0,0,0,0,0,0]
[28,null,null,null,null,null,null,null,null,null,null,null,null,null,null,null,null,null,null,null,null,null,0,0,0,{"$f":"IF(AND(Y30>=20,Y30<=50),Обработка!$O$1,IF(AND(Y30>=51,Y30<=59),Обработка!$O$2,IF(AND(Y30>=60,Y30<=69),Обработка!$O$3,IF(Y30>=70,Обработка!$O$4))))","v":false},null,null,0,0,0,0,0,0,0,0,0,0,0,0,0,0,0,0,0,0,0,0]
[29,null,null,null,null,null,null,null,null,null,null,null,null,null,null,null,null,null,null,null,null,null,0,0,0,{"$f":"IF(AND(Y31>=20,Y31<=50),Обработка!$O$1,IF(AND(Y31>=51,Y31<=59),Обработка!$O$2,IF(AND(Y31>=60,Y31<=69),Обработка!$O$3,IF(Y31>=70,Обработка!$O$4))))","v":false},null,null,0,0,0,0,0,0,0,0,0,0,0,0,0,0,0,0,0,0,0,0]