{"text_format":"1","workbook":"xlsx","n_sheets":10,"sheets":["Бланк Методички","Обработка результатов","Печать","Итог","1011д","1011м","1214д","1214м","1516д","1516м"],"not_rendered":{"charts":0,"images":1,"macros":1,"external_links":0,"defined_names":0,"comments":0,"pivot_tables":0},"unopened":[],"bounds":{"document_bytes":16777216,"sheet_cells":100000,"rows_first":2000,"rows_last":500,"rows_between":2000,"halvings":0,"cell_chars":16384,"cell_head_chars":4096},"cells_cut":0,"cells_raw":0,"read":"whole","date_system":"1900"}

{"sheet":"Бланк Методички","index":0,"n_rows":50,"n_cols":34,"rows_kept":50,"cut":false,"hidden":false,"merged":[[2,15,2,18],[2,0,2,2],[2,3,2,8],[1,10,1,11],[2,10,2,11],[1,12,1,14],[2,12,2,14],[1,0,1,2],[1,3,1,8],[14,1,14,10],[15,1,15,10],[16,1,16,10],[6,17,6,19],[7,17,7,19],[4,0,7,14],[4,17,4,19],[5,17,5,19],[12,1,12,10],[11,1,11,10],[10,1,10,10],[22,1,22,10],[47,1,47,10],[48,1,48,10],[49,1,49,10],[38,1,38,10],[39,1,39,10],[40,1,40,10],[36,1,36,10],[37,1,37,10],[26,1,26,10],[27,1,27,10],[28,1,28,10],[29,1,29,10],[23,1,23,10],[24,1,24,10],[25,1,25,10],[42,1,42,10],[43,1,43,10],[44,1,44,10],[45,1,45,10],[46,1,46,10],[41,1,41,10],[30,1,30,10],[31,1,31,10],[32,1,32,10],[33,1,33,10],[34,1,34,10],[35,1,35,10],[17,1,17,10],[18,1,18,10],[19,1,19,10],[20,1,20,10],[21,1,21,10]]}
[null,null,null,null,null,null,null,null,null,null,null,null,null,null,null,null,null,null,null,null,null,null,null,null,null,null,null,null,null,null,null,null,10,"5 А"]
["Фамилия, имя",null,null,null,null,null,null,null,null,null,"Класс",null,null,null,null,null,null,null,null,null,null,null,null,null,null,null,null,null,null,null,null,null,11,"5 Б"]
["Возраст",null,null,null,null,null,null,null,null,null,"Пол",null,null,null,null,null,null,null,null,null,null,null,null,null,null,null,null,null,null,null,null,null,12,"5 В"]
[null,null,null,null,null,null,null,null,null,null,null,null,null,null,null,null,null,null,null,null,null,null,null,null,null,null,null,null,null,null,null,null,13]
["Ниже приведены утверждения, которые люди используют для того, чтобы рассказать о себе. Прочтите внимательно каждое утверждение и поставьте цифру, в зависимости от того, каково ваше обычное состояние на уроках в школе, как вы обычно себя чувствуете там. Нет правильных или неправильных ответов. Не тратьте много времени на одно предложение, но старайтесь как можно точнее ответить, как вы себя обычно чувствуете.",null,null,null,null,null,null,null,null,null,null,null,null,null,null,null,1,"Почти никогда",null,null,null,null,null,null,null,null,null,null,null,null,null,"Мальчик",14]
[null,null,null,null,null,null,null,null,null,null,null,null,null,null,null,null,2,"Иногда",null,null,null,null,null,null,null,null,null,null,null,null,null,"Девочка",15]
[null,null,null,null,null,null,null,null,null,null,null,null,null,null,null,null,3,"Часто",null,null,null,null,null,null,null,null,null,null,null,null,null,null,16]
[null,null,null,null,null,null,null,null,null,null,null,null,null,null,null,null,4,"Почти всегда"]
[]
[]
[1,"Я спокоен"]
[2,"Мне хочется узнать, понять, докопаться до сути"]
[3,"Я разъярён"]
[4,"Я падаю духом, сталкиваясь с трудностями в учебе"]
[5,"Я напряжен"]
[6,"Я испытываю любопытство"]
[7,"Мне хочется стукнуть кулаком по столу"]
[8,"Я стараюсь получать только хорошие и отличные оценки"]
[9,"Я расковон"]
[10,"Мне интересно"]
[11,"Я рассержен"]
[12,"Я прилагаю все силы, чтобы добиться успеха в учебе"]
[13,"Меня волнуют возможные неудачи"]
[14,"Мне кажется, что урок никогда не кончится"]
[15,"Мне хочется на кого-нибудь накричать"]
[16,"Я стараюсь все делать правильно"]
[17,"Я чувствую себя неудачником"]
[18,"Я чувствую себя исследователем"]
[19,"Мне хочется что-нибудь сломать"]
[20,"Я чувствую, что не справляюсь с заданиями"]
[21,"Я взвинчен"]
[22,"Я энергичен"]
[23,"Я взбешен"]
[24,"Я горжусь своими школьными успехами"]
[25,"Я чувствую себя совершенно свободно"]
[26,"Я чувствую, что у меня хорошо работает голова"]
[27,"Я раздражён"]
[28,"Я решаю самые трудные задачи"]
[29,"Мне не хватает уверенности в себе"]
[30,"Мне скучно"]
[31,"Мне хочется что-нибудь сломать"]
[32,"Я стараюсь не получить двойку"]
[33,"Я уравновешен"]
[34,"Мне нравится думать, решать"]
[35,"Я чувствую себя обманутым"]
[36,"Я стремлюсь показать свои способности и ум"]
[37,"Я боюсь"]
[38,"Я чувствую уныние и тоску"]
[39,"Меня многое приводит в ярость"]
[40,"Я хочу быть своим среди лучших"]

{"sheet":"Обработка результатов","index":1,"n_rows":26,"n_cols":49,"rows_kept":26,"cut":false,"hidden":true,"merged":[[1,1,1,10],[7,0,7,10],[2,12,2,13],[1,12,1,13],[1,14,1,19],[7,17,7,20],[15,3,15,6],[14,0,16,0],[14,1,16,2],[16,3,16,4],[16,5,16,6],[17,0,19,0],[17,1,17,2],[18,1,18,2],[19,1,19,2],[17,3,17,4],[18,3,18,4],[19,3,19,4],[16,7,16,8],[16,9,16,10],[17,5,17,6],[18,5,18,6],[19,5,19,6],[17,7,17,8],[18,7,18,8],[19,7,19,8],[8,17,11,20],[14,3,14,14],[7,12,7,15],[2,14,2,19],[3,12,3,13],[4,12,4,13],[3,14,3,19],[4,14,4,19],[14,16,25,22],[17,9,17,10],[18,9,18,10],[19,9,19,10],[15,7,15,10],[15,11,15,14],[16,11,16,12],[16,13,16,14],[20,1,20,2],[20,0,22,0],[21,1,21,2],[22,1,22,2],[20,3,20,4],[21,3,21,4],[22,3,22,4],[20,5,20,6],[21,5,21,6],[22,5,22,6],[20,7,20,8],[21,7,21,8],[22,7,22,8],[20,9,20,10],[21,9,21,10],[22,9,22,10],[20,11,20,12],[21,11,21,12],[22,11,22,12],[23,5,23,6],[24,5,24,6],[25,5,25,6],[23,7,23,8],[24,7,24,8],[25,7,25,8],[23,0,25,0],[23,1,23,2],[24,1,24,2],[25,1,25,2],[23,3,23,4],[24,3,24,4],[25,3,25,4],[23,9,23,10],[24,9,24,10],[25,9,25,10],[23,11,23,12],[24,11,24,12],[25,11,25,12],[23,13,23,14],[24,13,24,14],[25,13,25,14],[8,12,8,15],[9,12,9,15],[10,12,10,15],[11,12,11,15],[20,13,20,14],[21,13,21,14],[22,13,22,14],[17,11,17,12],[17,13,17,14],[18,11,18,12],[18,13,18,14],[19,11,19,12],[19,13,19,14]]}
[]
["Шкала","Пункты, номер",null,null,null,null,null,null,null,null,null,null,"Ф.И.О.",null,{"$f":"PROPER('Бланк Методички'!D2)","v":""}]
["Познавательная активность",{"$f":"'Бланк Методички'!L11","v":0},{"$f":"'Бланк Методички'!L12","v":0},10,14,18,22,26,30,34,38,null,"Пол",null,{"$f":"'Бланк Методички'!M3","v":0}]
["Мотивация достижений",4,8,12,16,20,24,28,32,36,40,null,"Возраст",null,{"$f":"'Бланк Методички'!D3","v":0}]
["Тревожность",1,5,9,13,17,21,25,29,33,37,null,"Класс",null,{"$f":"'Бланк Методички'!M2","v":0}]
["Гнев",3,7,11,15,19,23,27,31,35,39]
[]
["Результаты",null,null,null,null,null,null,null,null,null,null,"Итого","Уровень",null,null,null,null,"Суммарный балл"]
["Познавательная активность",{"$f":"'Бланк Методички'!L12","v":0},{"$f":"'Бланк Методички'!L16","v":0},{"$f":"'Бланк Методички'!L20","v":0},{"$f":"IF(AT9=1,4,(IF(AT9=2,3,(IF(AT9=3,2,(IF(AT9=4,1,)))))))","v":0},{"$f":"'Бланк Методички'!L28","v":0},{"$f":"'Бланк Методички'!L32","v":0},{"$f":"'Бланк Методички'!L36","v":0},{"$f":"IF(AU9=1,4,(IF(AU9=2,3,(IF(AU9=3,2,(IF(AU9=4,1,)))))))","v":0},{"$f":"'Бланк Методички'!L44","v":0},{"$f":"IF(AV9=1,4,(IF(AV9=2,3,(IF(AV9=3,2,(IF(AV9=4,1,)))))))","v":0},{"$f":"SUM(B9:K9)","v":0},{"$f":"IF(AND(O3=\"Девочка\",OR(O4=10,O4=11)),'1011д'!C15,IF(AND(O3=\"Девочка\",OR(O4=12,O4=13,O4=14)),'1214д'!C15,IF(AND(O3=\"Девочка\",OR(O4=15,O4=16)),'1516д'!C15,IF(AND(O3=\"Мальчик\",OR(O4=10,O4=11)),'1011м'!C15,IF(AND(O3=\"Мальчик\",OR(O4=12,O4=13,O4=14)),'1214м'!C15,IF(AND(O3=\"Мальчик\",OR(O4=15,O4=16)),'1516м'!C15))))))","v":false},null,null,null,null,{"$f":"L9+L10+(-L11)+(-L12)","v":0},null,null,null,null,null,null,null,null,null,null,null,null,null,null,null,null,null,null,null,null,null,null,null,null,null,null,null,{"$f":"'Бланк Методички'!L24","v":0},{"$f":"'Бланк Методички'!L40","v":0},{"$f":"'Бланк Методички'!L48","v":0}]
["Мотивация достижений",{"$f":"IF(AT10=1,4,(IF(AT10=2,3,(IF(AT10=3,2,(IF(AT10=4,1,)))))))","v":0},{"$f":"'Бланк Методички'!L18","v":0},{"$f":"'Бланк Методички'!L22","v":0},{"$f":"'Бланк Методички'!L26","v":0},{"$f":"IF(AU10=1,4,(IF(AU10=2,3,(IF(AU10=3,2,(IF(AU10=4,1,)))))))","v":0},{"$f":"'Бланк Методички'!L34","v":0},{"$f":"'Бланк Методички'!L38","v":0},{"$f":"IF(AV10=1,4,(IF(AV10=2,3,(IF(AV10=3,2,(IF(AV10=4,1,)))))))","v":0},{"$f":"'Бланк Методички'!L46","v":0},{"$f":"'Бланк Методички'!L50","v":0},{"$f":"SUM(B10:K10)","v":0},{"$f":"IF(AND(L10>=45,L10<=60),\"I уровень\",IF(AND(L10>=29,L10<=44),\"II уровень\",IF(AND(L10>=13,L10<=28),\"III уровень\",IF(AND(L10>=-2,L10>=12),\"IV уровень\",IF(AND(L10>=-3,L10>=-60),\"V уровень\",)))))","v":"V уровень"},null,null,null,null,null,null,null,null,null,null,null,null,null,null,null,null,null,null,null,null,null,null,null,null,null,null,null,null,null,null,null,null,{"$f":"'Бланк Методички'!L14","v":0},{"$f":"'Бланк Методички'!L30","v":0},{"$f":"'Бланк Методички'!L42","v":0}]
["Тревожность",{"$f":"IF(AT11=1,4,(IF(AT11=2,3,(IF(AT11=3,2,(IF(AT11=4,1,)))))))","v":0},{"$f":"'Бланк Методички'!L15","v":0},{"$f":"IF(AU11=1,4,(IF(AU11=2,3,(IF(AU11=3,2,(IF(AU11=4,1,)))))))","v":0},{"$f":"'Бланк Методички'!L23","v":0},{"$f":"'Бланк Методички'!L27","v":0},{"$f":"'Бланк Методички'!L31","v":0},{"$f":"IF(AV11=1,4,(IF(AV11=2,3,(IF(AV11=3,2,(IF(AV11=4,1,)))))))","v":0},{"$f":"'Бланк Методички'!L39","v":0},{"$f":"IF(AW11=1,4,(IF(AW11=2,3,(IF(AW11=3,2,(IF(AW11=4,1,)))))))","v":0},{"$f":"'Бланк Методички'!L47","v":0},0,{"$f":"IF(AND(O3=\"Девочка\",OR(O4=10,O4=11)),'1011д'!C16,IF(AND(O3=\"Девочка\",OR(O4=12,O4=13,O4=14)),'1214д'!C16,IF(AND(O3=\"Девочка\",OR(O4=15,O4=16)),'1516д'!C16,IF(AND(O3=\"Мальчик\",OR(O4=10,O4=11)),'1011м'!C16,IF(AND(O3=\"Мальчик\",OR(O4=12,O4=13,O4=14)),'1214м'!C16,IF(AND(O3=\"Мальчик\",OR(O4=15,O4=16)),'1516м'!C16))))))","v":false},null,null,null,null,null,null,null,null,null,null,null,null,null,null,null,null,null,null,null,null,null,null,null,null,null,null,null,null,null,null,null,null,{"$f":"'Бланк Методички'!L11","v":0},{"$f":"'Бланк Методички'!L19","v":0},{"$f":"'Бланк Методички'!L35","v":0},{"$f":"'Бланк Методички'!L43","v":0}]
["Гнев",{"$f":"'Бланк Методички'!L13","v":0},{"$f":"'Бланк Методички'!L17","v":0},{"$f":"'Бланк Методички'!L21","v":0},{"$f":"'Бланк Методички'!L25","v":0},{"$f":"'Бланк Методички'!L29","v":0},{"$f":"'Бланк Методички'!L33","v":0},{"$f":"'Бланк Методички'!L37","v":0},{"$f":"'Бланк Методички'!L41","v":0},{"$f":"'Бланк Методички'!L45","v":0},{"$f":"'Бланк Методички'!L49","v":0},0,{"$f":"IF(AND(O3=\"Девочка\",OR(O4=10,O4=11)),'1011д'!C17,IF(AND(O3=\"Девочка\",OR(O4=12,O4=13,O4=14)),'1214д'!C17,IF(AND(O3=\"Девочка\",OR(O4=15,O4=16)),'1516д'!C17,IF(AND(O3=\"Мальчик\",OR(O4=10,O4=11)),'1011м'!C17,IF(AND(O3=\"Мальчик\",OR(O4=12,O4=13,O4=14)),'1214м'!C17,IF(AND(O3=\"Мальчик\",OR(O4=15,O4=16)),'1516м'!C17))))))","v":false}]
[]
[]
["Шкала","Уровень",null,"Половозростные группы, интервал значений",null,null,null,null,null,null,null,null,null,null,null,null,{"$f":"IF(AND(M9=\"Высокий\",M12=\"Низкий\",OR(M11=\"Низкий\",M11=\"Средний\")),\"Продуктивная мотивация и позитивное эмоциональное отношение к учению\",IF(AND(M9=\"Средний\",M12=\"Низкий\",OR(M11=\"Низкий\",M11=\"Средний\")),\"Позитивное отношение к учению\",IF(AND(M9=\"Низкий\",OR(M11=\"Низкий\",M11=\"Средний\"),OR(M12=\"Низкий\",M12=\"Средний\")),\"Переживание «школьной скуки»\",IF(AND(M9=\"Средний\",OR(M11=\"Низкий\",M11=\"Средний\"),OR(M12=\"Низкий\",M12=\"Средний\")),\"Диффузное эмоциональное отношение\",IF(AND(M9=\"Средний\",M12=\"Высокий\",OR(M11=\"Низкий\",M11=\"Средний\")),\"Диффузное эмоциональное отношение при фрустрированности значимых потребностей\",IF(AND(M9=\"низкий\",M12=\"Высокий\",OR(M11=\"Низкий\",M11=\"Средний\")),\"Негативное эмоциональное отношение\",IF(AND(M9=\"Низкий\",M11=\"Низкий\",M12=\"Высокий\"),\"Резко отрицательное отношение к школе и учению\",IF(AND(M9=\"Высокий\",M11=\"Высокий\",M12=\"Высокий\"),\"Чрезмерно повышенная эмоциональность на уроке, обусловленная неудовлетворением ведущих социогенных потребностей\",IF(AND(M9=\"Высокий\",M11=\"Высокий\",M12=\"Средний\"),\"Повышенная эмоциональность на уроке\",IF(AND(OR(M9=\"Средний\",M9=\"Низкий\"),M11=\"Высокий\",OR(M12=\"Средний\",M12=\"Низкий\")),\"Школьная тревожность\",IF(AND(M9=\"Высокий\",OR(M11=\"Средний\",M11=\"Низкий\"),M12=\"Высокий\"),\"Позитивное отношение при фрустрированности потребностей\",IF(AND(OR(M9=\"Высокий\",M9=\"Средний\"),M11=\"Высокий\",OR(M12=\"Низкий\",M12=\"Средний\")),\"Позитивное отношение при повышенной чувствительности к оценочному аспекту\",))))))))))))","v":0}]
[null,null,null,"10 - 11 лет",null,null,null,"12 - 14 лет",null,null,null,"15 - 16 лет"]
[null,null,null,"Дев.","Мал.","Мал.","Мал.","Дев.","Мал.","Мал.",null,"Дев. ","Мал.","Юн."]
["Познавательная активность","Высокий",null,"31 - 40",null,"28-40",null,"28 - 40",null,"27 - 40",null,"29 - 40",null,"31 - 40"]
[null,"Средний",null,"21 - 30",null,"22-27",null,"21 - 27",null,"19 - 26",null,"18 - 28",null,"21 - 29"]
[null,"Низкий",null,"10 - 20",null,"10-21",null,"10 - 20",null,"10 - 18",null,"10 - 17",null,"10 - 20"]
["Тревожность","Высокий",null,"27 - 40",null,"24 - 40",null,"25 - 40",null,"26 - 40",null,"25 - 40",null,"23 - 40"]
[null,"Средний",null,"20 - 26",null,"17 - 23",null,"19 - 24",null,"19 - 25",null,"17 - 24",null,"16 - 22"]
[null,"Низкий",null,"10 - 19",null,"10 - 16",null,"10 - 18",null,"10 - 18",null,"10 - 16",null,"10 - 15"]
["Гнев","Высокий",null,"21 - 40",null,"20 - 40",null,"19 - 40",null,"23 - 40",null,"21 - 40",null,"18 - 40"]
[null,"Средний",null,"14 - 20",null,"13 - 19",null,"14 - 19",null,"15 - 22",null,"14 - 20",null,"12 - 18"]
[null,"Низкий",null,"10 - 13",null,"10 - 12",null,"10 - 13",null,"10 - 14",null,"10 - 13",null,"10 - 11"]

{"sheet":"Печать","index":2,"n_rows":38,"n_cols":8,"rows_kept":38,"cut":false,"hidden":false,"merged":[[23,0,23,8],[24,0,24,8],[25,0,25,8],[26,0,26,8],[37,5,37,8],[27,0,27,8],[28,0,28,8],[29,0,29,8],[30,0,30,8],[36,0,36,8],[31,0,31,8],[32,0,32,8],[33,0,33,8],[34,0,34,8],[35,0,35,8],[18,0,18,8],[19,0,19,8],[20,0,20,8],[21,0,21,8],[22,0,22,8],[13,0,13,8],[14,0,14,8],[15,0,15,8],[16,0,16,8],[17,0,17,8],[0,0,0,8],[2,7,2,8],[3,7,3,8],[2,1,2,5],[3,1,3,5],[10,0,10,4],[10,6,10,8],[5,0,5,4],[6,0,6,4],[7,0,7,4],[8,0,8,4],[9,0,9,4],[6,6,6,8],[7,6,7,8],[8,6,8,8],[9,6,9,8],[5,6,5,8]]}
["Методика диагностики мотивации учения и эмоционального отношения к учению в средних и старших классах школы"]
[]
["ФИО",{"$f":"PROPER('Бланк Методички'!D2)","v":""},null,null,null,null,"Класс",{"$f":"'Бланк Методички'!M2","v":0}]
["Возраст",{"$f":"CONCATENATE('Бланк Методички'!D3, \" лет\")","v":" лет"},null,null,null,null,"Дата",{"$f":"TODAY()","v":"2018-04-12"}]
[]
["Шкала",null,null,null,null,"Баллы","Уровень"]
["Познавательная активность",null,null,null,null,{"$f":"CONCATENATE('Обработка результатов'!L9,\" / 40\")","v":"0 / 40"},{"$f":"'Обработка результатов'!M9","v":false}]
["Мотивация достижений",null,null,null,null,{"$f":"CONCATENATE('Обработка результатов'!L10,\" / 40\")","v":"0 / 40"},{"$f":"'Обработка результатов'!M10","v":"V уровень"}]
["Тревожность",null,null,null,null,{"$f":"CONCATENATE('Обработка результатов'!L11,\" / 40\")","v":"0 / 40"},{"$f":"'Обработка результатов'!M11","v":false}]
["Гнев",null,null,null,null,{"$f":"CONCATENATE('Обработка результатов'!L12,\" / 40\")","v":"0 / 40"},{"$f":"'Обработка результатов'!M12","v":false}]
["Мотивация учения",null,null,null,null,{"$f":"'Обработка результатов'!R9","v":0},{"$f":"IF(AND(F11>=45,F11<=60),\"I уровень\",IF(AND(F11>=29,F11<=44),\"II уровень\",IF(AND(F11>=13,F11<=28),\"III уровень\",IF(AND(F11>=-2,F11>=12),\"IV уровень\",IF(AND(F11>=-3,F11>=-60),\"V уровень\",)))))","v":"V уровень"}]
[{"$f":"CONCATENATE(\"*\",'Обработка результатов'!Q15)","v":"*0"}]
[]
[]
[]
[]
[]
[]
[]
[]
[]
[]
[]
[]
[]
[]
[]
[]
[]
[]
[]
[]
[]
[]
[]
[]
[]
[null,null,null,null,null,"http://eschool.by/psy/"]

{"sheet":"Итог","index":3,"n_rows":2,"n_cols":8,"rows_kept":2,"cut":false,"hidden":true,"merged":[]}
["ФИО","Класс","Возраст","Дата","Познавательная активность","Мотивация достижений","Тревожность","Гнев"]
["Рубанов Александр",10,"12 лет","2017-12-13",24,21,31,21]

{"sheet":"1011д","index":4,"n_rows":17,"n_cols":5,"rows_kept":17,"cut":false,"hidden":true,"merged":[[2,7,2,8],[2,9,2,10],[2,11,2,12],[2,13,2,14],[3,0,5,0],[3,1,3,2],[3,3,3,4],[3,5,3,6],[3,7,3,8],[3,9,3,10],[3,11,3,12],[3,13,3,14],[0,0,2,0],[0,1,2,2],[1,7,1,10],[1,11,1,14],[2,3,2,4],[2,5,2,6],[4,13,4,14],[5,1,5,2],[5,3,5,4],[5,5,5,6],[5,7,5,8],[5,9,5,10],[5,11,5,12],[5,13,5,14],[4,1,4,2],[4,3,4,4],[4,5,4,6],[4,7,4,8],[4,9,4,10],[4,11,4,12],[6,0,8,0],[6,1,6,2],[6,3,6,4],[6,5,6,6],[6,7,6,8],[8,1,8,2],[8,3,8,4],[8,5,8,6],[8,7,8,8],[6,11,6,12],[6,13,6,14],[7,1,7,2],[7,3,7,4],[7,5,7,6],[7,7,7,8],[7,9,7,10],[7,11,7,12],[7,13,7,14],[6,9,6,10],[9,0,11,0],[9,1,9,2],[9,3,9,4],[9,5,9,6],[9,7,9,8],[10,9,10,10],[10,11,10,12],[10,13,10,14],[8,9,8,10],[8,11,8,12],[8,13,8,14],[9,9,9,10],[9,11,9,12],[11,13,11,14],[0,3,1,4],[14,2,14,5],[15,2,15,5],[16,2,16,5],[11,1,11,2],[11,3,11,4],[11,5,11,6],[11,7,11,8],[11,9,11,10],[11,11,11,12],[9,13,9,14],[10,1,10,2],[10,3,10,4],[10,5,10,6],[10,7,10,8]]}
["Шкала","Уровень",null,"10 - 11 лет"]
[]
[null,null,null,"Дев.","Мал."]
["Познавательная активность","Высокий",null,"31 - 40"]
[null,"Средний",null,"21 - 30"]
[null,"Низкий",null,"10 - 20"]
["Тревожность","Высокий",null,"27 - 40"]
[null,"Средний",null,"20 - 26"]
[null,"Низкий",null,"10 - 19"]
["Гнев","Высокий",null,"21 - 40"]
[null,"Средний",null,"14 - 20"]
[null,"Низкий",null,"10 - 13"]
[]
[]
["Познавательная активность",{"$f":"'Обработка результатов'!L9","v":0},{"$f":"IF(AND(B15>=31,B15<=40),\"Высокий\",IF(AND(B15>=21,B15<=30),\"Средний\",IF(AND(B15>=10,B15<=20),\"Низкий\")))","v":false}]
["Тревожность",{"$f":"'Обработка результатов'!L11","v":0},{"$f":"IF(AND(B16>=27,B16<=40),\"Высокий\",IF(AND(B16>=20,B16<=26),\"Средний\",IF(AND(B16>=10,B16<=19),\"Низкий\")))","v":false}]
["Гнев",{"$f":"'Обработка результатов'!L12","v":0},{"$f":"IF(AND(B17>=21,B17<=40),\"Высокий\",IF(AND(B17>=14,B17<=20),\"Средний\",IF(AND(B17>=10,B17<=13),\"Низкий\")))","v":false}]

{"sheet":"1011м","index":5,"n_rows":17,"n_cols":5,"rows_kept":17,"cut":false,"hidden":true,"merged":[[0,0,2,0],[0,1,2,2],[0,3,1,4],[1,7,1,10],[3,0,5,0],[3,1,3,2],[3,5,3,6],[3,7,3,8],[3,9,3,10],[4,1,4,2],[1,11,1,14],[2,3,2,4],[2,5,2,6],[4,5,4,6],[4,7,4,8],[4,9,4,10],[4,11,4,12],[4,13,4,14],[2,7,2,8],[2,9,2,10],[2,11,2,12],[2,13,2,14],[3,11,3,12],[3,13,3,14],[5,13,5,14],[6,0,8,0],[6,1,6,2],[6,5,6,6],[6,7,6,8],[6,9,6,10],[6,11,6,12],[6,13,6,14],[7,1,7,2],[5,1,5,2],[5,5,5,6],[5,7,5,8],[5,9,5,10],[5,11,5,12],[7,5,7,6],[7,7,7,8],[7,9,7,10],[7,11,7,12],[7,13,7,14],[8,13,8,14],[9,0,11,0],[9,1,9,2],[9,5,9,6],[9,7,9,8],[9,9,9,10],[9,11,9,12],[9,13,9,14],[10,1,10,2],[8,1,8,2],[8,5,8,6],[8,7,8,8],[8,9,8,10],[8,11,8,12],[10,5,10,6],[10,7,10,8],[10,9,10,10],[10,11,10,12],[10,13,10,14],[11,13,11,14],[14,2,14,5],[15,2,15,5],[16,2,16,5],[11,1,11,2],[11,5,11,6],[11,7,11,8],[11,9,11,10],[11,11,11,12]]}
["Шкала","Уровень",null,"10 - 11 лет"]
[]
[null,null,null,"Мал.","Мал."]
["Познавательная активность","Высокий",null,28,40]
[null,"Средний",null,22,27]
[null,"Низкий",null,10,21]
["Тревожность","Высокий",null,24,40]
[null,"Средний",null,17,23]
[null,"Низкий",null,10,16]
["Гнев","Высокий",null,20,40]
[null,"Средний",null,13,19]
[null,"Низкий",null,10,12]
[]
[]
["Познавательная активность",{"$f":"'Обработка результатов'!L9","v":0},{"$f":"IF(AND(B15>=D4,B15<=E4),\"Высокий\",IF(AND(B15>=D5,B15<=E5),\"Средний\",IF(AND(B15>=D6,B15<=E6),\"Низкий\")))","v":false}]
["Тревожность",{"$f":"'Обработка результатов'!L11","v":0},{"$f":"IF(AND(B16>=D7,B16<=E7),\"Высокий\",IF(AND(B16>=D8,B16<=E8),\"Средний\",IF(AND(B16>=D9,B16<=E9),\"Низкий\")))","v":false}]
["Гнев",{"$f":"'Обработка результатов'!L12","v":0},{"$f":"IF(AND(B17>=D10,B17<=E10),\"Высокий\",IF(AND(B17>=D11,B17<=E11),\"Средний\",IF(AND(B17>=D12,B17<=E12),\"Низкий\")))","v":false}]

{"sheet":"1214д","index":6,"n_rows":17,"n_cols":5,"rows_kept":17,"cut":false,"hidden":true,"merged":[[2,5,2,6],[2,7,2,8],[2,9,2,10],[2,11,2,12],[2,13,2,14],[3,5,3,6],[3,7,3,8],[3,9,3,10],[5,1,5,2],[5,5,5,6],[5,7,5,8],[5,9,5,10],[3,11,3,12],[3,13,3,14],[4,1,4,2],[4,5,4,6],[0,0,2,0],[0,1,2,2],[0,3,1,4],[1,7,1,10],[1,11,1,14],[2,3,2,4],[4,7,4,8],[4,9,4,10],[4,11,4,12],[4,13,4,14],[3,0,5,0],[3,1,3,2],[5,11,5,12],[5,13,5,14],[6,13,6,14],[7,1,7,2],[7,5,7,6],[7,7,7,8],[7,9,7,10],[7,11,7,12],[7,13,7,14],[6,1,6,2],[6,5,6,6],[6,7,6,8],[6,9,6,10],[6,11,6,12],[8,11,8,12],[8,13,8,14],[9,0,11,0],[9,1,9,2],[9,5,9,6],[9,7,9,8],[9,9,9,10],[9,11,9,12],[9,13,9,14],[10,1,10,2],[6,0,8,0],[8,1,8,2],[8,5,8,6],[8,7,8,8],[8,9,8,10],[11,13,11,14],[14,2,14,5],[15,2,15,5],[16,2,16,5],[10,5,10,6],[10,7,10,8],[10,9,10,10],[10,11,10,12],[10,13,10,14],[11,1,11,2],[11,5,11,6],[11,7,11,8],[11,9,11,10],[11,11,11,12]]}
["Шкала","Уровень",null,"12 - 14 лет"]
[]
[null,null,null,"Дев.","Мал."]
["Познавательная активность","Высокий",null,28,40]
[null,"Средний",null,21,27]
[null,"Низкий",null,10,20]
["Тревожность","Высокий",null,25,40]
[null,"Средний",null,19,24]
[null,"Низкий",null,10,18]
["Гнев","Высокий",null,19,40]
[null,"Средний",null,14,19]
[null,"Низкий",null,10,13]
[]
[]
["Познавательная активность",{"$f":"'Обработка результатов'!L9","v":0},{"$f":"IF(AND(B15>=D4,B15<=E4),\"Высокий\",IF(AND(B15>=D5,B15<=E5),\"Средний\",IF(AND(B15>=D6,B15<=E6),\"Низкий\")))","v":false}]
["Тревожность",{"$f":"'Обработка результатов'!L11","v":0},{"$f":"IF(AND(B16>=D7,B16<=E7),\"Высокий\",IF(AND(B16>=D8,B16<=E8),\"Средний\",IF(AND(B16>=D9,B16<=E9),\"Низкий\")))","v":false}]
["Гнев",{"$f":"'Обработка результатов'!L12","v":0},{"$f":"IF(AND(B17>=D10,B17<=E10),\"Высокий\",IF(AND(B17>=D11,B17<=E11),\"Средний\",IF(AND(B17>=D12,B17<=E12),\"Низкий\")))","v":false}]

{"sheet":"1214м","index":7,"n_rows":17,"n_cols":5,"rows_kept":17,"cut":false,"hidden":true,"merged":[[0,0,2,0],[0,1,2,2],[0,3,1,4],[1,7,1,10],[1,11,1,14],[2,3,2,4],[2,5,2,6],[2,7,2,8],[2,9,2,10],[2,11,2,12],[2,13,2,14],[3,13,3,14],[4,1,4,2],[4,5,4,6],[4,7,4,8],[4,9,4,10],[4,11,4,12],[4,13,4,14],[3,1,3,2],[3,5,3,6],[3,7,3,8],[3,9,3,10],[3,11,3,12],[5,11,5,12],[5,13,5,14],[6,0,8,0],[6,1,6,2],[6,5,6,6],[6,7,6,8],[6,9,6,10],[6,11,6,12],[6,13,6,14],[7,1,7,2],[3,0,5,0],[5,1,5,2],[5,5,5,6],[5,7,5,8],[5,9,5,10],[7,5,7,6],[7,7,7,8],[7,9,7,10],[7,11,7,12],[7,13,7,14],[8,13,8,14],[9,0,11,0],[9,1,9,2],[9,5,9,6],[9,7,9,8],[9,9,9,10],[11,1,11,2],[11,5,11,6],[11,7,11,8],[11,9,11,10],[9,11,9,12],[9,13,9,14],[10,1,10,2],[10,5,10,6],[8,1,8,2],[8,5,8,6],[8,7,8,8],[8,9,8,10],[8,11,8,12],[10,11,10,12],[10,13,10,14],[10,7,10,8],[10,9,10,10],[11,11,11,12],[11,13,11,14],[14,2,14,5],[15,2,15,5],[16,2,16,5]]}
["Шкала","Уровень",null,"12 - 14 лет"]
[]
[null,null,null,"Мал.","Мал."]
["Познавательная активность","Высокий",null,27,40]
[null,"Средний",null,19,26]
[null,"Низкий",null,10,18]
["Тревожность","Высокий",null,26,40]
[null,"Средний",null,19,25]
[null,"Низкий",null,10,18]
["Гнев","Высокий",null,23,40]
[null,"Средний",null,15,22]
[null,"Низкий",null,10,14]
[]
[]
["Познавательная активность",{"$f":"'Обработка результатов'!L9","v":0},{"$f":"IF(AND(B15>=D4,B15<=E4),\"Высокий\",IF(AND(B15>=D5,B15<=E5),\"Средний\",IF(AND(B15>=D6,B15<=E6),\"Низкий\")))","v":false}]
["Тревожность",{"$f":"'Обработка результатов'!L11","v":0},{"$f":"IF(AND(B16>=D7,B16<=E7),\"Высокий\",IF(AND(B16>=D8,B16<=E8),\"Средний\",IF(AND(B16>=D9,B16<=E9),\"Низкий\")))","v":false}]
["Гнев",{"$f":"'Обработка результатов'!L12","v":0},{"$f":"IF(AND(B17>=D10,B17<=E10),\"Высокий\",IF(AND(B17>=D11,B17<=E11),\"Средний\",IF(AND(B17>=D12,B17<=E12),\"Низкий\")))","v":false}]

{"sheet":"1516д","index":8,"n_rows":17,"n_cols":5,"rows_kept":17,"cut":false,"hidden":true,"merged":[[2,5,2,6],[2,7,2,8],[2,9,2,10],[2,11,2,12],[2,13,2,14],[3,5,3,6],[3,7,3,8],[3,9,3,10],[5,1,5,2],[5,5,5,6],[5,7,5,8],[5,9,5,10],[3,11,3,12],[3,13,3,14],[4,1,4,2],[4,5,4,6],[0,0,2,0],[0,1,2,2],[0,3,1,4],[1,7,1,10],[1,11,1,14],[2,3,2,4],[4,7,4,8],[4,9,4,10],[4,11,4,12],[4,13,4,14],[3,0,5,0],[3,1,3,2],[5,11,5,12],[5,13,5,14],[6,13,6,14],[7,1,7,2],[7,5,7,6],[7,7,7,8],[7,9,7,10],[7,11,7,12],[7,13,7,14],[6,1,6,2],[6,5,6,6],[6,7,6,8],[6,9,6,10],[6,11,6,12],[8,11,8,12],[8,13,8,14],[9,0,11,0],[9,1,9,2],[9,5,9,6],[9,7,9,8],[9,9,9,10],[9,11,9,12],[9,13,9,14],[10,1,10,2],[6,0,8,0],[8,1,8,2],[8,5,8,6],[8,7,8,8],[8,9,8,10],[11,13,11,14],[14,2,14,5],[15,2,15,5],[16,2,16,5],[10,5,10,6],[10,7,10,8],[10,9,10,10],[10,11,10,12],[10,13,10,14],[11,1,11,2],[11,5,11,6],[11,7,11,8],[11,9,11,10],[11,11,11,12]]}
["Шкала","Уровень",null,"15 - 16 лет"]
[]
[null,null,null,"Дев.","Мал."]
["Познавательная активность","Высокий",null,29,40]
[null,"Средний",null,18,28]
[null,"Низкий",null,10,17]
["Тревожность","Высокий",null,25,40]
[null,"Средний",null,17,24]
[null,"Низкий",null,10,16]
["Гнев","Высокий",null,21,40]
[null,"Средний",null,14,20]
[null,"Низкий",null,10,13]
[]
[]
["Познавательная активность",{"$f":"'Обработка результатов'!L9","v":0},{"$f":"IF(AND(B15>=D4,B15<=E4),\"Высокий\",IF(AND(B15>=D5,B15<=E5),\"Средний\",IF(AND(B15>=D6,B15<=E6),\"Низкий\")))","v":false}]
["Тревожность",{"$f":"'Обработка результатов'!L11","v":0},{"$f":"IF(AND(B16>=D7,B16<=E7),\"Высокий\",IF(AND(B16>=D8,B16<=E8),\"Средний\",IF(AND(B16>=D9,B16<=E9),\"Низкий\")))","v":false}]
["Гнев",{"$f":"'Обработка результатов'!L12","v":0},{"$f":"IF(AND(B17>=D10,B17<=E10),\"Высокий\",IF(AND(B17>=D11,B17<=E11),\"Средний\",IF(AND(B17>=D12,B17<=E12),\"Низкий\")))","v":false}]

{"sheet":"1516м","index":9,"n_rows":17,"n_cols":5,"rows_kept":17,"cut":false,"hidden":true,"merged":[[2,5,2,6],[2,7,2,8],[2,9,2,10],[2,11,2,12],[2,13,2,14],[3,5,3,6],[3,7,3,8],[3,9,3,10],[5,1,5,2],[5,5,5,6],[5,7,5,8],[5,9,5,10],[3,11,3,12],[3,13,3,14],[4,1,4,2],[4,5,4,6],[0,0,2,0],[0,1,2,2],[0,3,1,4],[1,7,1,10],[1,11,1,14],[2,3,2,4],[4,7,4,8],[4,9,4,10],[4,11,4,12],[4,13,4,14],[3,0,5,0],[3,1,3,2],[5,11,5,12],[5,13,5,14],[6,13,6,14],[7,1,7,2],[7,5,7,6],[7,7,7,8],[7,9,7,10],[7,11,7,12],[7,13,7,14],[6,1,6,2],[6,5,6,6],[6,7,6,8],[6,9,6,10],[6,11,6,12],[8,11,8,12],[8,13,8,14],[9,0,11,0],[9,1,9,2],[9,5,9,6],[9,7,9,8],[9,9,9,10],[9,11,9,12],[9,13,9,14],[10,1,10,2],[6,0,8,0],[8,1,8,2],[8,5,8,6],[8,7,8,8],[8,9,8,10],[11,13,11,14],[14,2,14,5],[15,2,15,5],[16,2,16,5],[10,5,10,6],[10,7,10,8],[10,9,10,10],[10,11,10,12],[10,13,10,14],[11,1,11,2],[11,5,11,6],[11,7,11,8],[11,9,11,10],[11,11,11,12]]}
["Шкала","Уровень",null,"15 - 16 лет"]
[]
[null,null,null,"Мал.","Мал."]
["Познавательная активность","Высокий",null,31,40]
[null,"Средний",null,21,29]
[null,"Низкий",null,10,20]
["Тревожность","Высокий",null,23,40]
[null,"Средний",null,16,22]
[null,"Низкий",null,10,15]
["Гнев","Высокий",null,18,40]
[null,"Средний",null,12,18]
[null,"Низкий",null,10,11]
[]
[]
["Познавательная активность",{"$f":"'Обработка результатов'!L9","v":0},{"$f":"IF(AND(B15>=D4,B15<=E4),\"Высокий\",IF(AND(B15>=D5,B15<=E5),\"Средний\",IF(AND(B15>=D6,B15<=E6),\"Низкий\")))","v":false}]
["Тревожность",{"$f":"'Обработка результатов'!L11","v":0},{"$f":"IF(AND(B16>=D7,B16<=E7),\"Высокий\",IF(AND(B16>=D8,B16<=E8),\"Средний\",IF(AND(B16>=D9,B16<=E9),\"Низкий\")))","v":false}]
["Гнев",{"$f":"'Обработка результатов'!L12","v":0},{"$f":"IF(AND(B17>=D10,B17<=E10),\"Высокий\",IF(AND(B17>=D11,B17<=E11),\"Средний\",IF(AND(B17>=D12,B17<=E12),\"Низкий\")))","v":false}]