{"text_format":"1","workbook":"xlsx","n_sheets":5,"sheets":["Часть 1","Часть 2","Обработка результатов","Результаты","Результаты с расшифровкой"],"not_rendered":{"charts":0,"images":2,"macros":1,"external_links":0,"defined_names":0,"comments":0,"pivot_tables":0},"unopened":[],"bounds":{"document_bytes":16777216,"sheet_cells":100000,"rows_first":2000,"rows_last":500,"rows_between":2000,"halvings":0,"cell_chars":16384,"cell_head_chars":4096},"cells_cut":0,"cells_raw":0,"read":"whole","date_system":"1900"}

{"sheet":"Часть 1","index":0,"n_rows":54,"n_cols":34,"rows_kept":54,"cut":false,"hidden":false,"merged":[[29,1,29,12],[23,1,23,12],[24,1,24,12],[21,13,21,15],[22,13,22,15],[23,13,23,15],[24,13,24,15],[29,13,29,15],[25,13,25,15],[26,13,26,15],[27,13,27,15],[28,13,28,15],[25,1,25,12],[26,1,26,12],[27,1,27,12],[28,1,28,12],[45,1,45,12],[1,0,1,2],[30,1,30,12],[31,1,31,12],[32,1,32,12],[33,1,33,12],[34,1,34,12],[18,1,18,12],[19,1,19,12],[20,1,20,12],[21,1,21,12],[22,1,22,12],[13,1,13,12],[14,1,14,12],[15,1,15,12],[16,1,16,12],[17,1,17,12],[8,1,8,12],[9,1,9,12],[10,1,10,12],[11,1,11,12],[12,1,12,12],[35,1,35,12],[36,1,36,12],[37,1,37,12],[38,1,38,12],[39,1,39,12],[40,1,40,12],[41,1,41,12],[42,1,42,12],[43,1,43,12],[44,1,44,12],[46,1,46,12],[47,1,47,12],[48,1,48,12],[49,1,49,12],[50,1,50,12],[51,1,51,12],[52,1,52,12],[53,1,53,12],[8,13,8,15],[9,13,9,15],[10,13,10,15],[11,13,11,15],[12,13,12,15],[13,13,13,15],[14,13,14,15],[15,13,15,15],[16,13,16,15],[17,13,17,15],[18,13,18,15],[19,13,19,15],[20,13,20,15],[30,13,30,15],[39,13,39,15],[40,13,40,15],[41,13,41,15],[32,13,32,15],[33,13,33,15],[34,13,34,15],[35,13,35,15],[36,13,36,15],[31,13,31,15],[52,13,52,15],[53,13,53,15],[3,0,6,15],[1,3,1,15],[47,13,47,15],[48,13,48,15],[49,13,49,15],[50,13,50,15],[51,13,51,15],[42,13,42,15],[43,13,43,15],[44,13,44,15],[45,13,45,15],[46,13,46,15],[37,13,37,15],[38,13,38,15]]}
[null,null,null,null,null,null,null,null,null,null,null,null,null,null,null,null,null,null,null,null,null,null,null,null,null,null,null,null,null,null,null,null,10,"5 А"]
["Фамилия, имя",null,null,null,null,null,null,null,null,null,null,null,null,null,null,null,null,null,null,null,null,null,null,null,null,null,null,null,null,null,null,null,11,"5 Б"]
[null,null,null,null,null,null,null,null,null,null,null,null,null,null,null,null,null,null,null,null,null,null,null,null,null,null,null,null,null,null,null,null,13]
["Прочитайте, пожалуйста, приведенные ниже суждения выберите вариант, который в наибольшей степени совпадает с Вашим мнением с помощью оценок «Да» или «Нет».",null,null,null,null,null,null,null,null,null,null,null,null,null,null,null,null,null,null,null,null,null,null,null,null,null,null,null,null,null,null,"Мальчик",14]
[null,null,null,null,null,null,null,null,null,null,null,null,null,null,null,null,null,null,null,null,null,null,null,null,null,null,null,null,null,null,null,"Девочка",15]
[null,null,null,null,null,null,null,null,null,null,null,null,null,null,null,null,null,null,null,null,null,null,null,null,null,null,null,null,null,null,null,null,16]
[]
[]
[1,"В трудной ситуации (проблемы, неприятности) я фантазирую о том, что все могло быть иначе.",null,null,null,null,null,null,null,null,null,null,null,null,null,null,null,null,null,"полностью совпадает"]
[2,"Я люблю все новое и неизвестное.",null,null,null,null,null,null,null,null,null,null,null,null,null,null,null,null,null,"частично совпадает"]
[3,"Я могу сказать одно, а сделать совсем другое.",null,null,null,null,null,null,null,null,null,null,null,null,null,null,null,null,null,"очень мало"]
[4,"В трудной ситуации (проблемы, неприятности) я стараюсь наилучшим образом решить проблему.",null,null,null,null,null,null,null,null,null,null,null,null,null,null,null,null,null,"полностью не совпадает"]
[5,"Если я чего-то захочу, меня трудно удержать."]
[6,"Интернет отнимает у меня больше времени, чем мне бы хотелось."]
[7,"Поскольку все спланировать невозможно, то не стоит и пытаться."]
[8,"Я никогда не обманывал."]
[9,"В трудной ситуации (проблемы, неприятности) я больше времени, чем обычно, провожу один."]
[10,"Мне трудно надолго на чем-то сосредоточиться."]
[11,"Иногда из-за Интернета я забываю вовремя поесть или сделать важные дела."]
[12,"Мне легко сказать одно, а сделать совсем другое."]
[13,"Правила можно нарушать, если ты уверен, что прав."]
[14,"Мне сложно доводить начатое дело до конца (учебу, домашние обязанности)."]
[15,"Я легко мог бы прожить без Интернета."]
[16,"В трудной ситуации (проблемы, неприятности) я тщательно обдумываю, что можно сделать и только потом действую."]
[17,"Я люблю проводить время дома."]
[18,"Мобильный телефон мне очень нужен, когда приходится долго ждать или просто нечего делать."]
[19,"Я все рассказываю родителям."]
[20,"Я бы хотел попробовать прыгнуть с парашютом или на тарзанке."]
[21,"В трудной ситуации (проблемы, неприятности) я иду к другу, чтобы он помог мне лучше осознать проблему."]
[22,"Я всегда смогу себя контролировать."]
[23,"От любых проблем можно отвлечься в веселой компании."]
[24,"Я не думаю о последствиях перед тем, как сделать что-нибудь."]
[25,"Я никогда не списывал."]
[26,"Я часто бываю невнимательным (-ой)."]
[27,"В трудной ситуации (проблемы, неприятности) я представляю себя героем книг или кино."]
[28,"У меня возникает чувство беспокойства, когда ситуация как-то меняется."]
[29,"В трудной ситуации (проблемы, неприятности) я обращаюсь к товарищу за советом - как исправить ситуацию."]
[30,"Если что-то не клеится, у меня появляется желание бросить это дело."]
[31,"Я охотно перешел (-ла) бы в другую школу"]
[32,"В трудной ситуации (проблемы, неприятности) я принимаю помощь от друга или родственника."]
[33,"Я легко переношу одиночество."]
[34,"Мое настроение часто и быстро меняется."]
[35,"Я не представляю своей жизни без Интернета."]
[36,"Если у меня долго нет доступа в Интернет, то меня это раздражает."]
[37,"Мне нравится проводить время дома"]
[38,"Мне нравится испытывать себя в разных ситуациях."]
[39,"Если я забыл телефон дома, мне некомфортно, я немного нервничаю."]
[40,"Я все люблю делать по-своему."]
[41,"Я люблю перемены в жизни, смену обстановки и образа жизни."]
[42,"В трудной ситуации (проблемы, неприятности) я принимаю сочувствие, взаимное понимание друзей, у которых та же проблема."]
[43,"Если я чем-то увлекся, то могу забыть время."]
[44,"Как правило, когда я ем что-нибудь вкусное, то не останавливаюсь, пока все не съем."]
[45,"Взрослые лучше знают, как правильно поступать."]
[46,"Я всегда соблюдаю правила при переходе улицы."]

{"sheet":"Часть 2","index":1,"n_rows":15,"n_cols":33,"rows_kept":15,"cut":false,"hidden":false,"merged":[[1,0,4,15],[8,1,8,12],[8,13,8,15],[9,1,9,12],[9,13,9,15],[6,0,6,10],[6,11,6,15],[13,1,13,12],[13,13,13,15],[14,1,14,12],[14,13,14,15],[10,1,10,12],[10,13,10,15],[11,1,11,12],[11,13,11,15],[12,1,12,12],[12,13,12,15]]}
[null,null,null,null,null,null,null,null,null,null,null,null,null,null,null,null,null,null,null,null,null,null,null,null,null,null,null,null,null,null,null,null,13]
["Прочитайте, пожалуйста, приведенные ниже суждения и выберите вариант, который в большей степени совпадает с оценкой ваших отношений с мамой. Если Вы живете не с мамой или у Вас нет мамы, выберите, пожалуйста, наиболее близкого воспитывающего Вас человека из своего окружения. ",null,null,null,null,null,null,null,null,null,null,null,null,null,null,null,null,null,null,null,null,null,null,null,null,null,null,null,null,null,null,"Мальчик",14]
[null,null,null,null,null,null,null,null,null,null,null,null,null,null,null,null,null,null,null,null,null,null,null,null,null,null,null,null,null,null,null,"Девочка",15]
[null,null,null,null,null,null,null,null,null,null,null,null,null,null,null,null,null,null,null,null,null,null,null,null,null,null,null,null,null,null,null,null,16]
[]
[]
["Я буду отвечать про отношения с (например, папой, старшей сестрой, бабушкой и т.п.)"]
[]
[1,"Приветлива(-в) и доброжелательна(-ен) со мной",null,null,null,null,null,null,null,null,null,null,null,null,null,null,null,null,null,"почти всегда"]
[2,"Я нравлюсь ей(ему) таким (-ой), какой (-ая), я есть.",null,null,null,null,null,null,null,null,null,null,null,null,null,null,null,null,null,"часто"]
[3,"Прощает мои мелкие проступки.",null,null,null,null,null,null,null,null,null,null,null,null,null,null,null,null,null,"редко"]
[4,"С уважением относится к моим мыслям и чувствам.",null,null,null,null,null,null,null,null,null,null,null,null,null,null,null,null,null,"почти никогда"]
[5,"Умеет поддержать меня в трудную минуту."]
[6,"Выслушивает мои пожелания и предложения, когда мы делаем что-то вместе."]
[7,"Уважает мое мнение и считается с ним."]

{"sheet":"Обработка результатов","index":2,"n_rows":53,"n_cols":39,"rows_kept":53,"cut":false,"hidden":true,"merged":[[0,35,0,36],[0,22,0,24],[0,25,0,27],[0,28,0,29],[0,30,0,32],[0,33,0,34],[0,15,0,18],[0,19,0,21],[0,3,0,4],[0,0,0,1],[0,6,0,8],[0,9,0,11],[0,12,0,14]]}
["Часть 1",null,null,"Часть2",null,null,"Шкала крайних ответов",null,null,"Шкала случайных ответов",null,null,"Шкала социальной желательности",null,null,"Шкала склонности к зависимости",null,null,null,"Шкала антисоциальных тенденций",null,null,"Шкала возможностей произвольной регуляции",null,null,"Шкала контроля эмоций",null,null,"Шкала рискованного поведения",null,"Шкала поиска новизны",null,null,"Совладение - разрешение проблемы",null,"Совладение - избегание",null,"Совладение - поиск социальной поддержки","Шкала взаимопонимания в детско-родительских отношениях"]
["полностью совпадает",{"$f":"SUMIF(B8:B53,1)","v":0},null,"почти всегда",{"$f":"SUMIF(E8:E14,1)","v":0},null,1,{"$f":"IF('Часть 1'!N9='Часть 1'!$T$9,4,IF('Часть 1'!N9='Часть 1'!$T$10,3,IF('Часть 1'!N9='Часть 1'!$T$11,2,IF('Часть 1'!N9='Часть 1'!$T$12,1,0))))","v":0},{"$f":"SUM(H15,H23,H31,H37)","v":0},1,{"$f":"IF('Часть 1'!N9='Часть 1'!$T$9,4,IF('Часть 1'!N9='Часть 1'!$T$10,3,IF('Часть 1'!N9='Часть 1'!$T$11,2,IF('Часть 1'!N9='Часть 1'!$T$12,1,0))))","v":0},{"$f":"ABS(K4-K13)","v":0},1,{"$f":"IF('Часть 1'!N9='Часть 1'!$T$9,4,IF('Часть 1'!N9='Часть 1'!$T$10,3,IF('Часть 1'!N9='Часть 1'!$T$11,2,IF('Часть 1'!N9='Часть 1'!$T$12,1,0))))","v":0},{"$f":"IF(N4=4,1,IF(N4=3,2,IF(N4=2,3,IF(N4=1,4))))","v":false},1,{"$f":"IF('Часть 1'!N9='Часть 1'!$T$9,4,IF('Часть 1'!N9='Часть 1'!$T$10,3,IF('Часть 1'!N9='Часть 1'!$T$11,2,IF('Часть 1'!N9='Часть 1'!$T$12,1,0))))","v":0},{"$f":"Q12","v":0},null,1,{"$f":"IF('Часть 1'!N9='Часть 1'!$T$9,4,IF('Часть 1'!N9='Часть 1'!$T$10,3,IF('Часть 1'!N9='Часть 1'!$T$11,2,IF('Часть 1'!N9='Часть 1'!$T$12,1,0))))","v":0},{"$f":"U14","v":0},1,{"$f":"IF('Часть 1'!N9='Часть 1'!$T$9,4,IF('Часть 1'!N9='Часть 1'!$T$10,3,IF('Часть 1'!N9='Часть 1'!$T$11,2,IF('Часть 1'!N9='Часть 1'!$T$12,1,0))))","v":0},{"$f":"X8","v":0},1,{"$f":"IF('Часть 1'!N9='Часть 1'!$T$9,4,IF('Часть 1'!N9='Часть 1'!$T$10,3,IF('Часть 1'!N9='Часть 1'!$T$11,2,IF('Часть 1'!N9='Часть 1'!$T$12,1,0))))","v":0},{"$f":"IF(AA27=4,1,IF(AA27=3,2,IF(AA27=2,3,IF(AA27=1,4))))","v":false},{"$f":"AA39","v":0},null,{"$f":"AA3","v":0},null,null,{"$f":"AA5","v":0},null,{"$f":"AA2","v":0},null,{"$f":"AA22","v":0},{"$f":"AVERAGE(E8:E14)","v":0}]
["частично совпадает",{"$f":"SUMIF(B8:B53,2)","v":0},null,"часто",{"$f":"SUMIF(E8:E14,2)","v":0},null,2,{"$f":"IF('Часть 1'!N10='Часть 1'!$T$9,4,IF('Часть 1'!N10='Часть 1'!$T$10,3,IF('Часть 1'!N10='Часть 1'!$T$11,2,IF('Часть 1'!N10='Часть 1'!$T$12,1,0))))","v":0},null,2,{"$f":"IF('Часть 1'!N10='Часть 1'!$T$9,4,IF('Часть 1'!N10='Часть 1'!$T$10,3,IF('Часть 1'!N10='Часть 1'!$T$11,2,IF('Часть 1'!N10='Часть 1'!$T$12,1,0))))","v":0},{"$f":"ABS(K18-K38)","v":0},2,{"$f":"IF('Часть 1'!N10='Часть 1'!$T$9,4,IF('Часть 1'!N10='Часть 1'!$T$10,3,IF('Часть 1'!N10='Часть 1'!$T$11,2,IF('Часть 1'!N10='Часть 1'!$T$12,1,0))))","v":0},{"$f":"N9","v":0},2,{"$f":"IF('Часть 1'!N10='Часть 1'!$T$9,4,IF('Часть 1'!N10='Часть 1'!$T$10,3,IF('Часть 1'!N10='Часть 1'!$T$11,2,IF('Часть 1'!N10='Часть 1'!$T$12,1,0))))","v":0},{"$f":"IF(Q16=4,1,IF(Q16=3,2,IF(Q16=2,3,IF(Q16=1,4))))","v":false},null,2,{"$f":"IF('Часть 1'!N10='Часть 1'!$T$9,4,IF('Часть 1'!N10='Часть 1'!$T$10,3,IF('Часть 1'!N10='Часть 1'!$T$11,2,IF('Часть 1'!N10='Часть 1'!$T$12,1,0))))","v":0},{"$f":"IF(U18=4,1,IF(U18=3,2,IF(U18=2,3,IF(U18=1,4))))","v":false},2,{"$f":"IF('Часть 1'!N10='Часть 1'!$T$9,4,IF('Часть 1'!N10='Часть 1'!$T$10,3,IF('Часть 1'!N10='Часть 1'!$T$11,2,IF('Часть 1'!N10='Часть 1'!$T$12,1,0))))","v":0},{"$f":"X11","v":0},2,{"$f":"IF('Часть 1'!N10='Часть 1'!$T$9,4,IF('Часть 1'!N10='Часть 1'!$T$10,3,IF('Часть 1'!N10='Часть 1'!$T$11,2,IF('Часть 1'!N10='Часть 1'!$T$12,1,0))))","v":0},{"$f":"IF(AA35=4,1,IF(AA35=3,2,IF(AA35=2,3,IF(AA35=1,4))))","v":false},null,null,{"$f":"AA6","v":0},null,null,{"$f":"AA17","v":0},null,{"$f":"AA10","v":0},null,{"$f":"AA30","v":0}]
["очень мало",{"$f":"SUMIF(B8:B53,3)","v":0},null,"редко",{"$f":"SUMIF(E8:E14,3)","v":0},null,3,{"$f":"IF('Часть 1'!N11='Часть 1'!$T$9,4,IF('Часть 1'!N11='Часть 1'!$T$10,3,IF('Часть 1'!N11='Часть 1'!$T$11,2,IF('Часть 1'!N11='Часть 1'!$T$12,1,0))))","v":0},null,3,{"$f":"IF('Часть 1'!N11='Часть 1'!$T$9,4,IF('Часть 1'!N11='Часть 1'!$T$10,3,IF('Часть 1'!N11='Часть 1'!$T$11,2,IF('Часть 1'!N11='Часть 1'!$T$12,1,0))))","v":0},{"$f":"IF(AND(L2>2,L3>2),\"Случайные ответы\",\"Нет\")","v":"Нет"},3,{"$f":"IF('Часть 1'!N11='Часть 1'!$T$9,4,IF('Часть 1'!N11='Часть 1'!$T$10,3,IF('Часть 1'!N11='Часть 1'!$T$11,2,IF('Часть 1'!N11='Часть 1'!$T$12,1,0))))","v":0},{"$f":"N20","v":0},3,{"$f":"IF('Часть 1'!N11='Часть 1'!$T$9,4,IF('Часть 1'!N11='Часть 1'!$T$10,3,IF('Часть 1'!N11='Часть 1'!$T$11,2,IF('Часть 1'!N11='Часть 1'!$T$12,1,0))))","v":0},{"$f":"Q19","v":0},null,3,{"$f":"IF('Часть 1'!N11='Часть 1'!$T$9,4,IF('Часть 1'!N11='Часть 1'!$T$10,3,IF('Часть 1'!N11='Часть 1'!$T$11,2,IF('Часть 1'!N11='Часть 1'!$T$12,1,0))))","v":0},{"$f":"(V2+V3)/2","v":0},3,{"$f":"IF('Часть 1'!N11='Часть 1'!$T$9,4,IF('Часть 1'!N11='Часть 1'!$T$10,3,IF('Часть 1'!N11='Часть 1'!$T$11,2,IF('Часть 1'!N11='Часть 1'!$T$12,1,0))))","v":0},{"$f":"X25","v":0},3,{"$f":"IF('Часть 1'!N11='Часть 1'!$T$9,4,IF('Часть 1'!N11='Часть 1'!$T$10,3,IF('Часть 1'!N11='Часть 1'!$T$11,2,IF('Часть 1'!N11='Часть 1'!$T$12,1,0))))","v":0},{"$f":"IF(AA44=4,1,IF(AA44=3,2,IF(AA44=2,3,IF(AA44=1,4))))","v":false},null,null,{"$f":"AA42","v":0},null,null,{"$f":"AVERAGE(AH2:AH3)","v":0},null,{"$f":"AA28","v":0},null,{"$f":"AA43","v":0}]
["полностью не совпадает",{"$f":"SUMIF(B8:B53,4)","v":0},null,"почти никогда",{"$f":"SUMIF(E8:E14,4)","v":0},null,4,{"$f":"IF('Часть 1'!N12='Часть 1'!$T$9,4,IF('Часть 1'!N12='Часть 1'!$T$10,3,IF('Часть 1'!N12='Часть 1'!$T$11,2,IF('Часть 1'!N12='Часть 1'!$T$12,1,0))))","v":0},null,4,{"$f":"IF('Часть 1'!N12='Часть 1'!$T$9,4,IF('Часть 1'!N12='Часть 1'!$T$10,3,IF('Часть 1'!N12='Часть 1'!$T$11,2,IF('Часть 1'!N12='Часть 1'!$T$12,1,0))))","v":0},null,4,{"$f":"IF('Часть 1'!N12='Часть 1'!$T$9,4,IF('Часть 1'!N12='Часть 1'!$T$10,3,IF('Часть 1'!N12='Часть 1'!$T$11,2,IF('Часть 1'!N12='Часть 1'!$T$12,1,0))))","v":0},{"$f":"N26","v":0},4,{"$f":"IF('Часть 1'!N12='Часть 1'!$T$9,4,IF('Часть 1'!N12='Часть 1'!$T$10,3,IF('Часть 1'!N12='Часть 1'!$T$11,2,IF('Часть 1'!N12='Часть 1'!$T$12,1,0))))","v":0},{"$f":"Q34","v":0},null,4,{"$f":"IF('Часть 1'!N12='Часть 1'!$T$9,4,IF('Часть 1'!N12='Часть 1'!$T$10,3,IF('Часть 1'!N12='Часть 1'!$T$11,2,IF('Часть 1'!N12='Часть 1'!$T$12,1,0))))","v":0},null,4,{"$f":"IF('Часть 1'!N12='Часть 1'!$T$9,4,IF('Часть 1'!N12='Часть 1'!$T$10,3,IF('Часть 1'!N12='Часть 1'!$T$11,2,IF('Часть 1'!N12='Часть 1'!$T$12,1,0))))","v":0},null,4,{"$f":"IF('Часть 1'!N12='Часть 1'!$T$9,4,IF('Часть 1'!N12='Часть 1'!$T$10,3,IF('Часть 1'!N12='Часть 1'!$T$11,2,IF('Часть 1'!N12='Часть 1'!$T$12,1,0))))","v":0},{"$f":"SUM(AB2:AB4)/3","v":0},null,null,{"$f":"SUM(AE2:AE4)/3","v":0},null,null,null,null,{"$f":"AVERAGE(AJ2:AJ4)","v":0},null,{"$f":"AA33","v":0}]
[null,null,null,null,null,null,5,{"$f":"IF('Часть 1'!N13='Часть 1'!$T$9,4,IF('Часть 1'!N13='Часть 1'!$T$10,3,IF('Часть 1'!N13='Часть 1'!$T$11,2,IF('Часть 1'!N13='Часть 1'!$T$12,1,0))))","v":0},null,5,{"$f":"IF('Часть 1'!N13='Часть 1'!$T$9,4,IF('Часть 1'!N13='Часть 1'!$T$10,3,IF('Часть 1'!N13='Часть 1'!$T$11,2,IF('Часть 1'!N13='Часть 1'!$T$12,1,0))))","v":0},null,5,{"$f":"IF('Часть 1'!N13='Часть 1'!$T$9,4,IF('Часть 1'!N13='Часть 1'!$T$10,3,IF('Часть 1'!N13='Часть 1'!$T$11,2,IF('Часть 1'!N13='Часть 1'!$T$12,1,0))))","v":0},{"$f":"N47","v":0},5,{"$f":"IF('Часть 1'!N13='Часть 1'!$T$9,4,IF('Часть 1'!N13='Часть 1'!$T$10,3,IF('Часть 1'!N13='Часть 1'!$T$11,2,IF('Часть 1'!N13='Часть 1'!$T$12,1,0))))","v":0},{"$f":"Q37","v":0},null,5,{"$f":"IF('Часть 1'!N13='Часть 1'!$T$9,4,IF('Часть 1'!N13='Часть 1'!$T$10,3,IF('Часть 1'!N13='Часть 1'!$T$11,2,IF('Часть 1'!N13='Часть 1'!$T$12,1,0))))","v":0},null,5,{"$f":"IF('Часть 1'!N13='Часть 1'!$T$9,4,IF('Часть 1'!N13='Часть 1'!$T$10,3,IF('Часть 1'!N13='Часть 1'!$T$11,2,IF('Часть 1'!N13='Часть 1'!$T$12,1,0))))","v":0},null,5,{"$f":"IF('Часть 1'!N13='Часть 1'!$T$9,4,IF('Часть 1'!N13='Часть 1'!$T$10,3,IF('Часть 1'!N13='Часть 1'!$T$11,2,IF('Часть 1'!N13='Часть 1'!$T$12,1,0))))","v":0},null,null,null,null,null,null,null,null,null,null,{"$f":"AVERAGE(AL2:AL5)","v":0}]
[null,null,null,null,null,null,6,{"$f":"IF('Часть 1'!N14='Часть 1'!$T$9,4,IF('Часть 1'!N14='Часть 1'!$T$10,3,IF('Часть 1'!N14='Часть 1'!$T$11,2,IF('Часть 1'!N14='Часть 1'!$T$12,1,0))))","v":0},null,6,{"$f":"IF('Часть 1'!N14='Часть 1'!$T$9,4,IF('Часть 1'!N14='Часть 1'!$T$10,3,IF('Часть 1'!N14='Часть 1'!$T$11,2,IF('Часть 1'!N14='Часть 1'!$T$12,1,0))))","v":0},null,6,{"$f":"IF('Часть 1'!N14='Часть 1'!$T$9,4,IF('Часть 1'!N14='Часть 1'!$T$10,3,IF('Часть 1'!N14='Часть 1'!$T$11,2,IF('Часть 1'!N14='Часть 1'!$T$12,1,0))))","v":0},{"$f":"SUM(O2:O6)/5","v":0},6,{"$f":"IF('Часть 1'!N14='Часть 1'!$T$9,4,IF('Часть 1'!N14='Часть 1'!$T$10,3,IF('Часть 1'!N14='Часть 1'!$T$11,2,IF('Часть 1'!N14='Часть 1'!$T$12,1,0))))","v":0},{"$f":"Q40","v":0},null,6,{"$f":"IF('Часть 1'!N14='Часть 1'!$T$9,4,IF('Часть 1'!N14='Часть 1'!$T$10,3,IF('Часть 1'!N14='Часть 1'!$T$11,2,IF('Часть 1'!N14='Часть 1'!$T$12,1,0))))","v":0},null,6,{"$f":"IF('Часть 1'!N14='Часть 1'!$T$9,4,IF('Часть 1'!N14='Часть 1'!$T$10,3,IF('Часть 1'!N14='Часть 1'!$T$11,2,IF('Часть 1'!N14='Часть 1'!$T$12,1,0))))","v":0},{"$f":"SUM(Y2:Y4)/3","v":0},6,{"$f":"IF('Часть 1'!N14='Часть 1'!$T$9,4,IF('Часть 1'!N14='Часть 1'!$T$10,3,IF('Часть 1'!N14='Часть 1'!$T$11,2,IF('Часть 1'!N14='Часть 1'!$T$12,1,0))))","v":0}]
[1,{"$f":"IF('Часть 1'!N9='Часть 1'!$T$9,4,IF('Часть 1'!N9='Часть 1'!$T$10,3,IF('Часть 1'!N9='Часть 1'!$T$11,2,IF('Часть 1'!N9='Часть 1'!$T$12,1,0))))","v":0},null,1,{"$f":"IF('Часть 2'!N9='Часть 2'!$T$9,1,IF('Часть 2'!N9='Часть 2'!$T$10,2,IF('Часть 2'!N9='Часть 2'!$T$11,3,IF('Часть 2'!N9='Часть 2'!$T$12,4,))))","v":0},null,7,{"$f":"IF('Часть 1'!N15='Часть 1'!$T$9,4,IF('Часть 1'!N15='Часть 1'!$T$10,3,IF('Часть 1'!N15='Часть 1'!$T$11,2,IF('Часть 1'!N15='Часть 1'!$T$12,1,0))))","v":0},null,7,{"$f":"IF('Часть 1'!N15='Часть 1'!$T$9,4,IF('Часть 1'!N15='Часть 1'!$T$10,3,IF('Часть 1'!N15='Часть 1'!$T$11,2,IF('Часть 1'!N15='Часть 1'!$T$12,1,0))))","v":0},null,7,{"$f":"IF('Часть 1'!N15='Часть 1'!$T$9,4,IF('Часть 1'!N15='Часть 1'!$T$10,3,IF('Часть 1'!N15='Часть 1'!$T$11,2,IF('Часть 1'!N15='Часть 1'!$T$12,1,0))))","v":0},null,7,{"$f":"IF('Часть 1'!N15='Часть 1'!$T$9,4,IF('Часть 1'!N15='Часть 1'!$T$10,3,IF('Часть 1'!N15='Часть 1'!$T$11,2,IF('Часть 1'!N15='Часть 1'!$T$12,1,0))))","v":0},{"$f":"SUM(R2:R7)/6","v":0},null,7,{"$f":"IF('Часть 1'!N15='Часть 1'!$T$9,4,IF('Часть 1'!N15='Часть 1'!$T$10,3,IF('Часть 1'!N15='Часть 1'!$T$11,2,IF('Часть 1'!N15='Часть 1'!$T$12,1,0))))","v":0},null,7,{"$f":"IF('Часть 1'!N15='Часть 1'!$T$9,4,IF('Часть 1'!N15='Часть 1'!$T$10,3,IF('Часть 1'!N15='Часть 1'!$T$11,2,IF('Часть 1'!N15='Часть 1'!$T$12,1,0))))","v":0},null,7,{"$f":"IF('Часть 1'!N15='Часть 1'!$T$9,4,IF('Часть 1'!N15='Часть 1'!$T$10,3,IF('Часть 1'!N15='Часть 1'!$T$11,2,IF('Часть 1'!N15='Часть 1'!$T$12,1,0))))","v":0}]
[2,{"$f":"IF('Часть 1'!N10='Часть 1'!$T$9,4,IF('Часть 1'!N10='Часть 1'!$T$10,3,IF('Часть 1'!N10='Часть 1'!$T$11,2,IF('Часть 1'!N10='Часть 1'!$T$12,1,0))))","v":0},null,2,{"$f":"IF('Часть 2'!N10='Часть 2'!$T$9,1,IF('Часть 2'!N10='Часть 2'!$T$10,2,IF('Часть 2'!N10='Часть 2'!$T$11,3,IF('Часть 2'!N10='Часть 2'!$T$12,4,))))","v":0},null,8,{"$f":"IF('Часть 1'!N16='Часть 1'!$T$9,4,IF('Часть 1'!N16='Часть 1'!$T$10,3,IF('Часть 1'!N16='Часть 1'!$T$11,2,IF('Часть 1'!N16='Часть 1'!$T$12,1,0))))","v":0},null,8,{"$f":"IF('Часть 1'!N16='Часть 1'!$T$9,4,IF('Часть 1'!N16='Часть 1'!$T$10,3,IF('Часть 1'!N16='Часть 1'!$T$11,2,IF('Часть 1'!N16='Часть 1'!$T$12,1,0))))","v":0},null,8,{"$f":"IF('Часть 1'!N16='Часть 1'!$T$9,4,IF('Часть 1'!N16='Часть 1'!$T$10,3,IF('Часть 1'!N16='Часть 1'!$T$11,2,IF('Часть 1'!N16='Часть 1'!$T$12,1,0))))","v":0},null,8,{"$f":"IF('Часть 1'!N16='Часть 1'!$T$9,4,IF('Часть 1'!N16='Часть 1'!$T$10,3,IF('Часть 1'!N16='Часть 1'!$T$11,2,IF('Часть 1'!N16='Часть 1'!$T$12,1,0))))","v":0},null,null,8,{"$f":"IF('Часть 1'!N16='Часть 1'!$T$9,4,IF('Часть 1'!N16='Часть 1'!$T$10,3,IF('Часть 1'!N16='Часть 1'!$T$11,2,IF('Часть 1'!N16='Часть 1'!$T$12,1,0))))","v":0},null,8,{"$f":"IF('Часть 1'!N16='Часть 1'!$T$9,4,IF('Часть 1'!N16='Часть 1'!$T$10,3,IF('Часть 1'!N16='Часть 1'!$T$11,2,IF('Часть 1'!N16='Часть 1'!$T$12,1,0))))","v":0},null,8,{"$f":"IF('Часть 1'!N16='Часть 1'!$T$9,4,IF('Часть 1'!N16='Часть 1'!$T$10,3,IF('Часть 1'!N16='Часть 1'!$T$11,2,IF('Часть 1'!N16='Часть 1'!$T$12,1,0))))","v":0}]
[3,{"$f":"IF('Часть 1'!N11='Часть 1'!$T$9,4,IF('Часть 1'!N11='Часть 1'!$T$10,3,IF('Часть 1'!N11='Часть 1'!$T$11,2,IF('Часть 1'!N11='Часть 1'!$T$12,1,0))))","v":0},null,3,{"$f":"IF('Часть 2'!N11='Часть 2'!$T$9,1,IF('Часть 2'!N11='Часть 2'!$T$10,2,IF('Часть 2'!N11='Часть 2'!$T$11,3,IF('Часть 2'!N11='Часть 2'!$T$12,4,))))","v":0},null,9,{"$f":"IF('Часть 1'!N17='Часть 1'!$T$9,4,IF('Часть 1'!N17='Часть 1'!$T$10,3,IF('Часть 1'!N17='Часть 1'!$T$11,2,IF('Часть 1'!N17='Часть 1'!$T$12,1,0))))","v":0},null,9,{"$f":"IF('Часть 1'!N17='Часть 1'!$T$9,4,IF('Часть 1'!N17='Часть 1'!$T$10,3,IF('Часть 1'!N17='Часть 1'!$T$11,2,IF('Часть 1'!N17='Часть 1'!$T$12,1,0))))","v":0},null,9,{"$f":"IF('Часть 1'!N17='Часть 1'!$T$9,4,IF('Часть 1'!N17='Часть 1'!$T$10,3,IF('Часть 1'!N17='Часть 1'!$T$11,2,IF('Часть 1'!N17='Часть 1'!$T$12,1,0))))","v":0},null,9,{"$f":"IF('Часть 1'!N17='Часть 1'!$T$9,4,IF('Часть 1'!N17='Часть 1'!$T$10,3,IF('Часть 1'!N17='Часть 1'!$T$11,2,IF('Часть 1'!N17='Часть 1'!$T$12,1,0))))","v":0},null,null,9,{"$f":"IF('Часть 1'!N17='Часть 1'!$T$9,4,IF('Часть 1'!N17='Часть 1'!$T$10,3,IF('Часть 1'!N17='Часть 1'!$T$11,2,IF('Часть 1'!N17='Часть 1'!$T$12,1,0))))","v":0},null,9,{"$f":"IF('Часть 1'!N17='Часть 1'!$T$9,4,IF('Часть 1'!N17='Часть 1'!$T$10,3,IF('Часть 1'!N17='Часть 1'!$T$11,2,IF('Часть 1'!N17='Часть 1'!$T$12,1,0))))","v":0},null,9,{"$f":"IF('Часть 1'!N17='Часть 1'!$T$9,4,IF('Часть 1'!N17='Часть 1'!$T$10,3,IF('Часть 1'!N17='Часть 1'!$T$11,2,IF('Часть 1'!N17='Часть 1'!$T$12,1,0))))","v":0}]
[4,{"$f":"IF('Часть 1'!N12='Часть 1'!$T$9,4,IF('Часть 1'!N12='Часть 1'!$T$10,3,IF('Часть 1'!N12='Часть 1'!$T$11,2,IF('Часть 1'!N12='Часть 1'!$T$12,1,0))))","v":0},null,4,{"$f":"IF('Часть 2'!N12='Часть 2'!$T$9,1,IF('Часть 2'!N12='Часть 2'!$T$10,2,IF('Часть 2'!N12='Часть 2'!$T$11,3,IF('Часть 2'!N12='Часть 2'!$T$12,4,))))","v":0},null,10,{"$f":"IF('Часть 1'!N18='Часть 1'!$T$9,4,IF('Часть 1'!N18='Часть 1'!$T$10,3,IF('Часть 1'!N18='Часть 1'!$T$11,2,IF('Часть 1'!N18='Часть 1'!$T$12,1,0))))","v":0},null,10,{"$f":"IF('Часть 1'!N18='Часть 1'!$T$9,4,IF('Часть 1'!N18='Часть 1'!$T$10,3,IF('Часть 1'!N18='Часть 1'!$T$11,2,IF('Часть 1'!N18='Часть 1'!$T$12,1,0))))","v":0},null,10,{"$f":"IF('Часть 1'!N18='Часть 1'!$T$9,4,IF('Часть 1'!N18='Часть 1'!$T$10,3,IF('Часть 1'!N18='Часть 1'!$T$11,2,IF('Часть 1'!N18='Часть 1'!$T$12,1,0))))","v":0},null,10,{"$f":"IF('Часть 1'!N18='Часть 1'!$T$9,4,IF('Часть 1'!N18='Часть 1'!$T$10,3,IF('Часть 1'!N18='Часть 1'!$T$11,2,IF('Часть 1'!N18='Часть 1'!$T$12,1,0))))","v":0},null,null,10,{"$f":"IF('Часть 1'!N18='Часть 1'!$T$9,4,IF('Часть 1'!N18='Часть 1'!$T$10,3,IF('Часть 1'!N18='Часть 1'!$T$11,2,IF('Часть 1'!N18='Часть 1'!$T$12,1,0))))","v":0},null,10,{"$f":"IF('Часть 1'!N18='Часть 1'!$T$9,4,IF('Часть 1'!N18='Часть 1'!$T$10,3,IF('Часть 1'!N18='Часть 1'!$T$11,2,IF('Часть 1'!N18='Часть 1'!$T$12,1,0))))","v":0},null,10,{"$f":"IF('Часть 1'!N18='Часть 1'!$T$9,4,IF('Часть 1'!N18='Часть 1'!$T$10,3,IF('Часть 1'!N18='Часть 1'!$T$11,2,IF('Часть 1'!N18='Часть 1'!$T$12,1,0))))","v":0}]
[5,{"$f":"IF('Часть 1'!N13='Часть 1'!$T$9,4,IF('Часть 1'!N13='Часть 1'!$T$10,3,IF('Часть 1'!N13='Часть 1'!$T$11,2,IF('Часть 1'!N13='Часть 1'!$T$12,1,0))))","v":0},null,5,{"$f":"IF('Часть 2'!N13='Часть 2'!$T$9,1,IF('Часть 2'!N13='Часть 2'!$T$10,2,IF('Часть 2'!N13='Часть 2'!$T$11,3,IF('Часть 2'!N13='Часть 2'!$T$12,4,))))","v":0},null,11,{"$f":"IF('Часть 1'!N19='Часть 1'!$T$9,4,IF('Часть 1'!N19='Часть 1'!$T$10,3,IF('Часть 1'!N19='Часть 1'!$T$11,2,IF('Часть 1'!N19='Часть 1'!$T$12,1,0))))","v":0},null,11,{"$f":"IF('Часть 1'!N19='Часть 1'!$T$9,4,IF('Часть 1'!N19='Часть 1'!$T$10,3,IF('Часть 1'!N19='Часть 1'!$T$11,2,IF('Часть 1'!N19='Часть 1'!$T$12,1,0))))","v":0},null,11,{"$f":"IF('Часть 1'!N19='Часть 1'!$T$9,4,IF('Часть 1'!N19='Часть 1'!$T$10,3,IF('Часть 1'!N19='Часть 1'!$T$11,2,IF('Часть 1'!N19='Часть 1'!$T$12,1,0))))","v":0},null,11,{"$f":"IF('Часть 1'!N19='Часть 1'!$T$9,4,IF('Часть 1'!N19='Часть 1'!$T$10,3,IF('Часть 1'!N19='Часть 1'!$T$11,2,IF('Часть 1'!N19='Часть 1'!$T$12,1,0))))","v":0},null,null,11,{"$f":"IF('Часть 1'!N19='Часть 1'!$T$9,4,IF('Часть 1'!N19='Часть 1'!$T$10,3,IF('Часть 1'!N19='Часть 1'!$T$11,2,IF('Часть 1'!N19='Часть 1'!$T$12,1,0))))","v":0},null,11,{"$f":"IF('Часть 1'!N19='Часть 1'!$T$9,4,IF('Часть 1'!N19='Часть 1'!$T$10,3,IF('Часть 1'!N19='Часть 1'!$T$11,2,IF('Часть 1'!N19='Часть 1'!$T$12,1,0))))","v":0},null,11,{"$f":"IF('Часть 1'!N19='Часть 1'!$T$9,4,IF('Часть 1'!N19='Часть 1'!$T$10,3,IF('Часть 1'!N19='Часть 1'!$T$11,2,IF('Часть 1'!N19='Часть 1'!$T$12,1,0))))","v":0}]
[6,{"$f":"IF('Часть 1'!N14='Часть 1'!$T$9,4,IF('Часть 1'!N14='Часть 1'!$T$10,3,IF('Часть 1'!N14='Часть 1'!$T$11,2,IF('Часть 1'!N14='Часть 1'!$T$12,1,0))))","v":0},null,6,{"$f":"IF('Часть 2'!N14='Часть 2'!$T$9,1,IF('Часть 2'!N14='Часть 2'!$T$10,2,IF('Часть 2'!N14='Часть 2'!$T$11,3,IF('Часть 2'!N14='Часть 2'!$T$12,4,))))","v":0},null,12,{"$f":"IF('Часть 1'!N20='Часть 1'!$T$9,4,IF('Часть 1'!N20='Часть 1'!$T$10,3,IF('Часть 1'!N20='Часть 1'!$T$11,2,IF('Часть 1'!N20='Часть 1'!$T$12,1,0))))","v":0},null,12,{"$f":"IF('Часть 1'!N20='Часть 1'!$T$9,4,IF('Часть 1'!N20='Часть 1'!$T$10,3,IF('Часть 1'!N20='Часть 1'!$T$11,2,IF('Часть 1'!N20='Часть 1'!$T$12,1,0))))","v":0},null,12,{"$f":"IF('Часть 1'!N20='Часть 1'!$T$9,4,IF('Часть 1'!N20='Часть 1'!$T$10,3,IF('Часть 1'!N20='Часть 1'!$T$11,2,IF('Часть 1'!N20='Часть 1'!$T$12,1,0))))","v":0},null,12,{"$f":"IF('Часть 1'!N20='Часть 1'!$T$9,4,IF('Часть 1'!N20='Часть 1'!$T$10,3,IF('Часть 1'!N20='Часть 1'!$T$11,2,IF('Часть 1'!N20='Часть 1'!$T$12,1,0))))","v":0},null,null,12,{"$f":"IF('Часть 1'!N20='Часть 1'!$T$9,4,IF('Часть 1'!N20='Часть 1'!$T$10,3,IF('Часть 1'!N20='Часть 1'!$T$11,2,IF('Часть 1'!N20='Часть 1'!$T$12,1,0))))","v":0},null,12,{"$f":"IF('Часть 1'!N20='Часть 1'!$T$9,4,IF('Часть 1'!N20='Часть 1'!$T$10,3,IF('Часть 1'!N20='Часть 1'!$T$11,2,IF('Часть 1'!N20='Часть 1'!$T$12,1,0))))","v":0},null,12,{"$f":"IF('Часть 1'!N20='Часть 1'!$T$9,4,IF('Часть 1'!N20='Часть 1'!$T$10,3,IF('Часть 1'!N20='Часть 1'!$T$11,2,IF('Часть 1'!N20='Часть 1'!$T$12,1,0))))","v":0}]
[7,{"$f":"IF('Часть 1'!N15='Часть 1'!$T$9,4,IF('Часть 1'!N15='Часть 1'!$T$10,3,IF('Часть 1'!N15='Часть 1'!$T$11,2,IF('Часть 1'!N15='Часть 1'!$T$12,1,0))))","v":0},null,7,{"$f":"IF('Часть 2'!N15='Часть 2'!$T$9,1,IF('Часть 2'!N15='Часть 2'!$T$10,2,IF('Часть 2'!N15='Часть 2'!$T$11,3,IF('Часть 2'!N15='Часть 2'!$T$12,4,))))","v":0},null,13,{"$f":"IF('Часть 1'!N21='Часть 1'!$T$9,4,IF('Часть 1'!N21='Часть 1'!$T$10,3,IF('Часть 1'!N21='Часть 1'!$T$11,2,IF('Часть 1'!N21='Часть 1'!$T$12,1,0))))","v":0},null,13,{"$f":"IF('Часть 1'!N21='Часть 1'!$T$9,4,IF('Часть 1'!N21='Часть 1'!$T$10,3,IF('Часть 1'!N21='Часть 1'!$T$11,2,IF('Часть 1'!N21='Часть 1'!$T$12,1,0))))","v":0},null,13,{"$f":"IF('Часть 1'!N21='Часть 1'!$T$9,4,IF('Часть 1'!N21='Часть 1'!$T$10,3,IF('Часть 1'!N21='Часть 1'!$T$11,2,IF('Часть 1'!N21='Часть 1'!$T$12,1,0))))","v":0},null,13,{"$f":"IF('Часть 1'!N21='Часть 1'!$T$9,4,IF('Часть 1'!N21='Часть 1'!$T$10,3,IF('Часть 1'!N21='Часть 1'!$T$11,2,IF('Часть 1'!N21='Часть 1'!$T$12,1,0))))","v":0},null,null,13,{"$f":"IF('Часть 1'!N21='Часть 1'!$T$9,4,IF('Часть 1'!N21='Часть 1'!$T$10,3,IF('Часть 1'!N21='Часть 1'!$T$11,2,IF('Часть 1'!N21='Часть 1'!$T$12,1,0))))","v":0},null,13,{"$f":"IF('Часть 1'!N21='Часть 1'!$T$9,4,IF('Часть 1'!N21='Часть 1'!$T$10,3,IF('Часть 1'!N21='Часть 1'!$T$11,2,IF('Часть 1'!N21='Часть 1'!$T$12,1,0))))","v":0},null,13,{"$f":"IF('Часть 1'!N21='Часть 1'!$T$9,4,IF('Часть 1'!N21='Часть 1'!$T$10,3,IF('Часть 1'!N21='Часть 1'!$T$11,2,IF('Часть 1'!N21='Часть 1'!$T$12,1,0))))","v":0}]
[8,{"$f":"IF('Часть 1'!N16='Часть 1'!$T$9,4,IF('Часть 1'!N16='Часть 1'!$T$10,3,IF('Часть 1'!N16='Часть 1'!$T$11,2,IF('Часть 1'!N16='Часть 1'!$T$12,1,0))))","v":0},null,null,null,null,14,{"$f":"IF('Часть 1'!N22='Часть 1'!$T$9,1,IF('Часть 1'!N22='Часть 1'!$T$10,0,IF('Часть 1'!N22='Часть 1'!$T$11,0,IF('Часть 1'!N22='Часть 1'!$T$12,1,0))))","v":0},null,14,{"$f":"IF('Часть 1'!N22='Часть 1'!$T$9,4,IF('Часть 1'!N22='Часть 1'!$T$10,3,IF('Часть 1'!N22='Часть 1'!$T$11,2,IF('Часть 1'!N22='Часть 1'!$T$12,1,0))))","v":0},null,14,{"$f":"IF('Часть 1'!N22='Часть 1'!$T$9,4,IF('Часть 1'!N22='Часть 1'!$T$10,3,IF('Часть 1'!N22='Часть 1'!$T$11,2,IF('Часть 1'!N22='Часть 1'!$T$12,1,0))))","v":0},null,14,{"$f":"IF('Часть 1'!N22='Часть 1'!$T$9,4,IF('Часть 1'!N22='Часть 1'!$T$10,3,IF('Часть 1'!N22='Часть 1'!$T$11,2,IF('Часть 1'!N22='Часть 1'!$T$12,1,0))))","v":0},null,null,14,{"$f":"IF('Часть 1'!N22='Часть 1'!$T$9,4,IF('Часть 1'!N22='Часть 1'!$T$10,3,IF('Часть 1'!N22='Часть 1'!$T$11,2,IF('Часть 1'!N22='Часть 1'!$T$12,1,0))))","v":0},null,14,{"$f":"IF('Часть 1'!N22='Часть 1'!$T$9,4,IF('Часть 1'!N22='Часть 1'!$T$10,3,IF('Часть 1'!N22='Часть 1'!$T$11,2,IF('Часть 1'!N22='Часть 1'!$T$12,1,0))))","v":0},null,14,{"$f":"IF('Часть 1'!N22='Часть 1'!$T$9,4,IF('Часть 1'!N22='Часть 1'!$T$10,3,IF('Часть 1'!N22='Часть 1'!$T$11,2,IF('Часть 1'!N22='Часть 1'!$T$12,1,0))))","v":0}]
[9,{"$f":"IF('Часть 1'!N17='Часть 1'!$T$9,4,IF('Часть 1'!N17='Часть 1'!$T$10,3,IF('Часть 1'!N17='Часть 1'!$T$11,2,IF('Часть 1'!N17='Часть 1'!$T$12,1,0))))","v":0},null,null,null,null,15,{"$f":"IF('Часть 1'!N23='Часть 1'!$T$9,4,IF('Часть 1'!N23='Часть 1'!$T$10,3,IF('Часть 1'!N23='Часть 1'!$T$11,2,IF('Часть 1'!N23='Часть 1'!$T$12,1,0))))","v":0},null,15,{"$f":"IF('Часть 1'!N23='Часть 1'!$T$9,4,IF('Часть 1'!N23='Часть 1'!$T$10,3,IF('Часть 1'!N23='Часть 1'!$T$11,2,IF('Часть 1'!N23='Часть 1'!$T$12,1,0))))","v":0},null,15,{"$f":"IF('Часть 1'!N23='Часть 1'!$T$9,4,IF('Часть 1'!N23='Часть 1'!$T$10,3,IF('Часть 1'!N23='Часть 1'!$T$11,2,IF('Часть 1'!N23='Часть 1'!$T$12,1,0))))","v":0},null,15,{"$f":"IF('Часть 1'!N23='Часть 1'!$T$9,4,IF('Часть 1'!N23='Часть 1'!$T$10,3,IF('Часть 1'!N23='Часть 1'!$T$11,2,IF('Часть 1'!N23='Часть 1'!$T$12,1,0))))","v":0},null,null,15,{"$f":"IF('Часть 1'!N23='Часть 1'!$T$9,4,IF('Часть 1'!N23='Часть 1'!$T$10,3,IF('Часть 1'!N23='Часть 1'!$T$11,2,IF('Часть 1'!N23='Часть 1'!$T$12,1,0))))","v":0},null,15,{"$f":"IF('Часть 1'!N23='Часть 1'!$T$9,4,IF('Часть 1'!N23='Часть 1'!$T$10,3,IF('Часть 1'!N23='Часть 1'!$T$11,2,IF('Часть 1'!N23='Часть 1'!$T$12,1,0))))","v":0},null,15,{"$f":"IF('Часть 1'!N23='Часть 1'!$T$9,4,IF('Часть 1'!N23='Часть 1'!$T$10,3,IF('Часть 1'!N23='Часть 1'!$T$11,2,IF('Часть 1'!N23='Часть 1'!$T$12,1,0))))","v":0}]
[10,{"$f":"IF('Часть 1'!N18='Часть 1'!$T$9,4,IF('Часть 1'!N18='Часть 1'!$T$10,3,IF('Часть 1'!N18='Часть 1'!$T$11,2,IF('Часть 1'!N18='Часть 1'!$T$12,1,0))))","v":0},null,null,null,null,16,{"$f":"IF('Часть 1'!N24='Часть 1'!$T$9,4,IF('Часть 1'!N24='Часть 1'!$T$10,3,IF('Часть 1'!N24='Часть 1'!$T$11,2,IF('Часть 1'!N24='Часть 1'!$T$12,1,0))))","v":0},null,16,{"$f":"IF('Часть 1'!N24='Часть 1'!$T$9,4,IF('Часть 1'!N24='Часть 1'!$T$10,3,IF('Часть 1'!N24='Часть 1'!$T$11,2,IF('Часть 1'!N24='Часть 1'!$T$12,1,0))))","v":0},null,16,{"$f":"IF('Часть 1'!N24='Часть 1'!$T$9,4,IF('Часть 1'!N24='Часть 1'!$T$10,3,IF('Часть 1'!N24='Часть 1'!$T$11,2,IF('Часть 1'!N24='Часть 1'!$T$12,1,0))))","v":0},null,16,{"$f":"IF('Часть 1'!N24='Часть 1'!$T$9,4,IF('Часть 1'!N24='Часть 1'!$T$10,3,IF('Часть 1'!N24='Часть 1'!$T$11,2,IF('Часть 1'!N24='Часть 1'!$T$12,1,0))))","v":0},null,null,16,{"$f":"IF('Часть 1'!N24='Часть 1'!$T$9,4,IF('Часть 1'!N24='Часть 1'!$T$10,3,IF('Часть 1'!N24='Часть 1'!$T$11,2,IF('Часть 1'!N24='Часть 1'!$T$12,1,0))))","v":0},null,16,{"$f":"IF('Часть 1'!N24='Часть 1'!$T$9,4,IF('Часть 1'!N24='Часть 1'!$T$10,3,IF('Часть 1'!N24='Часть 1'!$T$11,2,IF('Часть 1'!N24='Часть 1'!$T$12,1,0))))","v":0},null,16,{"$f":"IF('Часть 1'!N24='Часть 1'!$T$9,4,IF('Часть 1'!N24='Часть 1'!$T$10,3,IF('Часть 1'!N24='Часть 1'!$T$11,2,IF('Часть 1'!N24='Часть 1'!$T$12,1,0))))","v":0}]
[11,{"$f":"IF('Часть 1'!N19='Часть 1'!$T$9,4,IF('Часть 1'!N19='Часть 1'!$T$10,3,IF('Часть 1'!N19='Часть 1'!$T$11,2,IF('Часть 1'!N19='Часть 1'!$T$12,1,0))))","v":0},null,null,null,null,17,{"$f":"IF('Часть 1'!N25='Часть 1'!$T$9,4,IF('Часть 1'!N25='Часть 1'!$T$10,3,IF('Часть 1'!N25='Часть 1'!$T$11,2,IF('Часть 1'!N25='Часть 1'!$T$12,1,0))))","v":0},null,17,{"$f":"IF('Часть 1'!N25='Часть 1'!$T$9,4,IF('Часть 1'!N25='Часть 1'!$T$10,3,IF('Часть 1'!N25='Часть 1'!$T$11,2,IF('Часть 1'!N25='Часть 1'!$T$12,1,0))))","v":0},null,17,{"$f":"IF('Часть 1'!N25='Часть 1'!$T$9,4,IF('Часть 1'!N25='Часть 1'!$T$10,3,IF('Часть 1'!N25='Часть 1'!$T$11,2,IF('Часть 1'!N25='Часть 1'!$T$12,1,0))))","v":0},null,17,{"$f":"IF('Часть 1'!N25='Часть 1'!$T$9,4,IF('Часть 1'!N25='Часть 1'!$T$10,3,IF('Часть 1'!N25='Часть 1'!$T$11,2,IF('Часть 1'!N25='Часть 1'!$T$12,1,0))))","v":0},null,null,17,{"$f":"IF('Часть 1'!N25='Часть 1'!$T$9,4,IF('Часть 1'!N25='Часть 1'!$T$10,3,IF('Часть 1'!N25='Часть 1'!$T$11,2,IF('Часть 1'!N25='Часть 1'!$T$12,1,0))))","v":0},null,17,{"$f":"IF('Часть 1'!N25='Часть 1'!$T$9,4,IF('Часть 1'!N25='Часть 1'!$T$10,3,IF('Часть 1'!N25='Часть 1'!$T$11,2,IF('Часть 1'!N25='Часть 1'!$T$12,1,0))))","v":0},null,17,{"$f":"IF('Часть 1'!N25='Часть 1'!$T$9,4,IF('Часть 1'!N25='Часть 1'!$T$10,3,IF('Часть 1'!N25='Часть 1'!$T$11,2,IF('Часть 1'!N25='Часть 1'!$T$12,1,0))))","v":0}]
[12,{"$f":"IF('Часть 1'!N20='Часть 1'!$T$9,4,IF('Часть 1'!N20='Часть 1'!$T$10,3,IF('Часть 1'!N20='Часть 1'!$T$11,2,IF('Часть 1'!N20='Часть 1'!$T$12,1,0))))","v":0},null,null,null,null,18,{"$f":"IF('Часть 1'!N26='Часть 1'!$T$9,4,IF('Часть 1'!N26='Часть 1'!$T$10,3,IF('Часть 1'!N26='Часть 1'!$T$11,2,IF('Часть 1'!N26='Часть 1'!$T$12,1,0))))","v":0},null,18,{"$f":"IF('Часть 1'!N26='Часть 1'!$T$9,4,IF('Часть 1'!N26='Часть 1'!$T$10,3,IF('Часть 1'!N26='Часть 1'!$T$11,2,IF('Часть 1'!N26='Часть 1'!$T$12,1,0))))","v":0},null,18,{"$f":"IF('Часть 1'!N26='Часть 1'!$T$9,4,IF('Часть 1'!N26='Часть 1'!$T$10,3,IF('Часть 1'!N26='Часть 1'!$T$11,2,IF('Часть 1'!N26='Часть 1'!$T$12,1,0))))","v":0},null,18,{"$f":"IF('Часть 1'!N26='Часть 1'!$T$9,4,IF('Часть 1'!N26='Часть 1'!$T$10,3,IF('Часть 1'!N26='Часть 1'!$T$11,2,IF('Часть 1'!N26='Часть 1'!$T$12,1,0))))","v":0},null,null,18,{"$f":"IF('Часть 1'!N26='Часть 1'!$T$9,4,IF('Часть 1'!N26='Часть 1'!$T$10,3,IF('Часть 1'!N26='Часть 1'!$T$11,2,IF('Часть 1'!N26='Часть 1'!$T$12,1,0))))","v":0},null,18,{"$f":"IF('Часть 1'!N26='Часть 1'!$T$9,4,IF('Часть 1'!N26='Часть 1'!$T$10,3,IF('Часть 1'!N26='Часть 1'!$T$11,2,IF('Часть 1'!N26='Часть 1'!$T$12,1,0))))","v":0},null,18,{"$f":"IF('Часть 1'!N26='Часть 1'!$T$9,4,IF('Часть 1'!N26='Часть 1'!$T$10,3,IF('Часть 1'!N26='Часть 1'!$T$11,2,IF('Часть 1'!N26='Часть 1'!$T$12,1,0))))","v":0}]
[13,{"$f":"IF('Часть 1'!N21='Часть 1'!$T$9,4,IF('Часть 1'!N21='Часть 1'!$T$10,3,IF('Часть 1'!N21='Часть 1'!$T$11,2,IF('Часть 1'!N21='Часть 1'!$T$12,1,0))))","v":0},null,null,null,null,19,{"$f":"IF('Часть 1'!N27='Часть 1'!$T$9,4,IF('Часть 1'!N27='Часть 1'!$T$10,3,IF('Часть 1'!N27='Часть 1'!$T$11,2,IF('Часть 1'!N27='Часть 1'!$T$12,1,0))))","v":0},null,19,{"$f":"IF('Часть 1'!N27='Часть 1'!$T$9,4,IF('Часть 1'!N27='Часть 1'!$T$10,3,IF('Часть 1'!N27='Часть 1'!$T$11,2,IF('Часть 1'!N27='Часть 1'!$T$12,1,0))))","v":0},null,19,{"$f":"IF('Часть 1'!N27='Часть 1'!$T$9,4,IF('Часть 1'!N27='Часть 1'!$T$10,3,IF('Часть 1'!N27='Часть 1'!$T$11,2,IF('Часть 1'!N27='Часть 1'!$T$12,1,0))))","v":0},null,19,{"$f":"IF('Часть 1'!N27='Часть 1'!$T$9,4,IF('Часть 1'!N27='Часть 1'!$T$10,3,IF('Часть 1'!N27='Часть 1'!$T$11,2,IF('Часть 1'!N27='Часть 1'!$T$12,1,0))))","v":0},null,null,19,{"$f":"IF('Часть 1'!N27='Часть 1'!$T$9,4,IF('Часть 1'!N27='Часть 1'!$T$10,3,IF('Часть 1'!N27='Часть 1'!$T$11,2,IF('Часть 1'!N27='Часть 1'!$T$12,1,0))))","v":0},null,19,{"$f":"IF('Часть 1'!N27='Часть 1'!$T$9,4,IF('Часть 1'!N27='Часть 1'!$T$10,3,IF('Часть 1'!N27='Часть 1'!$T$11,2,IF('Часть 1'!N27='Часть 1'!$T$12,1,0))))","v":0},null,19,{"$f":"IF('Часть 1'!N27='Часть 1'!$T$9,4,IF('Часть 1'!N27='Часть 1'!$T$10,3,IF('Часть 1'!N27='Часть 1'!$T$11,2,IF('Часть 1'!N27='Часть 1'!$T$12,1,0))))","v":0}]
[14,{"$f":"IF('Часть 1'!N22='Часть 1'!$T$9,4,IF('Часть 1'!N22='Часть 1'!$T$10,3,IF('Часть 1'!N22='Часть 1'!$T$11,2,IF('Часть 1'!N22='Часть 1'!$T$12,1,0))))","v":0},null,null,null,null,20,{"$f":"IF('Часть 1'!N28='Часть 1'!$T$9,4,IF('Часть 1'!N28='Часть 1'!$T$10,3,IF('Часть 1'!N28='Часть 1'!$T$11,2,IF('Часть 1'!N28='Часть 1'!$T$12,1,0))))","v":0},null,20,{"$f":"IF('Часть 1'!N28='Часть 1'!$T$9,4,IF('Часть 1'!N28='Часть 1'!$T$10,3,IF('Часть 1'!N28='Часть 1'!$T$11,2,IF('Часть 1'!N28='Часть 1'!$T$12,1,0))))","v":0},null,20,{"$f":"IF('Часть 1'!N28='Часть 1'!$T$9,4,IF('Часть 1'!N28='Часть 1'!$T$10,3,IF('Часть 1'!N28='Часть 1'!$T$11,2,IF('Часть 1'!N28='Часть 1'!$T$12,1,0))))","v":0},null,20,{"$f":"IF('Часть 1'!N28='Часть 1'!$T$9,4,IF('Часть 1'!N28='Часть 1'!$T$10,3,IF('Часть 1'!N28='Часть 1'!$T$11,2,IF('Часть 1'!N28='Часть 1'!$T$12,1,0))))","v":0},null,null,20,{"$f":"IF('Часть 1'!N28='Часть 1'!$T$9,4,IF('Часть 1'!N28='Часть 1'!$T$10,3,IF('Часть 1'!N28='Часть 1'!$T$11,2,IF('Часть 1'!N28='Часть 1'!$T$12,1,0))))","v":0},null,20,{"$f":"IF('Часть 1'!N28='Часть 1'!$T$9,4,IF('Часть 1'!N28='Часть 1'!$T$10,3,IF('Часть 1'!N28='Часть 1'!$T$11,2,IF('Часть 1'!N28='Часть 1'!$T$12,1,0))))","v":0},null,20,{"$f":"IF('Часть 1'!N28='Часть 1'!$T$9,4,IF('Часть 1'!N28='Часть 1'!$T$10,3,IF('Часть 1'!N28='Часть 1'!$T$11,2,IF('Часть 1'!N28='Часть 1'!$T$12,1,0))))","v":0}]
[15,{"$f":"IF('Часть 1'!N23='Часть 1'!$T$9,4,IF('Часть 1'!N23='Часть 1'!$T$10,3,IF('Часть 1'!N23='Часть 1'!$T$11,2,IF('Часть 1'!N23='Часть 1'!$T$12,1,0))))","v":0},null,null,null,null,21,{"$f":"IF('Часть 1'!N29='Часть 1'!$T$9,4,IF('Часть 1'!N29='Часть 1'!$T$10,3,IF('Часть 1'!N29='Часть 1'!$T$11,2,IF('Часть 1'!N29='Часть 1'!$T$12,1,0))))","v":0},null,21,{"$f":"IF('Часть 1'!N29='Часть 1'!$T$9,4,IF('Часть 1'!N29='Часть 1'!$T$10,3,IF('Часть 1'!N29='Часть 1'!$T$11,2,IF('Часть 1'!N29='Часть 1'!$T$12,1,0))))","v":0},null,21,{"$f":"IF('Часть 1'!N29='Часть 1'!$T$9,4,IF('Часть 1'!N29='Часть 1'!$T$10,3,IF('Часть 1'!N29='Часть 1'!$T$11,2,IF('Часть 1'!N29='Часть 1'!$T$12,1,0))))","v":0},null,21,{"$f":"IF('Часть 1'!N29='Часть 1'!$T$9,4,IF('Часть 1'!N29='Часть 1'!$T$10,3,IF('Часть 1'!N29='Часть 1'!$T$11,2,IF('Часть 1'!N29='Часть 1'!$T$12,1,0))))","v":0},null,null,21,{"$f":"IF('Часть 1'!N29='Часть 1'!$T$9,4,IF('Часть 1'!N29='Часть 1'!$T$10,3,IF('Часть 1'!N29='Часть 1'!$T$11,2,IF('Часть 1'!N29='Часть 1'!$T$12,1,0))))","v":0},null,21,{"$f":"IF('Часть 1'!N29='Часть 1'!$T$9,4,IF('Часть 1'!N29='Часть 1'!$T$10,3,IF('Часть 1'!N29='Часть 1'!$T$11,2,IF('Часть 1'!N29='Часть 1'!$T$12,1,0))))","v":0},null,21,{"$f":"IF('Часть 1'!N29='Часть 1'!$T$9,4,IF('Часть 1'!N29='Часть 1'!$T$10,3,IF('Часть 1'!N29='Часть 1'!$T$11,2,IF('Часть 1'!N29='Часть 1'!$T$12,1,0))))","v":0}]
[16,{"$f":"IF('Часть 1'!N24='Часть 1'!$T$9,4,IF('Часть 1'!N24='Часть 1'!$T$10,3,IF('Часть 1'!N24='Часть 1'!$T$11,2,IF('Часть 1'!N24='Часть 1'!$T$12,1,0))))","v":0},null,null,null,null,22,{"$f":"IF('Часть 1'!N30='Часть 1'!$T$9,1,IF('Часть 1'!N30='Часть 1'!$T$10,0,IF('Часть 1'!N30='Часть 1'!$T$11,0,IF('Часть 1'!N30='Часть 1'!$T$12,1,0))))","v":0},null,22,{"$f":"IF('Часть 1'!N30='Часть 1'!$T$9,4,IF('Часть 1'!N30='Часть 1'!$T$10,3,IF('Часть 1'!N30='Часть 1'!$T$11,2,IF('Часть 1'!N30='Часть 1'!$T$12,1,0))))","v":0},null,22,{"$f":"IF('Часть 1'!N30='Часть 1'!$T$9,4,IF('Часть 1'!N30='Часть 1'!$T$10,3,IF('Часть 1'!N30='Часть 1'!$T$11,2,IF('Часть 1'!N30='Часть 1'!$T$12,1,0))))","v":0},null,22,{"$f":"IF('Часть 1'!N30='Часть 1'!$T$9,4,IF('Часть 1'!N30='Часть 1'!$T$10,3,IF('Часть 1'!N30='Часть 1'!$T$11,2,IF('Часть 1'!N30='Часть 1'!$T$12,1,0))))","v":0},null,null,22,{"$f":"IF('Часть 1'!N30='Часть 1'!$T$9,4,IF('Часть 1'!N30='Часть 1'!$T$10,3,IF('Часть 1'!N30='Часть 1'!$T$11,2,IF('Часть 1'!N30='Часть 1'!$T$12,1,0))))","v":0},null,22,{"$f":"IF('Часть 1'!N30='Часть 1'!$T$9,4,IF('Часть 1'!N30='Часть 1'!$T$10,3,IF('Часть 1'!N30='Часть 1'!$T$11,2,IF('Часть 1'!N30='Часть 1'!$T$12,1,0))))","v":0},null,22,{"$f":"IF('Часть 1'!N30='Часть 1'!$T$9,4,IF('Часть 1'!N30='Часть 1'!$T$10,3,IF('Часть 1'!N30='Часть 1'!$T$11,2,IF('Часть 1'!N30='Часть 1'!$T$12,1,0))))","v":0}]
[17,{"$f":"IF('Часть 1'!N25='Часть 1'!$T$9,4,IF('Часть 1'!N25='Часть 1'!$T$10,3,IF('Часть 1'!N25='Часть 1'!$T$11,2,IF('Часть 1'!N25='Часть 1'!$T$12,1,0))))","v":0},null,null,null,null,23,{"$f":"IF('Часть 1'!N31='Часть 1'!$T$9,4,IF('Часть 1'!N31='Часть 1'!$T$10,3,IF('Часть 1'!N31='Часть 1'!$T$11,2,IF('Часть 1'!N31='Часть 1'!$T$12,1,0))))","v":0},null,23,{"$f":"IF('Часть 1'!N31='Часть 1'!$T$9,4,IF('Часть 1'!N31='Часть 1'!$T$10,3,IF('Часть 1'!N31='Часть 1'!$T$11,2,IF('Часть 1'!N31='Часть 1'!$T$12,1,0))))","v":0},null,23,{"$f":"IF('Часть 1'!N31='Часть 1'!$T$9,4,IF('Часть 1'!N31='Часть 1'!$T$10,3,IF('Часть 1'!N31='Часть 1'!$T$11,2,IF('Часть 1'!N31='Часть 1'!$T$12,1,0))))","v":0},null,23,{"$f":"IF('Часть 1'!N31='Часть 1'!$T$9,4,IF('Часть 1'!N31='Часть 1'!$T$10,3,IF('Часть 1'!N31='Часть 1'!$T$11,2,IF('Часть 1'!N31='Часть 1'!$T$12,1,0))))","v":0},null,null,23,{"$f":"IF('Часть 1'!N31='Часть 1'!$T$9,4,IF('Часть 1'!N31='Часть 1'!$T$10,3,IF('Часть 1'!N31='Часть 1'!$T$11,2,IF('Часть 1'!N31='Часть 1'!$T$12,1,0))))","v":0},null,23,{"$f":"IF('Часть 1'!N31='Часть 1'!$T$9,4,IF('Часть 1'!N31='Часть 1'!$T$10,3,IF('Часть 1'!N31='Часть 1'!$T$11,2,IF('Часть 1'!N31='Часть 1'!$T$12,1,0))))","v":0},null,23,{"$f":"IF('Часть 1'!N31='Часть 1'!$T$9,4,IF('Часть 1'!N31='Часть 1'!$T$10,3,IF('Часть 1'!N31='Часть 1'!$T$11,2,IF('Часть 1'!N31='Часть 1'!$T$12,1,0))))","v":0}]
[18,{"$f":"IF('Часть 1'!N26='Часть 1'!$T$9,4,IF('Часть 1'!N26='Часть 1'!$T$10,3,IF('Часть 1'!N26='Часть 1'!$T$11,2,IF('Часть 1'!N26='Часть 1'!$T$12,1,0))))","v":0},null,null,null,null,24,{"$f":"IF('Часть 1'!N32='Часть 1'!$T$9,4,IF('Часть 1'!N32='Часть 1'!$T$10,3,IF('Часть 1'!N32='Часть 1'!$T$11,2,IF('Часть 1'!N32='Часть 1'!$T$12,1,0))))","v":0},null,24,{"$f":"IF('Часть 1'!N32='Часть 1'!$T$9,4,IF('Часть 1'!N32='Часть 1'!$T$10,3,IF('Часть 1'!N32='Часть 1'!$T$11,2,IF('Часть 1'!N32='Часть 1'!$T$12,1,0))))","v":0},null,24,{"$f":"IF('Часть 1'!N32='Часть 1'!$T$9,4,IF('Часть 1'!N32='Часть 1'!$T$10,3,IF('Часть 1'!N32='Часть 1'!$T$11,2,IF('Часть 1'!N32='Часть 1'!$T$12,1,0))))","v":0},null,24,{"$f":"IF('Часть 1'!N32='Часть 1'!$T$9,4,IF('Часть 1'!N32='Часть 1'!$T$10,3,IF('Часть 1'!N32='Часть 1'!$T$11,2,IF('Часть 1'!N32='Часть 1'!$T$12,1,0))))","v":0},null,null,24,{"$f":"IF('Часть 1'!N32='Часть 1'!$T$9,4,IF('Часть 1'!N32='Часть 1'!$T$10,3,IF('Часть 1'!N32='Часть 1'!$T$11,2,IF('Часть 1'!N32='Часть 1'!$T$12,1,0))))","v":0},null,24,{"$f":"IF('Часть 1'!N32='Часть 1'!$T$9,4,IF('Часть 1'!N32='Часть 1'!$T$10,3,IF('Часть 1'!N32='Часть 1'!$T$11,2,IF('Часть 1'!N32='Часть 1'!$T$12,1,0))))","v":0},null,24,{"$f":"IF('Часть 1'!N32='Часть 1'!$T$9,4,IF('Часть 1'!N32='Часть 1'!$T$10,3,IF('Часть 1'!N32='Часть 1'!$T$11,2,IF('Часть 1'!N32='Часть 1'!$T$12,1,0))))","v":0}]
[19,{"$f":"IF('Часть 1'!N27='Часть 1'!$T$9,4,IF('Часть 1'!N27='Часть 1'!$T$10,3,IF('Часть 1'!N27='Часть 1'!$T$11,2,IF('Часть 1'!N27='Часть 1'!$T$12,1,0))))","v":0},null,null,null,null,25,{"$f":"IF('Часть 1'!N33='Часть 1'!$T$9,4,IF('Часть 1'!N33='Часть 1'!$T$10,3,IF('Часть 1'!N33='Часть 1'!$T$11,2,IF('Часть 1'!N33='Часть 1'!$T$12,1,0))))","v":0},null,25,{"$f":"IF('Часть 1'!N33='Часть 1'!$T$9,4,IF('Часть 1'!N33='Часть 1'!$T$10,3,IF('Часть 1'!N33='Часть 1'!$T$11,2,IF('Часть 1'!N33='Часть 1'!$T$12,1,0))))","v":0},null,25,{"$f":"IF('Часть 1'!N33='Часть 1'!$T$9,4,IF('Часть 1'!N33='Часть 1'!$T$10,3,IF('Часть 1'!N33='Часть 1'!$T$11,2,IF('Часть 1'!N33='Часть 1'!$T$12,1,0))))","v":0},null,25,{"$f":"IF('Часть 1'!N33='Часть 1'!$T$9,4,IF('Часть 1'!N33='Часть 1'!$T$10,3,IF('Часть 1'!N33='Часть 1'!$T$11,2,IF('Часть 1'!N33='Часть 1'!$T$12,1,0))))","v":0},null,null,25,{"$f":"IF('Часть 1'!N33='Часть 1'!$T$9,4,IF('Часть 1'!N33='Часть 1'!$T$10,3,IF('Часть 1'!N33='Часть 1'!$T$11,2,IF('Часть 1'!N33='Часть 1'!$T$12,1,0))))","v":0},null,25,{"$f":"IF('Часть 1'!N33='Часть 1'!$T$9,4,IF('Часть 1'!N33='Часть 1'!$T$10,3,IF('Часть 1'!N33='Часть 1'!$T$11,2,IF('Часть 1'!N33='Часть 1'!$T$12,1,0))))","v":0},null,25,{"$f":"IF('Часть 1'!N33='Часть 1'!$T$9,4,IF('Часть 1'!N33='Часть 1'!$T$10,3,IF('Часть 1'!N33='Часть 1'!$T$11,2,IF('Часть 1'!N33='Часть 1'!$T$12,1,0))))","v":0}]
[20,{"$f":"IF('Часть 1'!N28='Часть 1'!$T$9,4,IF('Часть 1'!N28='Часть 1'!$T$10,3,IF('Часть 1'!N28='Часть 1'!$T$11,2,IF('Часть 1'!N28='Часть 1'!$T$12,1,0))))","v":0},null,null,null,null,26,{"$f":"IF('Часть 1'!N34='Часть 1'!$T$9,4,IF('Часть 1'!N34='Часть 1'!$T$10,3,IF('Часть 1'!N34='Часть 1'!$T$11,2,IF('Часть 1'!N34='Часть 1'!$T$12,1,0))))","v":0},null,26,{"$f":"IF('Часть 1'!N34='Часть 1'!$T$9,4,IF('Часть 1'!N34='Часть 1'!$T$10,3,IF('Часть 1'!N34='Часть 1'!$T$11,2,IF('Часть 1'!N34='Часть 1'!$T$12,1,0))))","v":0},null,26,{"$f":"IF('Часть 1'!N34='Часть 1'!$T$9,4,IF('Часть 1'!N34='Часть 1'!$T$10,3,IF('Часть 1'!N34='Часть 1'!$T$11,2,IF('Часть 1'!N34='Часть 1'!$T$12,1,0))))","v":0},null,26,{"$f":"IF('Часть 1'!N34='Часть 1'!$T$9,4,IF('Часть 1'!N34='Часть 1'!$T$10,3,IF('Часть 1'!N34='Часть 1'!$T$11,2,IF('Часть 1'!N34='Часть 1'!$T$12,1,0))))","v":0},null,null,26,{"$f":"IF('Часть 1'!N34='Часть 1'!$T$9,4,IF('Часть 1'!N34='Часть 1'!$T$10,3,IF('Часть 1'!N34='Часть 1'!$T$11,2,IF('Часть 1'!N34='Часть 1'!$T$12,1,0))))","v":0},null,26,{"$f":"IF('Часть 1'!N34='Часть 1'!$T$9,4,IF('Часть 1'!N34='Часть 1'!$T$10,3,IF('Часть 1'!N34='Часть 1'!$T$11,2,IF('Часть 1'!N34='Часть 1'!$T$12,1,0))))","v":0},null,26,{"$f":"IF('Часть 1'!N34='Часть 1'!$T$9,4,IF('Часть 1'!N34='Часть 1'!$T$10,3,IF('Часть 1'!N34='Часть 1'!$T$11,2,IF('Часть 1'!N34='Часть 1'!$T$12,1,0))))","v":0}]
[21,{"$f":"IF('Часть 1'!N29='Часть 1'!$T$9,4,IF('Часть 1'!N29='Часть 1'!$T$10,3,IF('Часть 1'!N29='Часть 1'!$T$11,2,IF('Часть 1'!N29='Часть 1'!$T$12,1,0))))","v":0},null,null,null,null,27,{"$f":"IF('Часть 1'!N35='Часть 1'!$T$9,4,IF('Часть 1'!N35='Часть 1'!$T$10,3,IF('Часть 1'!N35='Часть 1'!$T$11,2,IF('Часть 1'!N35='Часть 1'!$T$12,1,0))))","v":0},null,27,{"$f":"IF('Часть 1'!N35='Часть 1'!$T$9,4,IF('Часть 1'!N35='Часть 1'!$T$10,3,IF('Часть 1'!N35='Часть 1'!$T$11,2,IF('Часть 1'!N35='Часть 1'!$T$12,1,0))))","v":0},null,27,{"$f":"IF('Часть 1'!N35='Часть 1'!$T$9,4,IF('Часть 1'!N35='Часть 1'!$T$10,3,IF('Часть 1'!N35='Часть 1'!$T$11,2,IF('Часть 1'!N35='Часть 1'!$T$12,1,0))))","v":0},null,27,{"$f":"IF('Часть 1'!N35='Часть 1'!$T$9,4,IF('Часть 1'!N35='Часть 1'!$T$10,3,IF('Часть 1'!N35='Часть 1'!$T$11,2,IF('Часть 1'!N35='Часть 1'!$T$12,1,0))))","v":0},null,null,27,{"$f":"IF('Часть 1'!N35='Часть 1'!$T$9,4,IF('Часть 1'!N35='Часть 1'!$T$10,3,IF('Часть 1'!N35='Часть 1'!$T$11,2,IF('Часть 1'!N35='Часть 1'!$T$12,1,0))))","v":0},null,27,{"$f":"IF('Часть 1'!N35='Часть 1'!$T$9,4,IF('Часть 1'!N35='Часть 1'!$T$10,3,IF('Часть 1'!N35='Часть 1'!$T$11,2,IF('Часть 1'!N35='Часть 1'!$T$12,1,0))))","v":0},null,27,{"$f":"IF('Часть 1'!N35='Часть 1'!$T$9,4,IF('Часть 1'!N35='Часть 1'!$T$10,3,IF('Часть 1'!N35='Часть 1'!$T$11,2,IF('Часть 1'!N35='Часть 1'!$T$12,1,0))))","v":0}]
[22,{"$f":"IF('Часть 1'!N30='Часть 1'!$T$9,4,IF('Часть 1'!N30='Часть 1'!$T$10,3,IF('Часть 1'!N30='Часть 1'!$T$11,2,IF('Часть 1'!N30='Часть 1'!$T$12,1,0))))","v":0},null,null,null,null,28,{"$f":"IF('Часть 1'!N36='Часть 1'!$T$9,4,IF('Часть 1'!N36='Часть 1'!$T$10,3,IF('Часть 1'!N36='Часть 1'!$T$11,2,IF('Часть 1'!N36='Часть 1'!$T$12,1,0))))","v":0},null,28,{"$f":"IF('Часть 1'!N36='Часть 1'!$T$9,4,IF('Часть 1'!N36='Часть 1'!$T$10,3,IF('Часть 1'!N36='Часть 1'!$T$11,2,IF('Часть 1'!N36='Часть 1'!$T$12,1,0))))","v":0},null,28,{"$f":"IF('Часть 1'!N36='Часть 1'!$T$9,4,IF('Часть 1'!N36='Часть 1'!$T$10,3,IF('Часть 1'!N36='Часть 1'!$T$11,2,IF('Часть 1'!N36='Часть 1'!$T$12,1,0))))","v":0},null,28,{"$f":"IF('Часть 1'!N36='Часть 1'!$T$9,4,IF('Часть 1'!N36='Часть 1'!$T$10,3,IF('Часть 1'!N36='Часть 1'!$T$11,2,IF('Часть 1'!N36='Часть 1'!$T$12,1,0))))","v":0},null,null,28,{"$f":"IF('Часть 1'!N36='Часть 1'!$T$9,4,IF('Часть 1'!N36='Часть 1'!$T$10,3,IF('Часть 1'!N36='Часть 1'!$T$11,2,IF('Часть 1'!N36='Часть 1'!$T$12,1,0))))","v":0},null,28,{"$f":"IF('Часть 1'!N36='Часть 1'!$T$9,4,IF('Часть 1'!N36='Часть 1'!$T$10,3,IF('Часть 1'!N36='Часть 1'!$T$11,2,IF('Часть 1'!N36='Часть 1'!$T$12,1,0))))","v":0},null,28,{"$f":"IF('Часть 1'!N36='Часть 1'!$T$9,4,IF('Часть 1'!N36='Часть 1'!$T$10,3,IF('Часть 1'!N36='Часть 1'!$T$11,2,IF('Часть 1'!N36='Часть 1'!$T$12,1,0))))","v":0}]
[23,{"$f":"IF('Часть 1'!N31='Часть 1'!$T$9,4,IF('Часть 1'!N31='Часть 1'!$T$10,3,IF('Часть 1'!N31='Часть 1'!$T$11,2,IF('Часть 1'!N31='Часть 1'!$T$12,1,0))))","v":0},null,null,null,null,29,{"$f":"IF('Часть 1'!N37='Часть 1'!$T$9,4,IF('Часть 1'!N37='Часть 1'!$T$10,3,IF('Часть 1'!N37='Часть 1'!$T$11,2,IF('Часть 1'!N37='Часть 1'!$T$12,1,0))))","v":0},null,29,{"$f":"IF('Часть 1'!N37='Часть 1'!$T$9,4,IF('Часть 1'!N37='Часть 1'!$T$10,3,IF('Часть 1'!N37='Часть 1'!$T$11,2,IF('Часть 1'!N37='Часть 1'!$T$12,1,0))))","v":0},null,29,{"$f":"IF('Часть 1'!N37='Часть 1'!$T$9,4,IF('Часть 1'!N37='Часть 1'!$T$10,3,IF('Часть 1'!N37='Часть 1'!$T$11,2,IF('Часть 1'!N37='Часть 1'!$T$12,1,0))))","v":0},null,29,{"$f":"IF('Часть 1'!N37='Часть 1'!$T$9,4,IF('Часть 1'!N37='Часть 1'!$T$10,3,IF('Часть 1'!N37='Часть 1'!$T$11,2,IF('Часть 1'!N37='Часть 1'!$T$12,1,0))))","v":0},null,null,29,{"$f":"IF('Часть 1'!N37='Часть 1'!$T$9,4,IF('Часть 1'!N37='Часть 1'!$T$10,3,IF('Часть 1'!N37='Часть 1'!$T$11,2,IF('Часть 1'!N37='Часть 1'!$T$12,1,0))))","v":0},null,29,{"$f":"IF('Часть 1'!N37='Часть 1'!$T$9,4,IF('Часть 1'!N37='Часть 1'!$T$10,3,IF('Часть 1'!N37='Часть 1'!$T$11,2,IF('Часть 1'!N37='Часть 1'!$T$12,1,0))))","v":0},null,29,{"$f":"IF('Часть 1'!N37='Часть 1'!$T$9,4,IF('Часть 1'!N37='Часть 1'!$T$10,3,IF('Часть 1'!N37='Часть 1'!$T$11,2,IF('Часть 1'!N37='Часть 1'!$T$12,1,0))))","v":0}]
[24,{"$f":"IF('Часть 1'!N32='Часть 1'!$T$9,4,IF('Часть 1'!N32='Часть 1'!$T$10,3,IF('Часть 1'!N32='Часть 1'!$T$11,2,IF('Часть 1'!N32='Часть 1'!$T$12,1,0))))","v":0},null,null,null,null,30,{"$f":"IF('Часть 1'!N38='Часть 1'!$T$9,1,IF('Часть 1'!N38='Часть 1'!$T$10,0,IF('Часть 1'!N38='Часть 1'!$T$11,0,IF('Часть 1'!N38='Часть 1'!$T$12,1,0))))","v":0},null,30,{"$f":"IF('Часть 1'!N38='Часть 1'!$T$9,4,IF('Часть 1'!N38='Часть 1'!$T$10,3,IF('Часть 1'!N38='Часть 1'!$T$11,2,IF('Часть 1'!N38='Часть 1'!$T$12,1,0))))","v":0},null,30,{"$f":"IF('Часть 1'!N38='Часть 1'!$T$9,4,IF('Часть 1'!N38='Часть 1'!$T$10,3,IF('Часть 1'!N38='Часть 1'!$T$11,2,IF('Часть 1'!N38='Часть 1'!$T$12,1,0))))","v":0},null,30,{"$f":"IF('Часть 1'!N38='Часть 1'!$T$9,4,IF('Часть 1'!N38='Часть 1'!$T$10,3,IF('Часть 1'!N38='Часть 1'!$T$11,2,IF('Часть 1'!N38='Часть 1'!$T$12,1,0))))","v":0},null,null,30,{"$f":"IF('Часть 1'!N38='Часть 1'!$T$9,4,IF('Часть 1'!N38='Часть 1'!$T$10,3,IF('Часть 1'!N38='Часть 1'!$T$11,2,IF('Часть 1'!N38='Часть 1'!$T$12,1,0))))","v":0},null,30,{"$f":"IF('Часть 1'!N38='Часть 1'!$T$9,4,IF('Часть 1'!N38='Часть 1'!$T$10,3,IF('Часть 1'!N38='Часть 1'!$T$11,2,IF('Часть 1'!N38='Часть 1'!$T$12,1,0))))","v":0},null,30,{"$f":"IF('Часть 1'!N38='Часть 1'!$T$9,4,IF('Часть 1'!N38='Часть 1'!$T$10,3,IF('Часть 1'!N38='Часть 1'!$T$11,2,IF('Часть 1'!N38='Часть 1'!$T$12,1,0))))","v":0}]
[25,{"$f":"IF('Часть 1'!N33='Часть 1'!$T$9,4,IF('Часть 1'!N33='Часть 1'!$T$10,3,IF('Часть 1'!N33='Часть 1'!$T$11,2,IF('Часть 1'!N33='Часть 1'!$T$12,1,0))))","v":0},null,null,null,null,31,{"$f":"IF('Часть 1'!N39='Часть 1'!$T$9,4,IF('Часть 1'!N39='Часть 1'!$T$10,3,IF('Часть 1'!N39='Часть 1'!$T$11,2,IF('Часть 1'!N39='Часть 1'!$T$12,1,0))))","v":0},null,31,{"$f":"IF('Часть 1'!N39='Часть 1'!$T$9,4,IF('Часть 1'!N39='Часть 1'!$T$10,3,IF('Часть 1'!N39='Часть 1'!$T$11,2,IF('Часть 1'!N39='Часть 1'!$T$12,1,0))))","v":0},null,31,{"$f":"IF('Часть 1'!N39='Часть 1'!$T$9,4,IF('Часть 1'!N39='Часть 1'!$T$10,3,IF('Часть 1'!N39='Часть 1'!$T$11,2,IF('Часть 1'!N39='Часть 1'!$T$12,1,0))))","v":0},null,31,{"$f":"IF('Часть 1'!N39='Часть 1'!$T$9,4,IF('Часть 1'!N39='Часть 1'!$T$10,3,IF('Часть 1'!N39='Часть 1'!$T$11,2,IF('Часть 1'!N39='Часть 1'!$T$12,1,0))))","v":0},null,null,31,{"$f":"IF('Часть 1'!N39='Часть 1'!$T$9,4,IF('Часть 1'!N39='Часть 1'!$T$10,3,IF('Часть 1'!N39='Часть 1'!$T$11,2,IF('Часть 1'!N39='Часть 1'!$T$12,1,0))))","v":0},null,31,{"$f":"IF('Часть 1'!N39='Часть 1'!$T$9,4,IF('Часть 1'!N39='Часть 1'!$T$10,3,IF('Часть 1'!N39='Часть 1'!$T$11,2,IF('Часть 1'!N39='Часть 1'!$T$12,1,0))))","v":0},null,31,{"$f":"IF('Часть 1'!N39='Часть 1'!$T$9,4,IF('Часть 1'!N39='Часть 1'!$T$10,3,IF('Часть 1'!N39='Часть 1'!$T$11,2,IF('Часть 1'!N39='Часть 1'!$T$12,1,0))))","v":0}]
[26,{"$f":"IF('Часть 1'!N34='Часть 1'!$T$9,4,IF('Часть 1'!N34='Часть 1'!$T$10,3,IF('Часть 1'!N34='Часть 1'!$T$11,2,IF('Часть 1'!N34='Часть 1'!$T$12,1,0))))","v":0},null,null,null,null,32,{"$f":"IF('Часть 1'!N40='Часть 1'!$T$9,4,IF('Часть 1'!N40='Часть 1'!$T$10,3,IF('Часть 1'!N40='Часть 1'!$T$11,2,IF('Часть 1'!N40='Часть 1'!$T$12,1,0))))","v":0},null,32,{"$f":"IF('Часть 1'!N40='Часть 1'!$T$9,4,IF('Часть 1'!N40='Часть 1'!$T$10,3,IF('Часть 1'!N40='Часть 1'!$T$11,2,IF('Часть 1'!N40='Часть 1'!$T$12,1,0))))","v":0},null,32,{"$f":"IF('Часть 1'!N40='Часть 1'!$T$9,4,IF('Часть 1'!N40='Часть 1'!$T$10,3,IF('Часть 1'!N40='Часть 1'!$T$11,2,IF('Часть 1'!N40='Часть 1'!$T$12,1,0))))","v":0},null,32,{"$f":"IF('Часть 1'!N40='Часть 1'!$T$9,4,IF('Часть 1'!N40='Часть 1'!$T$10,3,IF('Часть 1'!N40='Часть 1'!$T$11,2,IF('Часть 1'!N40='Часть 1'!$T$12,1,0))))","v":0},null,null,32,{"$f":"IF('Часть 1'!N40='Часть 1'!$T$9,4,IF('Часть 1'!N40='Часть 1'!$T$10,3,IF('Часть 1'!N40='Часть 1'!$T$11,2,IF('Часть 1'!N40='Часть 1'!$T$12,1,0))))","v":0},null,32,{"$f":"IF('Часть 1'!N40='Часть 1'!$T$9,4,IF('Часть 1'!N40='Часть 1'!$T$10,3,IF('Часть 1'!N40='Часть 1'!$T$11,2,IF('Часть 1'!N40='Часть 1'!$T$12,1,0))))","v":0},null,32,{"$f":"IF('Часть 1'!N40='Часть 1'!$T$9,4,IF('Часть 1'!N40='Часть 1'!$T$10,3,IF('Часть 1'!N40='Часть 1'!$T$11,2,IF('Часть 1'!N40='Часть 1'!$T$12,1,0))))","v":0}]
[27,{"$f":"IF('Часть 1'!N35='Часть 1'!$T$9,4,IF('Часть 1'!N35='Часть 1'!$T$10,3,IF('Часть 1'!N35='Часть 1'!$T$11,2,IF('Часть 1'!N35='Часть 1'!$T$12,1,0))))","v":0},null,null,null,null,33,{"$f":"IF('Часть 1'!N41='Часть 1'!$T$9,4,IF('Часть 1'!N41='Часть 1'!$T$10,3,IF('Часть 1'!N41='Часть 1'!$T$11,2,IF('Часть 1'!N41='Часть 1'!$T$12,1,0))))","v":0},null,33,{"$f":"IF('Часть 1'!N41='Часть 1'!$T$9,4,IF('Часть 1'!N41='Часть 1'!$T$10,3,IF('Часть 1'!N41='Часть 1'!$T$11,2,IF('Часть 1'!N41='Часть 1'!$T$12,1,0))))","v":0},null,33,{"$f":"IF('Часть 1'!N41='Часть 1'!$T$9,4,IF('Часть 1'!N41='Часть 1'!$T$10,3,IF('Часть 1'!N41='Часть 1'!$T$11,2,IF('Часть 1'!N41='Часть 1'!$T$12,1,0))))","v":0},null,33,{"$f":"IF('Часть 1'!N41='Часть 1'!$T$9,4,IF('Часть 1'!N41='Часть 1'!$T$10,3,IF('Часть 1'!N41='Часть 1'!$T$11,2,IF('Часть 1'!N41='Часть 1'!$T$12,1,0))))","v":0},null,null,33,{"$f":"IF('Часть 1'!N41='Часть 1'!$T$9,4,IF('Часть 1'!N41='Часть 1'!$T$10,3,IF('Часть 1'!N41='Часть 1'!$T$11,2,IF('Часть 1'!N41='Часть 1'!$T$12,1,0))))","v":0},null,33,{"$f":"IF('Часть 1'!N41='Часть 1'!$T$9,4,IF('Часть 1'!N41='Часть 1'!$T$10,3,IF('Часть 1'!N41='Часть 1'!$T$11,2,IF('Часть 1'!N41='Часть 1'!$T$12,1,0))))","v":0},null,33,{"$f":"IF('Часть 1'!N41='Часть 1'!$T$9,4,IF('Часть 1'!N41='Часть 1'!$T$10,3,IF('Часть 1'!N41='Часть 1'!$T$11,2,IF('Часть 1'!N41='Часть 1'!$T$12,1,0))))","v":0}]
[28,{"$f":"IF('Часть 1'!N36='Часть 1'!$T$9,4,IF('Часть 1'!N36='Часть 1'!$T$10,3,IF('Часть 1'!N36='Часть 1'!$T$11,2,IF('Часть 1'!N36='Часть 1'!$T$12,1,0))))","v":0},null,null,null,null,34,{"$f":"IF('Часть 1'!N42='Часть 1'!$T$9,4,IF('Часть 1'!N42='Часть 1'!$T$10,3,IF('Часть 1'!N42='Часть 1'!$T$11,2,IF('Часть 1'!N42='Часть 1'!$T$12,1,0))))","v":0},null,34,{"$f":"IF('Часть 1'!N42='Часть 1'!$T$9,4,IF('Часть 1'!N42='Часть 1'!$T$10,3,IF('Часть 1'!N42='Часть 1'!$T$11,2,IF('Часть 1'!N42='Часть 1'!$T$12,1,0))))","v":0},null,34,{"$f":"IF('Часть 1'!N42='Часть 1'!$T$9,4,IF('Часть 1'!N42='Часть 1'!$T$10,3,IF('Часть 1'!N42='Часть 1'!$T$11,2,IF('Часть 1'!N42='Часть 1'!$T$12,1,0))))","v":0},null,34,{"$f":"IF('Часть 1'!N42='Часть 1'!$T$9,4,IF('Часть 1'!N42='Часть 1'!$T$10,3,IF('Часть 1'!N42='Часть 1'!$T$11,2,IF('Часть 1'!N42='Часть 1'!$T$12,1,0))))","v":0},null,null,34,{"$f":"IF('Часть 1'!N42='Часть 1'!$T$9,4,IF('Часть 1'!N42='Часть 1'!$T$10,3,IF('Часть 1'!N42='Часть 1'!$T$11,2,IF('Часть 1'!N42='Часть 1'!$T$12,1,0))))","v":0},null,34,{"$f":"IF('Часть 1'!N42='Часть 1'!$T$9,4,IF('Часть 1'!N42='Часть 1'!$T$10,3,IF('Часть 1'!N42='Часть 1'!$T$11,2,IF('Часть 1'!N42='Часть 1'!$T$12,1,0))))","v":0},null,34,{"$f":"IF('Часть 1'!N42='Часть 1'!$T$9,4,IF('Часть 1'!N42='Часть 1'!$T$10,3,IF('Часть 1'!N42='Часть 1'!$T$11,2,IF('Часть 1'!N42='Часть 1'!$T$12,1,0))))","v":0}]
[29,{"$f":"IF('Часть 1'!N37='Часть 1'!$T$9,4,IF('Часть 1'!N37='Часть 1'!$T$10,3,IF('Часть 1'!N37='Часть 1'!$T$11,2,IF('Часть 1'!N37='Часть 1'!$T$12,1,0))))","v":0},null,null,null,null,35,{"$f":"IF('Часть 1'!N43='Часть 1'!$T$9,4,IF('Часть 1'!N43='Часть 1'!$T$10,3,IF('Часть 1'!N43='Часть 1'!$T$11,2,IF('Часть 1'!N43='Часть 1'!$T$12,1,0))))","v":0},null,35,{"$f":"IF('Часть 1'!N43='Часть 1'!$T$9,4,IF('Часть 1'!N43='Часть 1'!$T$10,3,IF('Часть 1'!N43='Часть 1'!$T$11,2,IF('Часть 1'!N43='Часть 1'!$T$12,1,0))))","v":0},null,35,{"$f":"IF('Часть 1'!N43='Часть 1'!$T$9,4,IF('Часть 1'!N43='Часть 1'!$T$10,3,IF('Часть 1'!N43='Часть 1'!$T$11,2,IF('Часть 1'!N43='Часть 1'!$T$12,1,0))))","v":0},null,35,{"$f":"IF('Часть 1'!N43='Часть 1'!$T$9,4,IF('Часть 1'!N43='Часть 1'!$T$10,3,IF('Часть 1'!N43='Часть 1'!$T$11,2,IF('Часть 1'!N43='Часть 1'!$T$12,1,0))))","v":0},null,null,35,{"$f":"IF('Часть 1'!N43='Часть 1'!$T$9,4,IF('Часть 1'!N43='Часть 1'!$T$10,3,IF('Часть 1'!N43='Часть 1'!$T$11,2,IF('Часть 1'!N43='Часть 1'!$T$12,1,0))))","v":0},null,35,{"$f":"IF('Часть 1'!N43='Часть 1'!$T$9,4,IF('Часть 1'!N43='Часть 1'!$T$10,3,IF('Часть 1'!N43='Часть 1'!$T$11,2,IF('Часть 1'!N43='Часть 1'!$T$12,1,0))))","v":0},null,35,{"$f":"IF('Часть 1'!N43='Часть 1'!$T$9,4,IF('Часть 1'!N43='Часть 1'!$T$10,3,IF('Часть 1'!N43='Часть 1'!$T$11,2,IF('Часть 1'!N43='Часть 1'!$T$12,1,0))))","v":0}]
[30,{"$f":"IF('Часть 1'!N38='Часть 1'!$T$9,4,IF('Часть 1'!N38='Часть 1'!$T$10,3,IF('Часть 1'!N38='Часть 1'!$T$11,2,IF('Часть 1'!N38='Часть 1'!$T$12,1,0))))","v":0},null,null,null,null,36,{"$f":"IF('Часть 1'!N44='Часть 1'!$T$9,1,IF('Часть 1'!N44='Часть 1'!$T$10,0,IF('Часть 1'!N44='Часть 1'!$T$11,0,IF('Часть 1'!N44='Часть 1'!$T$12,1,0))))","v":0},null,36,{"$f":"IF('Часть 1'!N44='Часть 1'!$T$9,4,IF('Часть 1'!N44='Часть 1'!$T$10,3,IF('Часть 1'!N44='Часть 1'!$T$11,2,IF('Часть 1'!N44='Часть 1'!$T$12,1,0))))","v":0},null,36,{"$f":"IF('Часть 1'!N44='Часть 1'!$T$9,4,IF('Часть 1'!N44='Часть 1'!$T$10,3,IF('Часть 1'!N44='Часть 1'!$T$11,2,IF('Часть 1'!N44='Часть 1'!$T$12,1,0))))","v":0},null,36,{"$f":"IF('Часть 1'!N44='Часть 1'!$T$9,4,IF('Часть 1'!N44='Часть 1'!$T$10,3,IF('Часть 1'!N44='Часть 1'!$T$11,2,IF('Часть 1'!N44='Часть 1'!$T$12,1,0))))","v":0},null,null,36,{"$f":"IF('Часть 1'!N44='Часть 1'!$T$9,4,IF('Часть 1'!N44='Часть 1'!$T$10,3,IF('Часть 1'!N44='Часть 1'!$T$11,2,IF('Часть 1'!N44='Часть 1'!$T$12,1,0))))","v":0},null,36,{"$f":"IF('Часть 1'!N44='Часть 1'!$T$9,4,IF('Часть 1'!N44='Часть 1'!$T$10,3,IF('Часть 1'!N44='Часть 1'!$T$11,2,IF('Часть 1'!N44='Часть 1'!$T$12,1,0))))","v":0},null,36,{"$f":"IF('Часть 1'!N44='Часть 1'!$T$9,4,IF('Часть 1'!N44='Часть 1'!$T$10,3,IF('Часть 1'!N44='Часть 1'!$T$11,2,IF('Часть 1'!N44='Часть 1'!$T$12,1,0))))","v":0}]
[31,{"$f":"IF('Часть 1'!N39='Часть 1'!$T$9,4,IF('Часть 1'!N39='Часть 1'!$T$10,3,IF('Часть 1'!N39='Часть 1'!$T$11,2,IF('Часть 1'!N39='Часть 1'!$T$12,1,0))))","v":0},null,null,null,null,37,{"$f":"IF('Часть 1'!N45='Часть 1'!$T$9,4,IF('Часть 1'!N45='Часть 1'!$T$10,3,IF('Часть 1'!N45='Часть 1'!$T$11,2,IF('Часть 1'!N45='Часть 1'!$T$12,1,0))))","v":0},null,37,{"$f":"IF('Часть 1'!N45='Часть 1'!$T$9,4,IF('Часть 1'!N45='Часть 1'!$T$10,3,IF('Часть 1'!N45='Часть 1'!$T$11,2,IF('Часть 1'!N45='Часть 1'!$T$12,1,0))))","v":0},null,37,{"$f":"IF('Часть 1'!N45='Часть 1'!$T$9,4,IF('Часть 1'!N45='Часть 1'!$T$10,3,IF('Часть 1'!N45='Часть 1'!$T$11,2,IF('Часть 1'!N45='Часть 1'!$T$12,1,0))))","v":0},null,37,{"$f":"IF('Часть 1'!N45='Часть 1'!$T$9,4,IF('Часть 1'!N45='Часть 1'!$T$10,3,IF('Часть 1'!N45='Часть 1'!$T$11,2,IF('Часть 1'!N45='Часть 1'!$T$12,1,0))))","v":0},null,null,37,{"$f":"IF('Часть 1'!N45='Часть 1'!$T$9,4,IF('Часть 1'!N45='Часть 1'!$T$10,3,IF('Часть 1'!N45='Часть 1'!$T$11,2,IF('Часть 1'!N45='Часть 1'!$T$12,1,0))))","v":0},null,37,{"$f":"IF('Часть 1'!N45='Часть 1'!$T$9,4,IF('Часть 1'!N45='Часть 1'!$T$10,3,IF('Часть 1'!N45='Часть 1'!$T$11,2,IF('Часть 1'!N45='Часть 1'!$T$12,1,0))))","v":0},null,37,{"$f":"IF('Часть 1'!N45='Часть 1'!$T$9,4,IF('Часть 1'!N45='Часть 1'!$T$10,3,IF('Часть 1'!N45='Часть 1'!$T$11,2,IF('Часть 1'!N45='Часть 1'!$T$12,1,0))))","v":0}]
[32,{"$f":"IF('Часть 1'!N40='Часть 1'!$T$9,4,IF('Часть 1'!N40='Часть 1'!$T$10,3,IF('Часть 1'!N40='Часть 1'!$T$11,2,IF('Часть 1'!N40='Часть 1'!$T$12,1,0))))","v":0},null,null,null,null,38,{"$f":"IF('Часть 1'!N46='Часть 1'!$T$9,4,IF('Часть 1'!N46='Часть 1'!$T$10,3,IF('Часть 1'!N46='Часть 1'!$T$11,2,IF('Часть 1'!N46='Часть 1'!$T$12,1,0))))","v":0},null,38,{"$f":"IF('Часть 1'!N46='Часть 1'!$T$9,4,IF('Часть 1'!N46='Часть 1'!$T$10,3,IF('Часть 1'!N46='Часть 1'!$T$11,2,IF('Часть 1'!N46='Часть 1'!$T$12,1,0))))","v":0},null,38,{"$f":"IF('Часть 1'!N46='Часть 1'!$T$9,4,IF('Часть 1'!N46='Часть 1'!$T$10,3,IF('Часть 1'!N46='Часть 1'!$T$11,2,IF('Часть 1'!N46='Часть 1'!$T$12,1,0))))","v":0},null,38,{"$f":"IF('Часть 1'!N46='Часть 1'!$T$9,4,IF('Часть 1'!N46='Часть 1'!$T$10,3,IF('Часть 1'!N46='Часть 1'!$T$11,2,IF('Часть 1'!N46='Часть 1'!$T$12,1,0))))","v":0},null,null,38,{"$f":"IF('Часть 1'!N46='Часть 1'!$T$9,4,IF('Часть 1'!N46='Часть 1'!$T$10,3,IF('Часть 1'!N46='Часть 1'!$T$11,2,IF('Часть 1'!N46='Часть 1'!$T$12,1,0))))","v":0},null,38,{"$f":"IF('Часть 1'!N46='Часть 1'!$T$9,4,IF('Часть 1'!N46='Часть 1'!$T$10,3,IF('Часть 1'!N46='Часть 1'!$T$11,2,IF('Часть 1'!N46='Часть 1'!$T$12,1,0))))","v":0},null,38,{"$f":"IF('Часть 1'!N46='Часть 1'!$T$9,4,IF('Часть 1'!N46='Часть 1'!$T$10,3,IF('Часть 1'!N46='Часть 1'!$T$11,2,IF('Часть 1'!N46='Часть 1'!$T$12,1,0))))","v":0}]
[33,{"$f":"IF('Часть 1'!N41='Часть 1'!$T$9,4,IF('Часть 1'!N41='Часть 1'!$T$10,3,IF('Часть 1'!N41='Часть 1'!$T$11,2,IF('Часть 1'!N41='Часть 1'!$T$12,1,0))))","v":0},null,null,null,null,39,{"$f":"IF('Часть 1'!N47='Часть 1'!$T$9,4,IF('Часть 1'!N47='Часть 1'!$T$10,3,IF('Часть 1'!N47='Часть 1'!$T$11,2,IF('Часть 1'!N47='Часть 1'!$T$12,1,0))))","v":0},null,39,{"$f":"IF('Часть 1'!N47='Часть 1'!$T$9,4,IF('Часть 1'!N47='Часть 1'!$T$10,3,IF('Часть 1'!N47='Часть 1'!$T$11,2,IF('Часть 1'!N47='Часть 1'!$T$12,1,0))))","v":0},null,39,{"$f":"IF('Часть 1'!N47='Часть 1'!$T$9,4,IF('Часть 1'!N47='Часть 1'!$T$10,3,IF('Часть 1'!N47='Часть 1'!$T$11,2,IF('Часть 1'!N47='Часть 1'!$T$12,1,0))))","v":0},null,39,{"$f":"IF('Часть 1'!N47='Часть 1'!$T$9,4,IF('Часть 1'!N47='Часть 1'!$T$10,3,IF('Часть 1'!N47='Часть 1'!$T$11,2,IF('Часть 1'!N47='Часть 1'!$T$12,1,0))))","v":0},null,null,39,{"$f":"IF('Часть 1'!N47='Часть 1'!$T$9,4,IF('Часть 1'!N47='Часть 1'!$T$10,3,IF('Часть 1'!N47='Часть 1'!$T$11,2,IF('Часть 1'!N47='Часть 1'!$T$12,1,0))))","v":0},null,39,{"$f":"IF('Часть 1'!N47='Часть 1'!$T$9,4,IF('Часть 1'!N47='Часть 1'!$T$10,3,IF('Часть 1'!N47='Часть 1'!$T$11,2,IF('Часть 1'!N47='Часть 1'!$T$12,1,0))))","v":0},null,39,{"$f":"IF('Часть 1'!N47='Часть 1'!$T$9,4,IF('Часть 1'!N47='Часть 1'!$T$10,3,IF('Часть 1'!N47='Часть 1'!$T$11,2,IF('Часть 1'!N47='Часть 1'!$T$12,1,0))))","v":0}]
[34,{"$f":"IF('Часть 1'!N42='Часть 1'!$T$9,4,IF('Часть 1'!N42='Часть 1'!$T$10,3,IF('Часть 1'!N42='Часть 1'!$T$11,2,IF('Часть 1'!N42='Часть 1'!$T$12,1,0))))","v":0},null,null,null,null,40,{"$f":"IF('Часть 1'!N48='Часть 1'!$T$9,4,IF('Часть 1'!N48='Часть 1'!$T$10,3,IF('Часть 1'!N48='Часть 1'!$T$11,2,IF('Часть 1'!N48='Часть 1'!$T$12,1,0))))","v":0},null,40,{"$f":"IF('Часть 1'!N48='Часть 1'!$T$9,4,IF('Часть 1'!N48='Часть 1'!$T$10,3,IF('Часть 1'!N48='Часть 1'!$T$11,2,IF('Часть 1'!N48='Часть 1'!$T$12,1,0))))","v":0},null,40,{"$f":"IF('Часть 1'!N48='Часть 1'!$T$9,4,IF('Часть 1'!N48='Часть 1'!$T$10,3,IF('Часть 1'!N48='Часть 1'!$T$11,2,IF('Часть 1'!N48='Часть 1'!$T$12,1,0))))","v":0},null,40,{"$f":"IF('Часть 1'!N48='Часть 1'!$T$9,4,IF('Часть 1'!N48='Часть 1'!$T$10,3,IF('Часть 1'!N48='Часть 1'!$T$11,2,IF('Часть 1'!N48='Часть 1'!$T$12,1,0))))","v":0},null,null,40,{"$f":"IF('Часть 1'!N48='Часть 1'!$T$9,4,IF('Часть 1'!N48='Часть 1'!$T$10,3,IF('Часть 1'!N48='Часть 1'!$T$11,2,IF('Часть 1'!N48='Часть 1'!$T$12,1,0))))","v":0},null,40,{"$f":"IF('Часть 1'!N48='Часть 1'!$T$9,4,IF('Часть 1'!N48='Часть 1'!$T$10,3,IF('Часть 1'!N48='Часть 1'!$T$11,2,IF('Часть 1'!N48='Часть 1'!$T$12,1,0))))","v":0},null,40,{"$f":"IF('Часть 1'!N48='Часть 1'!$T$9,4,IF('Часть 1'!N48='Часть 1'!$T$10,3,IF('Часть 1'!N48='Часть 1'!$T$11,2,IF('Часть 1'!N48='Часть 1'!$T$12,1,0))))","v":0}]
[35,{"$f":"IF('Часть 1'!N43='Часть 1'!$T$9,4,IF('Часть 1'!N43='Часть 1'!$T$10,3,IF('Часть 1'!N43='Часть 1'!$T$11,2,IF('Часть 1'!N43='Часть 1'!$T$12,1,0))))","v":0},null,null,null,null,41,{"$f":"IF('Часть 1'!N49='Часть 1'!$T$9,4,IF('Часть 1'!N49='Часть 1'!$T$10,3,IF('Часть 1'!N49='Часть 1'!$T$11,2,IF('Часть 1'!N49='Часть 1'!$T$12,1,0))))","v":0},null,41,{"$f":"IF('Часть 1'!N49='Часть 1'!$T$9,4,IF('Часть 1'!N49='Часть 1'!$T$10,3,IF('Часть 1'!N49='Часть 1'!$T$11,2,IF('Часть 1'!N49='Часть 1'!$T$12,1,0))))","v":0},null,41,{"$f":"IF('Часть 1'!N49='Часть 1'!$T$9,4,IF('Часть 1'!N49='Часть 1'!$T$10,3,IF('Часть 1'!N49='Часть 1'!$T$11,2,IF('Часть 1'!N49='Часть 1'!$T$12,1,0))))","v":0},null,41,{"$f":"IF('Часть 1'!N49='Часть 1'!$T$9,4,IF('Часть 1'!N49='Часть 1'!$T$10,3,IF('Часть 1'!N49='Часть 1'!$T$11,2,IF('Часть 1'!N49='Часть 1'!$T$12,1,0))))","v":0},null,null,41,{"$f":"IF('Часть 1'!N49='Часть 1'!$T$9,4,IF('Часть 1'!N49='Часть 1'!$T$10,3,IF('Часть 1'!N49='Часть 1'!$T$11,2,IF('Часть 1'!N49='Часть 1'!$T$12,1,0))))","v":0},null,41,{"$f":"IF('Часть 1'!N49='Часть 1'!$T$9,4,IF('Часть 1'!N49='Часть 1'!$T$10,3,IF('Часть 1'!N49='Часть 1'!$T$11,2,IF('Часть 1'!N49='Часть 1'!$T$12,1,0))))","v":0},null,41,{"$f":"IF('Часть 1'!N49='Часть 1'!$T$9,4,IF('Часть 1'!N49='Часть 1'!$T$10,3,IF('Часть 1'!N49='Часть 1'!$T$11,2,IF('Часть 1'!N49='Часть 1'!$T$12,1,0))))","v":0}]
[36,{"$f":"IF('Часть 1'!N44='Часть 1'!$T$9,4,IF('Часть 1'!N44='Часть 1'!$T$10,3,IF('Часть 1'!N44='Часть 1'!$T$11,2,IF('Часть 1'!N44='Часть 1'!$T$12,1,0))))","v":0},null,null,null,null,42,{"$f":"IF('Часть 1'!N50='Часть 1'!$T$9,4,IF('Часть 1'!N50='Часть 1'!$T$10,3,IF('Часть 1'!N50='Часть 1'!$T$11,2,IF('Часть 1'!N50='Часть 1'!$T$12,1,0))))","v":0},null,42,{"$f":"IF('Часть 1'!N50='Часть 1'!$T$9,4,IF('Часть 1'!N50='Часть 1'!$T$10,3,IF('Часть 1'!N50='Часть 1'!$T$11,2,IF('Часть 1'!N50='Часть 1'!$T$12,1,0))))","v":0},null,42,{"$f":"IF('Часть 1'!N50='Часть 1'!$T$9,4,IF('Часть 1'!N50='Часть 1'!$T$10,3,IF('Часть 1'!N50='Часть 1'!$T$11,2,IF('Часть 1'!N50='Часть 1'!$T$12,1,0))))","v":0},null,42,{"$f":"IF('Часть 1'!N50='Часть 1'!$T$9,4,IF('Часть 1'!N50='Часть 1'!$T$10,3,IF('Часть 1'!N50='Часть 1'!$T$11,2,IF('Часть 1'!N50='Часть 1'!$T$12,1,0))))","v":0},null,null,42,{"$f":"IF('Часть 1'!N50='Часть 1'!$T$9,4,IF('Часть 1'!N50='Часть 1'!$T$10,3,IF('Часть 1'!N50='Часть 1'!$T$11,2,IF('Часть 1'!N50='Часть 1'!$T$12,1,0))))","v":0},null,42,{"$f":"IF('Часть 1'!N50='Часть 1'!$T$9,4,IF('Часть 1'!N50='Часть 1'!$T$10,3,IF('Часть 1'!N50='Часть 1'!$T$11,2,IF('Часть 1'!N50='Часть 1'!$T$12,1,0))))","v":0},null,42,{"$f":"IF('Часть 1'!N50='Часть 1'!$T$9,4,IF('Часть 1'!N50='Часть 1'!$T$10,3,IF('Часть 1'!N50='Часть 1'!$T$11,2,IF('Часть 1'!N50='Часть 1'!$T$12,1,0))))","v":0}]
[37,{"$f":"IF('Часть 1'!N45='Часть 1'!$T$9,4,IF('Часть 1'!N45='Часть 1'!$T$10,3,IF('Часть 1'!N45='Часть 1'!$T$11,2,IF('Часть 1'!N45='Часть 1'!$T$12,1,0))))","v":0},null,null,null,null,43,{"$f":"IF('Часть 1'!N51='Часть 1'!$T$9,4,IF('Часть 1'!N51='Часть 1'!$T$10,3,IF('Часть 1'!N51='Часть 1'!$T$11,2,IF('Часть 1'!N51='Часть 1'!$T$12,1,0))))","v":0},null,43,{"$f":"IF('Часть 1'!N51='Часть 1'!$T$9,4,IF('Часть 1'!N51='Часть 1'!$T$10,3,IF('Часть 1'!N51='Часть 1'!$T$11,2,IF('Часть 1'!N51='Часть 1'!$T$12,1,0))))","v":0},null,43,{"$f":"IF('Часть 1'!N51='Часть 1'!$T$9,4,IF('Часть 1'!N51='Часть 1'!$T$10,3,IF('Часть 1'!N51='Часть 1'!$T$11,2,IF('Часть 1'!N51='Часть 1'!$T$12,1,0))))","v":0},null,43,{"$f":"IF('Часть 1'!N51='Часть 1'!$T$9,4,IF('Часть 1'!N51='Часть 1'!$T$10,3,IF('Часть 1'!N51='Часть 1'!$T$11,2,IF('Часть 1'!N51='Часть 1'!$T$12,1,0))))","v":0},null,null,43,{"$f":"IF('Часть 1'!N51='Часть 1'!$T$9,4,IF('Часть 1'!N51='Часть 1'!$T$10,3,IF('Часть 1'!N51='Часть 1'!$T$11,2,IF('Часть 1'!N51='Часть 1'!$T$12,1,0))))","v":0},null,43,{"$f":"IF('Часть 1'!N51='Часть 1'!$T$9,4,IF('Часть 1'!N51='Часть 1'!$T$10,3,IF('Часть 1'!N51='Часть 1'!$T$11,2,IF('Часть 1'!N51='Часть 1'!$T$12,1,0))))","v":0},null,43,{"$f":"IF('Часть 1'!N51='Часть 1'!$T$9,4,IF('Часть 1'!N51='Часть 1'!$T$10,3,IF('Часть 1'!N51='Часть 1'!$T$11,2,IF('Часть 1'!N51='Часть 1'!$T$12,1,0))))","v":0}]
[38,{"$f":"IF('Часть 1'!N46='Часть 1'!$T$9,4,IF('Часть 1'!N46='Часть 1'!$T$10,3,IF('Часть 1'!N46='Часть 1'!$T$11,2,IF('Часть 1'!N46='Часть 1'!$T$12,1,0))))","v":0},null,null,null,null,44,{"$f":"IF('Часть 1'!N52='Часть 1'!$T$9,4,IF('Часть 1'!N52='Часть 1'!$T$10,3,IF('Часть 1'!N52='Часть 1'!$T$11,2,IF('Часть 1'!N52='Часть 1'!$T$12,1,0))))","v":0},null,44,{"$f":"IF('Часть 1'!N52='Часть 1'!$T$9,4,IF('Часть 1'!N52='Часть 1'!$T$10,3,IF('Часть 1'!N52='Часть 1'!$T$11,2,IF('Часть 1'!N52='Часть 1'!$T$12,1,0))))","v":0},null,44,{"$f":"IF('Часть 1'!N52='Часть 1'!$T$9,4,IF('Часть 1'!N52='Часть 1'!$T$10,3,IF('Часть 1'!N52='Часть 1'!$T$11,2,IF('Часть 1'!N52='Часть 1'!$T$12,1,0))))","v":0},null,44,{"$f":"IF('Часть 1'!N52='Часть 1'!$T$9,4,IF('Часть 1'!N52='Часть 1'!$T$10,3,IF('Часть 1'!N52='Часть 1'!$T$11,2,IF('Часть 1'!N52='Часть 1'!$T$12,1,0))))","v":0},null,null,44,{"$f":"IF('Часть 1'!N52='Часть 1'!$T$9,4,IF('Часть 1'!N52='Часть 1'!$T$10,3,IF('Часть 1'!N52='Часть 1'!$T$11,2,IF('Часть 1'!N52='Часть 1'!$T$12,1,0))))","v":0},null,44,{"$f":"IF('Часть 1'!N52='Часть 1'!$T$9,4,IF('Часть 1'!N52='Часть 1'!$T$10,3,IF('Часть 1'!N52='Часть 1'!$T$11,2,IF('Часть 1'!N52='Часть 1'!$T$12,1,0))))","v":0},null,44,{"$f":"IF('Часть 1'!N52='Часть 1'!$T$9,4,IF('Часть 1'!N52='Часть 1'!$T$10,3,IF('Часть 1'!N52='Часть 1'!$T$11,2,IF('Часть 1'!N52='Часть 1'!$T$12,1,0))))","v":0}]
[39,{"$f":"IF('Часть 1'!N47='Часть 1'!$T$9,4,IF('Часть 1'!N47='Часть 1'!$T$10,3,IF('Часть 1'!N47='Часть 1'!$T$11,2,IF('Часть 1'!N47='Часть 1'!$T$12,1,0))))","v":0},null,null,null,null,45,{"$f":"IF('Часть 1'!N53='Часть 1'!$T$9,4,IF('Часть 1'!N53='Часть 1'!$T$10,3,IF('Часть 1'!N53='Часть 1'!$T$11,2,IF('Часть 1'!N53='Часть 1'!$T$12,1,0))))","v":0},null,45,{"$f":"IF('Часть 1'!N53='Часть 1'!$T$9,4,IF('Часть 1'!N53='Часть 1'!$T$10,3,IF('Часть 1'!N53='Часть 1'!$T$11,2,IF('Часть 1'!N53='Часть 1'!$T$12,1,0))))","v":0},null,45,{"$f":"IF('Часть 1'!N53='Часть 1'!$T$9,4,IF('Часть 1'!N53='Часть 1'!$T$10,3,IF('Часть 1'!N53='Часть 1'!$T$11,2,IF('Часть 1'!N53='Часть 1'!$T$12,1,0))))","v":0},null,45,{"$f":"IF('Часть 1'!N53='Часть 1'!$T$9,4,IF('Часть 1'!N53='Часть 1'!$T$10,3,IF('Часть 1'!N53='Часть 1'!$T$11,2,IF('Часть 1'!N53='Часть 1'!$T$12,1,0))))","v":0},null,null,45,{"$f":"IF('Часть 1'!N53='Часть 1'!$T$9,4,IF('Часть 1'!N53='Часть 1'!$T$10,3,IF('Часть 1'!N53='Часть 1'!$T$11,2,IF('Часть 1'!N53='Часть 1'!$T$12,1,0))))","v":0},null,45,{"$f":"IF('Часть 1'!N53='Часть 1'!$T$9,4,IF('Часть 1'!N53='Часть 1'!$T$10,3,IF('Часть 1'!N53='Часть 1'!$T$11,2,IF('Часть 1'!N53='Часть 1'!$T$12,1,0))))","v":0},null,45,{"$f":"IF('Часть 1'!N53='Часть 1'!$T$9,4,IF('Часть 1'!N53='Часть 1'!$T$10,3,IF('Часть 1'!N53='Часть 1'!$T$11,2,IF('Часть 1'!N53='Часть 1'!$T$12,1,0))))","v":0}]
[40,{"$f":"IF('Часть 1'!N48='Часть 1'!$T$9,4,IF('Часть 1'!N48='Часть 1'!$T$10,3,IF('Часть 1'!N48='Часть 1'!$T$11,2,IF('Часть 1'!N48='Часть 1'!$T$12,1,0))))","v":0},null,null,null,null,46,{"$f":"IF('Часть 1'!N54='Часть 1'!$T$9,4,IF('Часть 1'!N54='Часть 1'!$T$10,3,IF('Часть 1'!N54='Часть 1'!$T$11,2,IF('Часть 1'!N54='Часть 1'!$T$12,1,0))))","v":0},null,46,{"$f":"IF('Часть 1'!N54='Часть 1'!$T$9,4,IF('Часть 1'!N54='Часть 1'!$T$10,3,IF('Часть 1'!N54='Часть 1'!$T$11,2,IF('Часть 1'!N54='Часть 1'!$T$12,1,0))))","v":0},null,46,{"$f":"IF('Часть 1'!N54='Часть 1'!$T$9,4,IF('Часть 1'!N54='Часть 1'!$T$10,3,IF('Часть 1'!N54='Часть 1'!$T$11,2,IF('Часть 1'!N54='Часть 1'!$T$12,1,0))))","v":0},null,46,{"$f":"IF('Часть 1'!N54='Часть 1'!$T$9,4,IF('Часть 1'!N54='Часть 1'!$T$10,3,IF('Часть 1'!N54='Часть 1'!$T$11,2,IF('Часть 1'!N54='Часть 1'!$T$12,1,0))))","v":0},null,null,46,{"$f":"IF('Часть 1'!N54='Часть 1'!$T$9,4,IF('Часть 1'!N54='Часть 1'!$T$10,3,IF('Часть 1'!N54='Часть 1'!$T$11,2,IF('Часть 1'!N54='Часть 1'!$T$12,1,0))))","v":0},null,46,{"$f":"IF('Часть 1'!N54='Часть 1'!$T$9,4,IF('Часть 1'!N54='Часть 1'!$T$10,3,IF('Часть 1'!N54='Часть 1'!$T$11,2,IF('Часть 1'!N54='Часть 1'!$T$12,1,0))))","v":0},null,46,{"$f":"IF('Часть 1'!N54='Часть 1'!$T$9,4,IF('Часть 1'!N54='Часть 1'!$T$10,3,IF('Часть 1'!N54='Часть 1'!$T$11,2,IF('Часть 1'!N54='Часть 1'!$T$12,1,0))))","v":0}]
[41,{"$f":"IF('Часть 1'!N49='Часть 1'!$T$9,4,IF('Часть 1'!N49='Часть 1'!$T$10,3,IF('Часть 1'!N49='Часть 1'!$T$11,2,IF('Часть 1'!N49='Часть 1'!$T$12,1,0))))","v":0}]
[42,{"$f":"IF('Часть 1'!N50='Часть 1'!$T$9,4,IF('Часть 1'!N50='Часть 1'!$T$10,3,IF('Часть 1'!N50='Часть 1'!$T$11,2,IF('Часть 1'!N50='Часть 1'!$T$12,1,0))))","v":0}]
[43,{"$f":"IF('Часть 1'!N51='Часть 1'!$T$9,4,IF('Часть 1'!N51='Часть 1'!$T$10,3,IF('Часть 1'!N51='Часть 1'!$T$11,2,IF('Часть 1'!N51='Часть 1'!$T$12,1,0))))","v":0}]
[44,{"$f":"IF('Часть 1'!N52='Часть 1'!$T$9,4,IF('Часть 1'!N52='Часть 1'!$T$10,3,IF('Часть 1'!N52='Часть 1'!$T$11,2,IF('Часть 1'!N52='Часть 1'!$T$12,1,0))))","v":0}]
[45,{"$f":"IF('Часть 1'!N53='Часть 1'!$T$9,4,IF('Часть 1'!N53='Часть 1'!$T$10,3,IF('Часть 1'!N53='Часть 1'!$T$11,2,IF('Часть 1'!N53='Часть 1'!$T$12,1,0))))","v":0}]
[46,{"$f":"IF('Часть 1'!N54='Часть 1'!$T$9,4,IF('Часть 1'!N54='Часть 1'!$T$10,3,IF('Часть 1'!N54='Часть 1'!$T$11,2,IF('Часть 1'!N54='Часть 1'!$T$12,1,0))))","v":0}]

{"sheet":"Результаты","index":3,"n_rows":40,"n_cols":8,"rows_kept":40,"cut":false,"hidden":false,"merged":[[10,0,10,4],[9,0,9,4],[0,0,0,8],[2,7,2,8],[2,1,2,5],[5,0,5,4],[6,0,6,4],[7,0,7,4],[8,0,8,4],[4,0,4,8],[19,0,19,8],[29,0,29,8],[17,0,17,4],[16,0,16,4],[21,0,22,4],[16,5,16,8],[17,5,17,8],[13,5,13,8],[14,5,14,8],[15,5,15,8],[39,5,39,8],[26,0,26,8],[27,0,27,8],[28,0,28,8],[24,0,24,8],[25,0,25,8],[35,0,35,8],[30,0,30,8],[31,0,31,8],[32,0,32,8],[33,0,33,8],[34,0,34,8],[18,0,18,8],[5,5,5,8],[21,5,22,8],[20,0,20,4],[20,5,20,8],[6,5,6,8],[7,5,7,8],[8,5,8,8],[9,5,9,8],[10,5,10,8],[14,0,14,4],[15,0,15,4],[11,0,11,4],[12,0,12,4],[13,0,13,4],[11,5,11,8],[12,5,12,8]]}
["Выделение вероятностных предикторов возможного вовлечения школьников в потребление наркотических средств"]
[]
["ФИО",{"$f":"PROPER('Часть 1'!D2)","v":""},null,null,null,null,"Дата",{"$f":"TODAY()","v":"2018-04-13"}]
[]
["Блок 1"]
["Шкала",null,null,null,null,"Баллы"]
["Шкала крайних ответов",null,null,null,null,{"$f":"'Обработка результатов'!I2","v":0}]
[{"$f":"'Обработка результатов'!J1","v":"Шкала случайных ответов"},null,null,null,null,{"$f":"'Обработка результатов'!L4","v":"Нет"}]
[{"$f":"'Обработка результатов'!M1","v":"Шкала социальной желательности"},null,null,null,null,{"$f":"'Обработка результатов'!O7","v":0}]
[{"$f":"'Обработка результатов'!P1","v":"Шкала склонности к зависимости"},null,null,null,null,{"$f":"'Обработка результатов'!R8","v":0}]
[{"$f":"'Обработка результатов'!T1","v":"Шкала антисоциальных тенденций"},null,null,null,null,{"$f":"'Обработка результатов'!V4","v":0}]
[{"$f":"'Обработка результатов'!W1","v":"Шкала возможностей произвольной регуляции"},null,null,null,null,{"$f":"'Обработка результатов'!Y7","v":0}]
[{"$f":"'Обработка результатов'!Z1","v":"Шкала контроля эмоций"},null,null,null,null,{"$f":"'Обработка результатов'!AB5","v":0}]
[{"$f":"'Обработка результатов'!AC1","v":"Шкала рискованного поведения"},null,null,null,null,{"$f":"'Обработка результатов'!AC2","v":0}]
[{"$f":"'Обработка результатов'!AE1","v":"Шкала поиска новизны"},null,null,null,null,{"$f":"'Обработка результатов'!AE5","v":0}]
[{"$f":"'Обработка результатов'!AH1","v":"Совладение - разрешение проблемы"},null,null,null,null,{"$f":"'Обработка результатов'!AH4","v":0}]
[{"$f":"'Обработка результатов'!AL1","v":"Совладение - поиск социальной поддержки"},null,null,null,null,{"$f":"'Обработка результатов'!AL6","v":0}]
[{"$f":"'Обработка результатов'!AJ1","v":"Совладение - избегание"},null,null,null,null,{"$f":"'Обработка результатов'!AJ5","v":0}]
[]
["Блок 2"]
["Оценка отношений с",null,null,null,null,{"$f":"'Часть 2'!L7","v":0}]
[{"$f":"'Обработка результатов'!AM1","v":"Шкала взаимопонимания в детско-родительских отношениях"},null,null,null,null,{"$f":"'Обработка результатов'!AM2","v":0}]
[]
[]
[]
[]
[]
[]
[]
[]
[]
[]
[]
[]
[]
[]
[]
[]
[]
[null,null,null,null,null,"http://eschool.by/psy"]

{"sheet":"Результаты с расшифровкой","index":4,"n_rows":46,"n_cols":8,"rows_kept":46,"cut":false,"hidden":true,"merged":[[6,0,13,8],[15,0,19,8],[38,0,44,8],[45,5,45,8],[21,0,27,8],[29,0,36,8],[37,0,37,4],[37,6,37,8],[14,0,14,4],[14,6,14,8],[20,0,20,4],[20,6,20,8],[28,0,28,4],[28,6,28,8],[5,0,5,4],[5,6,5,8],[0,0,0,8],[2,1,2,5],[2,7,2,8],[4,0,4,4],[4,6,4,8]]}
["Опросник родительского отношения"]
[]
["ФИО",{"$f":"PROPER('Часть 1'!D2)","v":""},null,null,null,null,"Дата",{"$f":"TODAY()","v":"2018-04-13"}]
[]
["Шкала",null,null,null,null,"Баллы","Уровень"]
["Принятие / отвержение ребенка:",null,null,null,null,{"$f":"CONCATENATE('Обработка результатов'!#REF!, \" / 33\")","v":{"$error":"#REF!"}},{"$f":"IF(AND('Обработка результатов'!#REF!>=0,'Обработка результатов'!#REF!<=8),\"Низкие баллы\",IF(AND('Обработка результатов'!#REF!>=9,'Обработка результатов'!#REF!<=23),\"Средние баллы\",IF(AND('Обработка результатов'!#REF!>=24,'Обработка результатов'!#REF!<=33),\"Высокие баллы\",)))","v":{"$error":"#REF!"}}]
["Высокие баллы по шкале принятие—отвержение — говорят о том, что у испытуемого выражено положительное отношение к ребенку. Взрослый принимает ребенка таким, какой он есть, уважает и признает его индивидуальность, одобряет его интересы, поддерживает планы, проводит с ним достаточно много времени и не жалеет об этом.\nНизкие баллы по этой шкале — говорят о том, что взрослый испытывает по отношению к ребенку в основном отрицательные чувства: раздражение, злость, досаду, ненависть. Такой взрослый считает ребенка неудачником, не верит в его будущее, низко оценивает его способности и нередко третирует ребенка. Понятно, что имеющий такие наклонности взрослый не может быть хорошим педагогом."]
[]
[]
[]
[]
[]
[]
[]
["Кооперация:",null,null,null,null,{"$f":"CONCATENATE('Обработка результатов'!H2,\" / 7\")","v":"0 / 7"},{"$f":"IF(AND('Обработка результатов'!H2>=0,'Обработка результатов'!H2<=2),\"Низкие баллы\",IF(AND('Обработка результатов'!H2>=3,'Обработка результатов'!H2<=5),\"Средние баллы\",IF(AND('Обработка результатов'!H2>=6,'Обработка результатов'!H2<=8),\"Высокие баллы\",)))","v":"Низкие баллы"}]
["Высокие баллы по шкале кооперация — признак того, что взрослый проявляет искренний интерес к тому, что интересует ребенка, высоко оценивает способности ребенка, поощряет самостоятельность и инициативу, старается быть на равных с ребенком.\nНизкие баллы по данной шкале — говорят о том, что взрослый занимает по отношению к ребенку противоположную позицию и не может претендовать на роль хорошего педагога;"]
[]
[]
[]
[]
["Симбиоз:",null,null,null,null,{"$f":"CONCATENATE('Обработка результатов'!H3,\" / 7\")","v":"0 / 7"},{"$f":"IF(AND('Обработка результатов'!H3>=0,'Обработка результатов'!H3<=2),\"Низкие баллы\",IF(AND('Обработка результатов'!H3>=3,'Обработка результатов'!H3<=5),\"Средние баллы\",IF(AND('Обработка результатов'!H3>=6,'Обработка результатов'!H3<=7),\"Высокие баллы\",)))","v":"Низкие баллы"}]
["Высокие баллы по шкале симбиоз — позволяют сделать вывод о том, что взрослый не устанавливает психологическую дистанцию между собой и ребенком, старается всегда быть ближе к нему, удовлетворять его основные разумные потребности.\nНизкие баллы по этой шкале — признак того, что взрослый, напротив, устанавливает значительную психологическую дистан­цию между собой и ребенком, мало о нем заботится. Вряд ли такой взрослый может быть хорошим учителем и воспитателем для ребенка."]
[]
[]
[]
[]
[]
[]
["Контроль:",null,null,null,null,{"$f":"CONCATENATE('Обработка результатов'!H4,\" / 7\")","v":"0 / 7"},{"$f":"IF(AND('Обработка результатов'!H4>=0,'Обработка результатов'!H4<=2),\"Низкие баллы\",IF(AND('Обработка результатов'!H4>=3,'Обработка результатов'!H4<=5),\"Средние баллы\",IF(AND('Обработка результатов'!H4>=6,'Обработка результатов'!H4<=7),\"Высокие баллы\",)))","v":"Низкие баллы"}]
["Высокие баллы по шкале контроль — показывают, что взрослый ведет себя слишком авторитарно по отношению к ребенку, требуя от него безоговорочного послушания и задавая строгие дисциплинарные рамки. Почти во всем он навязывает ребенку свою волю. Такой взрослый человек да­леко не всегда может быть хорошим воспитателем.\nНизкие баллы по этой шкале — напротив, свидетельствуют о том, что контроль над действиями ребенка со стороны взрослого практически отсутствует. Это не очень хорошо для обучения и воспитания детей. Наилучшим вариантом оценки педагогических способностей взрослого человека по этой шкале являются средние оценки: от 3 до 5 баллов."]
[]
[]
[]
[]
[]
[]
[]
["Отношение к неудачам ребенка:",null,null,null,null,{"$f":"CONCATENATE('Обработка результатов'!H5,\" / 7\")","v":"0 / 7"},{"$f":"IF(AND('Обработка результатов'!H5>=0,'Обработка результатов'!H5<=2),\"Низкие баллы\",IF(AND('Обработка результатов'!H5>=3,'Обработка результатов'!H5<=5),\"Средние баллы\",IF(AND('Обработка результатов'!H5>=6,'Обработка результатов'!H5<=7),\"Высокие баллы\",)))","v":"Низкие баллы"}]
["Высокие баллы по шкале отношение к неудачам ребенка — признак того, что взрослый считает ребенка маленьким неудачником и относится к нему как к несмышленому существу. Интересы, увлечения, мысли и чувства ребенка кажутся такому взрослому несерьёзными, и он игнорирует их. Вряд ли такой взрослый может стать хорошим учителем и воспитателем для ребенка. Низкие баллы по этой же шкале балла, напротив, свидетельствуют о том, что неудачи ребенка взрослый считает случайными и верит в него. Такой взрослый, скорее всего, станет неплохим учителем и воспитателем."]
[]
[]
[]
[]
[]
[]
[null,null,null,null,null,"http://eschool.by/psy"]